From mboxrd@z Thu Jan 1 00:00:00 1970 Return-Path: Received: from mails.dpdk.org (mails.dpdk.org [217.70.189.124]) by inbox.dpdk.org (Postfix) with ESMTP id 0327546A8F for ; Wed, 9 Jul 2025 03:08:58 +0200 (CEST) Received: from mails.dpdk.org (localhost [127.0.0.1]) by mails.dpdk.org (Postfix) with ESMTP id F2E834013F; Wed, 9 Jul 2025 03:08:57 +0200 (CEST) Received: from mail-qv1-f97.google.com (mail-qv1-f97.google.com [209.85.219.97]) by mails.dpdk.org (Postfix) with ESMTP id F364B4013F for ; Wed, 9 Jul 2025 03:08:55 +0200 (CEST) Received: by mail-qv1-f97.google.com with SMTP id 6a1803df08f44-6f8aa9e6ffdso49709826d6.3 for ; Tue, 08 Jul 2025 18:08:55 -0700 (PDT) DKIM-Signature: v=1; a=rsa-sha256; c=relaxed/relaxed; d=iol.unh.edu; s=unh-iol; t=1752023335; x=1752628135; darn=dpdk.org; h=references:in-reply-to:cc:to:from:subject:message-id:date:from:to :cc:subject:date:message-id:reply-to; bh=UN7nyaZi/WtjMnVBiYPAyo8VtPpwg8ElIid/QYix1Lc=; b=hhlDT0TFaN3y+6qyeY1nY5JknKg3/h0WWSJsSxOMe/lFka2vaXi2LonUgpO7QsyXgQ L3LtfhuabkY/IIlT9npwy+UzzTzr3Uc1xgyacPNWKP0OeqUVqrYFv4t3WUdQrBOyma/i sLYoIP6ioObZVFED1IamSbVLCuucY9rI5aXoY= X-Google-DKIM-Signature: v=1; a=rsa-sha256; c=relaxed/relaxed; d=1e100.net; s=20230601; t=1752023335; x=1752628135; h=references:in-reply-to:cc:to:from:subject:message-id:date :x-gm-message-state:from:to:cc:subject:date:message-id:reply-to; bh=UN7nyaZi/WtjMnVBiYPAyo8VtPpwg8ElIid/QYix1Lc=; b=ekhjBox6YKW229bFvKgpHsumg0xHcjLDwp8AUacDCVUYlknE2bTtK92BIIipI9ly5J DR7rJn7snGCxkTCoFd+JYTKKh4mv2TlTpHXzxJ41mEZQATOC8S/4hWGmlyk0RM0EXqQu 8oRkJJuQc5gY7hwXgB9hS8YAe2g5luUMzXdd6erR4xxu6VZr69pfJRee4mmr31AcSigK nba47Yv1siIbiGvkIJ2wR82MMUqt+dDgGq/rRJlTdklo6dS5YxAiXH5xUPssnUVyKSZl 8si9rWe4poLv+YDI8oI4XnFtYum3lzjj0c2Qj/ctgERsRWKaWIad5ts5VXMzaQLyFX4B xdRg== X-Gm-Message-State: AOJu0YzY2ZCcHkohyta6QdILwxrsuB6QP7Mh/9tmJPFhArtvwC4X/8BX 60mNz05/5T5DO1l7Aj45gNxUizbQL/PP086ry3PpDnI/IERWiGM0etLUiOgfy6enf75PC0LbqJY 4irFB3Z3bW1DzG06bN2ML8aQTXxCAT7GXpEPf0zJw1k7RzH7/Q4rq2LRzKmJR X-Gm-Gg: ASbGncu0rTy6OApn1fkJemJUloBAzp5cdPHnOXd+wYdXM4b9Yn26g5ElXHV/JK3Jbw7 NaXMx1kMluiRNk910XOozMQTZQ8kc4MZgDq9O9pFVA5EynBFLgpa7N0ak7QetyTNkLwWL4j6OW+ k64BnqDiB0e/BxJ6AgggzIgmqieJPSDovP4CvxUa+NTLQ5GvQAOAQ22hBDNbIN7++VSaKSxP53w Ud3QZQpam+Z2Ve62y6dhQvlv1GOgZEjtYfJ4ARWborjyaR8cv++LGGFgTsKJjA+DhCmEs+L+l8O 0W00ETpzzfgwctVieYVIE9e1EDA20SntSnJADzP4w6JrxYc= X-Google-Smtp-Source: AGHT+IHIkmq3G/VTpZk+kLaZvCdnOk/4DyavNM5aZnOGpFJk0bA8S/XlmjjxMFahkJSgiFO+VcBD5+PlGgXL X-Received: by 2002:a05:6214:5c44:b0:6fa:fdb3:588b with SMTP id 6a1803df08f44-7048b9d6619mr12223546d6.39.1752023335312; Tue, 08 Jul 2025 18:08:55 -0700 (PDT) Received: from postal.iol.unh.edu (postal.iol.unh.edu. [2606:4100:3880:1234::84]) by smtp-relay.gmail.com with ESMTPS id 6a1803df08f44-702c4cc50ffsm5791716d6.14.2025.07.08.18.08.55 (version=TLS1_2 cipher=ECDHE-ECDSA-AES128-GCM-SHA256 bits=128/128); Tue, 08 Jul 2025 18:08:55 -0700 (PDT) X-Relaying-Domain: iol.unh.edu Date: Tue, 08 Jul 2025 18:08:55 -0700 (PDT) Message-ID: <686dc127.d40a0220.87ab5.e643SMTPIN_ADDED_MISSING@mx.google.com> Received: from [172.21.0.5] (unknown [172.18.0.240]) by postal.iol.unh.edu (Postfix) with ESMTP id 0A0016051830; Tue, 8 Jul 2025 21:08:55 -0400 (EDT) Subject: |WARNING| pw154979-154986 [PATCH] [v7,8/8] bus/dpaa: optimize qman e From: dpdklab@iol.unh.edu To: Test Report Cc: dpdk-test-reports@iol.unh.edu In-Reply-To: <20250703052558.3700573-9-vanshika.shukla@nxp.com> References: <20250703052558.3700573-9-vanshika.shukla@nxp.com> Content-Type: text/plain X-BeenThere: test-report@dpdk.org X-Mailman-Version: 2.1.29 Precedence: list List-Id: automatic DPDK test reports List-Unsubscribe: , List-Archive: List-Post: List-Help: List-Subscribe: , Errors-To: test-report-bounces@dpdk.org Test-Label: iol-compile-amd64-testing Test-Status: WARNING http://dpdk.org/patch/154986 _Testing issues_ Submitter: Vanshika Shukla Date: Thursday, July 03 2025 05:25:58 DPDK git baseline: Repo:dpdk Branch: master CommitID:ba982f9a1ca9b96ed0394b764f1523d482e963a2 154979-154986 --> testing issues Upstream job id: Generic-DPDK-Compile-Meson#406851 Test environment and result as below: +-------------------------------+--------------------+-------------------+------------------+-------------------+ | Environment | dpdk_meson_compile | dpdk_compile_spdk | dpdk_compile_ovs | dpdk_msvc_compile | +===============================+====================+===================+==================+===================+ | CentOS Stream 9 | PASS | PASS | SKIPPED | SKIPPED | +-------------------------------+--------------------+-------------------+------------------+-------------------+ | Debian GNU/Linux 12 | PASS | PASS | SKIPPED | SKIPPED | +-------------------------------+--------------------+-------------------+------------------+-------------------+ | CentOS Stream 10 | PASS | SKIPPED | SKIPPED | SKIPPED | +-------------------------------+--------------------+-------------------+------------------+-------------------+ | Fedora Linux 40 | PASS | PASS | SKIPPED | SKIPPED | +-------------------------------+--------------------+-------------------+------------------+-------------------+ | Fedora Linux 41 | PASS | PASS | PASS | SKIPPED | +-------------------------------+--------------------+-------------------+------------------+-------------------+ | openSUSE Leap 15.6 | PEND | SKIPPED | SKIPPED | SKIPPED | +-------------------------------+--------------------+-------------------+------------------+-------------------+ | Ubuntu 24.04 | PASS | PASS | PASS | SKIPPED | +-------------------------------+--------------------+-------------------+------------------+-------------------+ | Ubuntu 22.04 | PASS | PASS | SKIPPED | SKIPPED | +-------------------------------+--------------------+-------------------+------------------+-------------------+ | Ubuntu 20.04 | PASS | SKIPPED | SKIPPED | SKIPPED | +-------------------------------+--------------------+-------------------+------------------+-------------------+ | FreeBSD 14.2 | PASS | SKIPPED | SKIPPED | SKIPPED | +-------------------------------+--------------------+-------------------+------------------+-------------------+ | Red Hat Enterprise Linux 9.5 | PASS | SKIPPED | SKIPPED | SKIPPED | +-------------------------------+--------------------+-------------------+------------------+-------------------+ | Alpine Linux 3.22.0 | PASS | SKIPPED | SKIPPED | SKIPPED | +-------------------------------+--------------------+-------------------+------------------+-------------------+ | Red Hat Enterprise Linux 8.10 | PASS | SKIPPED | SKIPPED | SKIPPED | +-------------------------------+--------------------+-------------------+------------------+-------------------+ | Windows Server 2022 | SKIPPED | SKIPPED | SKIPPED | PASS | +-------------------------------+--------------------+-------------------+------------------+-------------------+ CentOS Stream 9 Kernel: 5.15 Compiler: gcc gcc (GCC) 11.5.0 20240719 (Red Hat 11.5.0-7) Debian GNU/Linux 12 Kernel: 5.15 Compiler: gcc gcc (Debian 12.2.0-14+deb12u1) 12.2.0 CentOS Stream 10 Kernel: 5.15 Compiler: gcc gcc (GCC) 14.2.1 20250110 (Red Hat 14.2.1-8) Fedora Linux 40 Kernel: 5.15 Compiler: clang gcc (GCC) 14.2.1 20240912 (Red Hat 14.2.1-3) Fedora Linux 41 Kernel: 5.15 Compiler: clang gcc (GCC) 14.3.1 20250523 (Red Hat 14.3.1-1) openSUSE Leap 15.6 Kernel: 5.15 Compiler: gcc gcc (SUSE Linux) 7.5.0 Ubuntu 24.04 Kernel: 5.15 Compiler: gcc gcc (Ubuntu 13.3.0-6ubuntu2~24.04) 13.3.0 Ubuntu 22.04 Kernel: 5.15 Compiler: gcc gcc (Ubuntu 11.4.0-1ubuntu1~22.04) 11.4.0 Ubuntu 20.04 Kernel: 5.15 Compiler: gcc gcc (Ubuntu 9.4.0-1ubuntu1~20.04.2) 9.4.0 FreeBSD 14.2 Kernel: 14.2-RELEASE Compiler: clang 18.1.6 Red Hat Enterprise Linux 9.5 Kernel: 5.15 Compiler: gcc gcc (GCC) 11.5.0 20240719 (Red Hat 11.5.0-2) Alpine Linux 3.22.0 Kernel: 5.15 Compiler: gcc gcc (Alpine 14.2.0) 14.2.0 Red Hat Enterprise Linux 8.10 Kernel: 5.15 Compiler: gcc gcc (GCC) 8.5.0 20210514 (Red Hat 8.5.0-22) Windows Server 2022 Kernel: 10.0.20348.2031 Compiler: clang 15.0.7, gcc 14.1.0 (MinGW), and MSVC VS 19.39.33521 To view detailed results, visit: https://lab.dpdk.org/results/dashboard/patchsets/33576/ UNH-IOL DPDK Community Lab To manage your email subscriptions, visit: https://lab.dpdk.org/results/dashboard/preferences/subscriptions/