automatic DPDK test reports
 help / color / mirror / Atom feed
From: dpdklab@iol.unh.edu
To: Test Report <test-report@dpdk.org>
Cc: dpdk-test-reports@iol.unh.edu
Subject: |SUCCESS| pw154976 [PATCH] net/iavf: fix VLAN offload strip flag
Date: Tue, 08 Jul 2025 18:11:56 -0700 (PDT)	[thread overview]
Message-ID: <686dc1dc.050a0220.396275.3e5eSMTPIN_ADDED_MISSING@mx.google.com> (raw)
In-Reply-To: <20250702181506.95192-1-amiyaranjan.mohakud@gmail.com>

Test-Label: iol-compile-amd64-testing
Test-Status: SUCCESS
http://dpdk.org/patch/154976

_Testing PASS_

Submitter: Amiya Ranjan Mohakud <amiyaranjan.mohakud@gmail.com>
Date: Wednesday, July 02 2025 18:15:06 
DPDK git baseline: Repo:dpdk
  Branch: master
  CommitID:a6b10031d251fcc7dadede461f7e1d005024b139

154976 --> testing pass

Upstream job id: Windows-Compile-DPDK-VS#6304

Test environment and result as below:

+---------------------+--------------------+-------------------+
|     Environment     | dpdk_meson_compile | dpdk_msvc_compile |
+=====================+====================+===================+
| Ubuntu 20.04        | PASS               | SKIPPED           |
+---------------------+--------------------+-------------------+
| FreeBSD 14.2        | PASS               | SKIPPED           |
+---------------------+--------------------+-------------------+
| Windows Server 2022 | SKIPPED            | PASS              |
+---------------------+--------------------+-------------------+


Ubuntu 20.04
	Kernel: 4.19
	Compiler: gcc gcc (Ubuntu 9.4.0-1ubuntu1~20.04.2) 9.4.0

FreeBSD 14.2
	Kernel: 14.2-RELEASE
	Compiler: clang 18.1.6

Windows Server 2022
	Kernel: 10.0.20348.2031
	Compiler: clang 15.0.7, gcc 14.1.0 (MinGW), and MSVC VS 19.39.33521

To view detailed results, visit:
https://lab.dpdk.org/results/dashboard/patchsets/33573/

UNH-IOL DPDK Community Lab

To manage your email subscriptions, visit: 
https://lab.dpdk.org/results/dashboard/preferences/subscriptions/

  parent reply	other threads:[~2025-07-09  1:11 UTC|newest]

Thread overview: 26+ messages / expand[flat|nested]  mbox.gz  Atom feed  top
     [not found] <20250702181506.95192-1-amiyaranjan.mohakud@gmail.com>
2025-07-02 17:46 ` |WARNING| " qemudev
2025-07-02 18:15 ` |SUCCESS| " checkpatch
2025-07-08 23:05 ` dpdklab
2025-07-08 23:13 ` dpdklab
2025-07-08 23:26 ` dpdklab
2025-07-08 23:31 ` dpdklab
2025-07-08 23:37 ` dpdklab
2025-07-08 23:48 ` dpdklab
2025-07-09  0:04 ` |PENDING| " dpdklab
2025-07-09  0:12 ` |SUCCESS| " dpdklab
2025-07-09  0:27 ` |PENDING| " dpdklab
2025-07-09  0:27 ` dpdklab
2025-07-09  1:11 ` dpdklab [this message]
2025-07-09  1:23 ` |SUCCESS| " dpdklab
2025-07-09  1:36 ` |PENDING| " dpdklab
2025-07-09  2:14 ` |SUCCESS| " dpdklab
2025-07-09  2:19 ` dpdklab
2025-07-09  3:43 ` |WARNING| " dpdklab
2025-07-09  3:43 ` dpdklab
2025-07-09  3:44 ` dpdklab
2025-07-09  3:49 ` dpdklab
2025-07-09  3:50 ` dpdklab
2025-07-09  4:24 ` dpdklab
2025-07-09  5:30 ` |SUCCESS| " dpdklab
2025-07-09  9:33 ` dpdklab
2025-07-09 10:20 ` dpdklab

Reply instructions:

You may reply publicly to this message via plain-text email
using any one of the following methods:

* Save the following mbox file, import it into your mail client,
  and reply-to-all from there: mbox

  Avoid top-posting and favor interleaved quoting:
  https://en.wikipedia.org/wiki/Posting_style#Interleaved_style

* Reply using the --to, --cc, and --in-reply-to
  switches of git-send-email(1):

  git send-email \
    --in-reply-to=686dc1dc.050a0220.396275.3e5eSMTPIN_ADDED_MISSING@mx.google.com \
    --to=dpdklab@iol.unh.edu \
    --cc=dpdk-test-reports@iol.unh.edu \
    --cc=test-report@dpdk.org \
    /path/to/YOUR_REPLY

  https://kernel.org/pub/software/scm/git/docs/git-send-email.html

* If your mail client supports setting the In-Reply-To header
  via mailto: links, try the mailto: link
Be sure your reply has a Subject: header at the top and a blank line before the message body.
This is a public inbox, see mirroring instructions
for how to clone and mirror all data and code used for this inbox;
as well as URLs for NNTP newsgroup(s).