From mboxrd@z Thu Jan 1 00:00:00 1970 Return-Path: Received: from mails.dpdk.org (mails.dpdk.org [217.70.189.124]) by inbox.dpdk.org (Postfix) with ESMTP id 3B0FE46A8F for ; Wed, 9 Jul 2025 03:11:58 +0200 (CEST) Received: from mails.dpdk.org (localhost [127.0.0.1]) by mails.dpdk.org (Postfix) with ESMTP id 180184013F; Wed, 9 Jul 2025 03:11:58 +0200 (CEST) Received: from mail-io1-f98.google.com (mail-io1-f98.google.com [209.85.166.98]) by mails.dpdk.org (Postfix) with ESMTP id 271024013F for ; Wed, 9 Jul 2025 03:11:57 +0200 (CEST) Received: by mail-io1-f98.google.com with SMTP id ca18e2360f4ac-8762a0866a3so111363339f.2 for ; Tue, 08 Jul 2025 18:11:57 -0700 (PDT) DKIM-Signature: v=1; a=rsa-sha256; c=relaxed/relaxed; d=iol.unh.edu; s=unh-iol; t=1752023516; x=1752628316; darn=dpdk.org; h=references:in-reply-to:cc:to:from:subject:message-id:date:from:to :cc:subject:date:message-id:reply-to; bh=3V5tKEJ80NMUIaj3dIR+D+ZP5/qBFeWksJxzcMqwFa8=; b=H6jSqeoKaNYIMl06AEQOg+KdKVU3cLBqYwTFqFTwZd1MQ1PQjTfVzUKDHXyyqDL/Ee Pt0fJxST5rVEjtjjShZEYcFBAZuZC17PDWewra/Rt2IlUCrblLJkplsmkhMusgO2QCWZ /b8ZeNMaVTenIONAEmPxk+Uxxf+XrVxfeGOgc= X-Google-DKIM-Signature: v=1; a=rsa-sha256; c=relaxed/relaxed; d=1e100.net; s=20230601; t=1752023516; x=1752628316; h=references:in-reply-to:cc:to:from:subject:message-id:date :x-gm-message-state:from:to:cc:subject:date:message-id:reply-to; bh=3V5tKEJ80NMUIaj3dIR+D+ZP5/qBFeWksJxzcMqwFa8=; b=ifit5GxS48gxIgQf0mb2C4MaO5j3Ejsw60PdVzk1d0v4SqsqCHJQde2EWh+ayzSriO LqSY+2BB6keNmwDMlxqWsdsDDKmylDUB2F2BmDm4Gf6Y+vrNQl+l67W1s9z6P9528AuD uGZhbREkAsTJZrX0s4wKl9v9x/cCMCzhSQ0I1dEHCeZWpOtAnTBUIOJ1+NY/B8bvp1Tu gE6MW95dCWhQ2wdPARmD5HnXhKqZF1LZYw1XWp39z4Zd+c8JG64dQsVnrotbF3xcSsGm /ZRJ3n8Yw1mJRSSJSrmUcjkfoCvCJzxAq37JCOxkyDqqumI9ssLGOPN4yZ8tBMLAsHlI IWuA== X-Gm-Message-State: AOJu0YzsSlzfvgrJPpAu8sPc8IDEOgZ84PMI41oaYae0x4T1uH6cq44n 0LJHRjlyl4ylnG5fHuMMDR3yW/wMBA/SkGweQMiDvRrtR264o90i07NYSGA8lcL3kuPDn5z+Msa cWtxYV2UpnobJkeMumN0p+UCBsT/UN9tz9NIrZn9VNaAw X-Gm-Gg: ASbGncuHG09lspyqzXPmLEjxk/5r/Cdi1AvwTk0YHZlYKfAJiR9ijc/Cfk6uBjbFzYe hq0RBvSaeyejP+zlhkMXVnL22pJtD3KZ0d0jWAba0pX+FBYWPwr8qui7WywfVQiIHmBvk3lx29l 0yAN7zh0NzVczlOWM/1FnF+QHHMtgIve07mfy/6EBZsUvs0QOXdMP7rPTFL1yowBocSXXJnqEX5 oZzdYNtce6KsJSdofKeZfeSHys6JqPEmSchGIUhLJ7YUnps99RlpzE8HMyxKAEDkBI70Sxt9Ez9 OYpJkowwoteisAKYB36Tml81eIX9iwAlsgV0A3TcF4SduwWlqiLOOVsa+SSLw9jgt6WeoA== X-Google-Smtp-Source: AGHT+IHulwhBQ0b4KeVYKxRhdboS2U0uRlDqHEsXZOes3Tr/fdrTH3p7p9XOen9A9Q/+ArWl1VmELjDq6Q5R X-Received: by 2002:a05:6e02:144f:b0:3d9:6cb6:fa52 with SMTP id e9e14a558f8ab-3e1670aa0femr9613255ab.12.1752023516347; Tue, 08 Jul 2025 18:11:56 -0700 (PDT) Received: from postal.iol.unh.edu (postal.iol.unh.edu. [132.177.123.84]) by smtp-relay.gmail.com with ESMTPS id e9e14a558f8ab-3e0f9b74569sm6959625ab.23.2025.07.08.18.11.56 (version=TLS1_2 cipher=ECDHE-ECDSA-AES128-GCM-SHA256 bits=128/128); Tue, 08 Jul 2025 18:11:56 -0700 (PDT) X-Relaying-Domain: iol.unh.edu Date: Tue, 08 Jul 2025 18:11:56 -0700 (PDT) Message-ID: <686dc1dc.050a0220.396275.3e5eSMTPIN_ADDED_MISSING@mx.google.com> Received: from [172.21.0.5] (unknown [172.18.0.240]) by postal.iol.unh.edu (Postfix) with ESMTP id E66596051830; Tue, 8 Jul 2025 21:11:55 -0400 (EDT) Subject: |SUCCESS| pw154976 [PATCH] net/iavf: fix VLAN offload strip flag From: dpdklab@iol.unh.edu To: Test Report Cc: dpdk-test-reports@iol.unh.edu In-Reply-To: <20250702181506.95192-1-amiyaranjan.mohakud@gmail.com> References: <20250702181506.95192-1-amiyaranjan.mohakud@gmail.com> Content-Type: text/plain X-BeenThere: test-report@dpdk.org X-Mailman-Version: 2.1.29 Precedence: list List-Id: automatic DPDK test reports List-Unsubscribe: , List-Archive: List-Post: List-Help: List-Subscribe: , Errors-To: test-report-bounces@dpdk.org Test-Label: iol-compile-amd64-testing Test-Status: SUCCESS http://dpdk.org/patch/154976 _Testing PASS_ Submitter: Amiya Ranjan Mohakud Date: Wednesday, July 02 2025 18:15:06 DPDK git baseline: Repo:dpdk Branch: master CommitID:a6b10031d251fcc7dadede461f7e1d005024b139 154976 --> testing pass Upstream job id: Windows-Compile-DPDK-VS#6304 Test environment and result as below: +---------------------+--------------------+-------------------+ | Environment | dpdk_meson_compile | dpdk_msvc_compile | +=====================+====================+===================+ | Ubuntu 20.04 | PASS | SKIPPED | +---------------------+--------------------+-------------------+ | FreeBSD 14.2 | PASS | SKIPPED | +---------------------+--------------------+-------------------+ | Windows Server 2022 | SKIPPED | PASS | +---------------------+--------------------+-------------------+ Ubuntu 20.04 Kernel: 4.19 Compiler: gcc gcc (Ubuntu 9.4.0-1ubuntu1~20.04.2) 9.4.0 FreeBSD 14.2 Kernel: 14.2-RELEASE Compiler: clang 18.1.6 Windows Server 2022 Kernel: 10.0.20348.2031 Compiler: clang 15.0.7, gcc 14.1.0 (MinGW), and MSVC VS 19.39.33521 To view detailed results, visit: https://lab.dpdk.org/results/dashboard/patchsets/33573/ UNH-IOL DPDK Community Lab To manage your email subscriptions, visit: https://lab.dpdk.org/results/dashboard/preferences/subscriptions/