From mboxrd@z Thu Jan 1 00:00:00 1970 Return-Path: Received: from mails.dpdk.org (mails.dpdk.org [217.70.189.124]) by inbox.dpdk.org (Postfix) with ESMTP id BF3ED46A8F for ; Wed, 9 Jul 2025 03:17:46 +0200 (CEST) Received: from mails.dpdk.org (localhost [127.0.0.1]) by mails.dpdk.org (Postfix) with ESMTP id 984FF4013F; Wed, 9 Jul 2025 03:17:46 +0200 (CEST) Received: from mail-il1-f228.google.com (mail-il1-f228.google.com [209.85.166.228]) by mails.dpdk.org (Postfix) with ESMTP id C24664013F for ; Wed, 9 Jul 2025 03:17:44 +0200 (CEST) Received: by mail-il1-f228.google.com with SMTP id e9e14a558f8ab-3de2b02c69eso30990535ab.1 for ; Tue, 08 Jul 2025 18:17:44 -0700 (PDT) DKIM-Signature: v=1; a=rsa-sha256; c=relaxed/relaxed; d=iol.unh.edu; s=unh-iol; t=1752023864; x=1752628664; darn=dpdk.org; h=references:in-reply-to:cc:to:from:subject:message-id:date:from:to :cc:subject:date:message-id:reply-to; bh=0CMLDrUd1MHwdI4aXUlBB3MScBQXagGVGpsi41ayc/w=; b=FyVNxMLzvIfnQR0ruB8WU8Si3MtJ8AFV0dZ0iR1TgHQ3okSxZVmL6Hmv0UQkdAjnrU haxcYkcPHFMHZnnMego8D5Z++eW3tFQVsGaZdOHnDIOOCpcFSSOs99I+etp/z+6qjObp RNlXMXCAjhFPZIxztzX+3Ed4al0lAqTj5wE7w= X-Google-DKIM-Signature: v=1; a=rsa-sha256; c=relaxed/relaxed; d=1e100.net; s=20230601; t=1752023864; x=1752628664; h=references:in-reply-to:cc:to:from:subject:message-id:date :x-gm-message-state:from:to:cc:subject:date:message-id:reply-to; bh=0CMLDrUd1MHwdI4aXUlBB3MScBQXagGVGpsi41ayc/w=; b=eyVa2skYb71G7hx0kHBe12egdVFJww5PwEBwEcS3my3mU4UybpIyDdhICPfYIzI0Nm 13K014+T7un59hEbYFxxpsRi3Yko+vtMPZCYbNxjjoHEfbBvf5bSlNL/OqrYO752gmmd di7UA9VKwq1tszCJ1a9NardhpsBMHjOKRi+Oo9TLZ+yTcsQ7GfpnREhqA+AV8Gfe6wfY euz9FIMGHYuTKPKd2usCV0x4RhCo90PN0q/emK6FOKIwrh3EG11jfaNMqSNOjsKfd8jc JHYszV6z3fm2Tzuutc5t5rT+mTpI4pwoRcCOGKOp1TMht7wRk/iWPdh76KK1Or5BtY5N inzg== X-Gm-Message-State: AOJu0YwHvuaVkjusAo36smXb+KbU93YP7e81tPfUhzhJ03P/IbLMGxD9 /T2RJdcDg0PuekvLWNfICUOsXGl0lBM+wgCbYvVB6c7Pr3qXE8AlxfLp8UXyFzkQ8MAZX++fmDK 6bKTQHK4s5YJ7J1Ug2huehQWewV3a7R363X7LLqnIUEH1x9DsYpXuQ+5j6sWR X-Gm-Gg: ASbGncuEUFTKilX1iZlBm6btcYb9r3k3BQs/Q8uT19p+vCoMv0I11yY/oroONRSbSUN 2fR+WBuRLLFC9WLJcWCJx0MdZoAqras3h3Aqg+fmUFfys08e8gYTUIYmxf6wP1pYzbuURcHOv7Y GMQWdkpMQmojSuvbV97refzoXy0LtmSZnk95IEdAwvCJ3ziCXS/fFAZOgoVyNTnE2zTsRtkqOf4 WXi5lhKoYyg1qQ67jKnGvteiyu4faGQIcz/0beFoQafSpChIwq6aYNj0weO7Th485hI0ORlP6mH w7M/kPgTBL6D4fmRKEg06+i6sQp4TSff8vETTNZqtx6CHLc= X-Google-Smtp-Source: AGHT+IFLD9F9sIQUciwMGsl+YVpGw/bSwIWHjRUk4+Av8GCMFnKthZ3DS2zeIfYb30HjEYqhwx8rPaoXi/u8 X-Received: by 2002:a05:6e02:3702:b0:3e0:4f30:c951 with SMTP id e9e14a558f8ab-3e1670aca95mr8109235ab.14.1752023863891; Tue, 08 Jul 2025 18:17:43 -0700 (PDT) Received: from postal.iol.unh.edu (postal.iol.unh.edu. [2606:4100:3880:1234::84]) by smtp-relay.gmail.com with ESMTPS id e9e14a558f8ab-3e0f9b5eef3sm7074885ab.18.2025.07.08.18.17.43 (version=TLS1_2 cipher=ECDHE-ECDSA-AES128-GCM-SHA256 bits=128/128); Tue, 08 Jul 2025 18:17:43 -0700 (PDT) X-Relaying-Domain: iol.unh.edu Date: Tue, 08 Jul 2025 18:17:43 -0700 (PDT) Message-ID: <686dc337.050a0220.1969e4.4de7SMTPIN_ADDED_MISSING@mx.google.com> Received: from [172.21.0.8] (unknown [172.18.0.240]) by postal.iol.unh.edu (Postfix) with ESMTP id 62ACE6051830; Tue, 8 Jul 2025 21:17:43 -0400 (EDT) Subject: |WARNING| pw154996 [PATCH] [v1] net/iavf: fix VLAN strip disabling f From: dpdklab@iol.unh.edu To: Test Report Cc: dpdk-test-reports@iol.unh.edu In-Reply-To: <20250703084234.8037-1-amiyaranjan.mohakud@gmail.com> References: <20250703084234.8037-1-amiyaranjan.mohakud@gmail.com> Content-Type: text/plain X-BeenThere: test-report@dpdk.org X-Mailman-Version: 2.1.29 Precedence: list List-Id: automatic DPDK test reports List-Unsubscribe: , List-Archive: List-Post: List-Help: List-Subscribe: , Errors-To: test-report-bounces@dpdk.org Test-Label: iol-compile-amd64-testing Test-Status: WARNING http://dpdk.org/patch/154996 _Testing issues_ Submitter: Amiya Ranjan Mohakud Date: Thursday, July 03 2025 08:42:34 DPDK git baseline: Repo:dpdk Branch: master CommitID:a6b10031d251fcc7dadede461f7e1d005024b139 154996 --> testing issues Upstream job id: Windows-Compile-DPDK-Native#29660 Test environment and result as below: +-------------------------------+--------------------+-------------------+------------------+-------------------+-------------------------+ | Environment | dpdk_meson_compile | dpdk_compile_spdk | dpdk_compile_ovs | dpdk_msvc_compile | dpdk_llvm_clang_compile | +===============================+====================+===================+==================+===================+=========================+ | CentOS Stream 9 | PASS | PASS | SKIPPED | SKIPPED | SKIPPED | +-------------------------------+--------------------+-------------------+------------------+-------------------+-------------------------+ | CentOS Stream 10 | PASS | SKIPPED | SKIPPED | SKIPPED | SKIPPED | +-------------------------------+--------------------+-------------------+------------------+-------------------+-------------------------+ | Fedora Linux 40 | PASS | PASS | SKIPPED | SKIPPED | SKIPPED | +-------------------------------+--------------------+-------------------+------------------+-------------------+-------------------------+ | Debian GNU/Linux 12 | PASS | PASS | SKIPPED | SKIPPED | SKIPPED | +-------------------------------+--------------------+-------------------+------------------+-------------------+-------------------------+ | Fedora Linux 41 | PASS | PASS | PASS | SKIPPED | SKIPPED | +-------------------------------+--------------------+-------------------+------------------+-------------------+-------------------------+ | openSUSE Leap 15.6 | PASS | SKIPPED | SKIPPED | SKIPPED | SKIPPED | +-------------------------------+--------------------+-------------------+------------------+-------------------+-------------------------+ | Red Hat Enterprise Linux 8.10 | PASS | SKIPPED | SKIPPED | SKIPPED | SKIPPED | +-------------------------------+--------------------+-------------------+------------------+-------------------+-------------------------+ | Ubuntu 20.04 | PASS | SKIPPED | SKIPPED | SKIPPED | SKIPPED | +-------------------------------+--------------------+-------------------+------------------+-------------------+-------------------------+ | Ubuntu 24.04 | PASS | PASS | PASS | SKIPPED | SKIPPED | +-------------------------------+--------------------+-------------------+------------------+-------------------+-------------------------+ | Ubuntu 22.04 | PASS | PASS | SKIPPED | SKIPPED | SKIPPED | +-------------------------------+--------------------+-------------------+------------------+-------------------+-------------------------+ | Red Hat Enterprise Linux 9.5 | PASS | SKIPPED | SKIPPED | SKIPPED | SKIPPED | +-------------------------------+--------------------+-------------------+------------------+-------------------+-------------------------+ | Alpine Linux 3.22.0 | PASS | SKIPPED | SKIPPED | SKIPPED | SKIPPED | +-------------------------------+--------------------+-------------------+------------------+-------------------+-------------------------+ | FreeBSD 14.2 | PASS | SKIPPED | SKIPPED | SKIPPED | SKIPPED | +-------------------------------+--------------------+-------------------+------------------+-------------------+-------------------------+ | Windows Server 2022 | SKIPPED | SKIPPED | SKIPPED | PASS | PASS | +-------------------------------+--------------------+-------------------+------------------+-------------------+-------------------------+ CentOS Stream 9 Kernel: 5.15 Compiler: gcc gcc (GCC) 11.5.0 20240719 (Red Hat 11.5.0-7) CentOS Stream 10 Kernel: 5.15 Compiler: gcc gcc (GCC) 14.2.1 20250110 (Red Hat 14.2.1-8) Fedora Linux 40 Kernel: 5.15 Compiler: clang gcc (GCC) 14.2.1 20240912 (Red Hat 14.2.1-3) Debian GNU/Linux 12 Kernel: 5.15 Compiler: gcc gcc (Debian 12.2.0-14+deb12u1) 12.2.0 Fedora Linux 41 Kernel: 5.15 Compiler: clang gcc (GCC) 14.3.1 20250523 (Red Hat 14.3.1-1) openSUSE Leap 15.6 Kernel: 5.15 Compiler: gcc gcc (SUSE Linux) 7.5.0 Red Hat Enterprise Linux 8.10 Kernel: 5.15 Compiler: gcc gcc (GCC) 8.5.0 20210514 (Red Hat 8.5.0-22) Ubuntu 20.04 Kernel: 5.15 Compiler: gcc gcc (Ubuntu 9.4.0-1ubuntu1~20.04.2) 9.4.0 Ubuntu 24.04 Kernel: 5.15 Compiler: gcc gcc (Ubuntu 13.3.0-6ubuntu2~24.04) 13.3.0 Ubuntu 22.04 Kernel: 5.15 Compiler: gcc gcc (Ubuntu 11.4.0-1ubuntu1~22.04) 11.4.0 Red Hat Enterprise Linux 9.5 Kernel: 5.15 Compiler: gcc gcc (GCC) 11.5.0 20240719 (Red Hat 11.5.0-2) Alpine Linux 3.22.0 Kernel: 5.15 Compiler: gcc gcc (Alpine 14.2.0) 14.2.0 FreeBSD 14.2 Kernel: 14.2-RELEASE Compiler: clang 18.1.6 Windows Server 2022 Kernel: 10.0.20348.2031 Compiler: clang 15.0.7, gcc 14.1.0 (MinGW), and MSVC VS 19.39.33521 To view detailed results, visit: https://lab.dpdk.org/results/dashboard/patchsets/33579/ UNH-IOL DPDK Community Lab To manage your email subscriptions, visit: https://lab.dpdk.org/results/dashboard/preferences/subscriptions/