From mboxrd@z Thu Jan 1 00:00:00 1970 Return-Path: Received: from mails.dpdk.org (mails.dpdk.org [217.70.189.124]) by inbox.dpdk.org (Postfix) with ESMTP id 465B846A8F for ; Wed, 9 Jul 2025 03:23:08 +0200 (CEST) Received: from mails.dpdk.org (localhost [127.0.0.1]) by mails.dpdk.org (Postfix) with ESMTP id 2B6A24013F; Wed, 9 Jul 2025 03:23:08 +0200 (CEST) Received: from mail-io1-f100.google.com (mail-io1-f100.google.com [209.85.166.100]) by mails.dpdk.org (Postfix) with ESMTP id BBC3F4013F for ; Wed, 9 Jul 2025 03:23:06 +0200 (CEST) Received: by mail-io1-f100.google.com with SMTP id ca18e2360f4ac-86d01686196so149976339f.1 for ; Tue, 08 Jul 2025 18:23:06 -0700 (PDT) DKIM-Signature: v=1; a=rsa-sha256; c=relaxed/relaxed; d=iol.unh.edu; s=unh-iol; t=1752024186; x=1752628986; darn=dpdk.org; h=references:in-reply-to:cc:to:from:subject:message-id:date:from:to :cc:subject:date:message-id:reply-to; bh=9hv8TksS1gRmV8prBfqAhMlFn1JVtDDuOtFnFWRx/ak=; b=czEXtfemX1+PcncIBwyMHKj2T+mVIAa7n8xffsYC3pZV+N8W5CU84DG59PzogxtM0y lBJun9zuynTaua0UznvXPDFoxNwS/aCqgcKiO1CvXmTUMdBiSPUztYHyyT076deg9HHW X8LFHtEU2ZL6+4PAfQon/TVaPvdSD3V5JMkfo= X-Google-DKIM-Signature: v=1; a=rsa-sha256; c=relaxed/relaxed; d=1e100.net; s=20230601; t=1752024186; x=1752628986; h=references:in-reply-to:cc:to:from:subject:message-id:date :x-gm-message-state:from:to:cc:subject:date:message-id:reply-to; bh=9hv8TksS1gRmV8prBfqAhMlFn1JVtDDuOtFnFWRx/ak=; b=JDqUkJIhIDaQhvaWOmMe8v4NbPCrD6VBQGi4S7NVBRjn3L9My5JFUFojKv74+ww5lx BtRZOEsiBxgSG66rVyrukBdcfHa7Q+MgjyAfmUE+9XYW5Alt49970PoTBJlRtq+WL3G2 kZq4OP5fANIMXE4ivhc+DJRodBpLaHy52MAJS2CQHTyj65v5MnSR3eoI3fn27Vp820D8 HDqe8uor2RDtaHNssd8Dc56mJ8dY8dkC6+Rcshh58Ahx2y8gwP+3FCXAyElrEHriuCgI jQZoFeE/YQFFr61eWaAwMuZSyP5esthy02bZKcBWbjPy2NcrscF6yZL/P2/u9cb4touD l4GA== X-Gm-Message-State: AOJu0YxYScH+ghX6F4NduKMKJJ7nfsFlkMZNIUIeb4xOu7r8zugwQNdT nrpr898mPVubWlJzjfr0AvMcV5iDzLPPxJwMSehSOIy+aRKKlE4+5uwnrHNQH48goSnfJG+KP72 16x04vCg8qqvENZHB+yy0qNHksI5AJsk0Nf7/A+rrPugpjyVp6I/UtKqcDkEI X-Gm-Gg: ASbGncuG3By8WMHShwxF7WaE+KS6DFIz+CxnR40FA+SNMb4IhL9fefGF8Kc0E3B+CIA egB7CY+eRaChPHeDUwE5+zs3AeimGQKCZSjftzxqnMgB4JmOq/lzNZoScs2sqANokTrZf0OUIQy 6DWxHOWpe2rMyKG/dFbty8vwJtwqgfjpUQO/jlcBImDyq57/O0HZxgX7g+i4WUZlU5+ycX176z+ cKOqyXgH2GKFBSR5L3wxgsWwwrvjHS+0mes5eZRzqTRZfmmD5IrQcifTt7YQoREBOD2JVbs64pi DYTnOCSU4F3SMUdYKyPqvXka2ey78h96FZAAAV6bp9RI1DI= X-Google-Smtp-Source: AGHT+IHdOEvSKGeQVZZqIBgi0qhVA0/kOEbyGzu3yCgz/c6IzZjZhC80cgASl4mpozc+IgmmIa6rhgwpi/3g X-Received: by 2002:a05:6602:6d0f:b0:85d:b054:6eb9 with SMTP id ca18e2360f4ac-8795b4e0b43mr109922439f.14.1752024186008; Tue, 08 Jul 2025 18:23:06 -0700 (PDT) Received: from postal.iol.unh.edu (postal.iol.unh.edu. [2606:4100:3880:1234::84]) by smtp-relay.gmail.com with ESMTPS id ca18e2360f4ac-876e082d836sm53748439f.15.2025.07.08.18.23.05 (version=TLS1_2 cipher=ECDHE-ECDSA-AES128-GCM-SHA256 bits=128/128); Tue, 08 Jul 2025 18:23:06 -0700 (PDT) X-Relaying-Domain: iol.unh.edu Date: Tue, 08 Jul 2025 18:23:06 -0700 (PDT) Message-ID: <686dc47a.050a0220.3b1f02.ca0eSMTPIN_ADDED_MISSING@mx.google.com> Received: from [172.21.0.7] (unknown [172.18.0.240]) by postal.iol.unh.edu (Postfix) with ESMTP id 7DBDB6051830; Tue, 8 Jul 2025 21:23:05 -0400 (EDT) Subject: |SUCCESS| pw154976 [PATCH] net/iavf: fix VLAN offload strip flag From: dpdklab@iol.unh.edu To: Test Report Cc: dpdk-test-reports@iol.unh.edu In-Reply-To: <20250702181506.95192-1-amiyaranjan.mohakud@gmail.com> References: <20250702181506.95192-1-amiyaranjan.mohakud@gmail.com> Content-Type: text/plain X-BeenThere: test-report@dpdk.org X-Mailman-Version: 2.1.29 Precedence: list List-Id: automatic DPDK test reports List-Unsubscribe: , List-Archive: List-Post: List-Help: List-Subscribe: , Errors-To: test-report-bounces@dpdk.org Test-Label: iol-unit-amd64-testing Test-Status: SUCCESS http://dpdk.org/patch/154976 _Testing PASS_ Submitter: Amiya Ranjan Mohakud Date: Wednesday, July 02 2025 18:15:06 DPDK git baseline: Repo:dpdk Branch: master CommitID:a6b10031d251fcc7dadede461f7e1d005024b139 154976 --> testing pass Upstream job id: Generic-Unit-Test-DPDK#353841 Test environment and result as below: +-------------------------------+----------------+ | Environment | dpdk_unit_test | +===============================+================+ | CentOS Stream 9 | PASS | +-------------------------------+----------------+ | Debian GNU/Linux 12 | PASS | +-------------------------------+----------------+ | Fedora Linux 40 | PASS | +-------------------------------+----------------+ | CentOS Stream 10 | PASS | +-------------------------------+----------------+ | Fedora Linux 41 | PASS | +-------------------------------+----------------+ | Red Hat Enterprise Linux 8.10 | PASS | +-------------------------------+----------------+ | Ubuntu 22.04 | PASS | +-------------------------------+----------------+ | Red Hat Enterprise Linux 9.5 | PASS | +-------------------------------+----------------+ | Ubuntu 20.04 | PASS | +-------------------------------+----------------+ | Ubuntu 24.04 | PASS | +-------------------------------+----------------+ CentOS Stream 9 Kernel: 5.15 Compiler: gcc gcc (GCC) 11.5.0 20240719 (Red Hat 11.5.0-7) Debian GNU/Linux 12 Kernel: 5.15 Compiler: gcc gcc (Debian 12.2.0-14+deb12u1) 12.2.0 Fedora Linux 40 Kernel: 5.15 Compiler: gcc gcc (GCC) 14.2.1 20240912 (Red Hat 14.2.1-3) CentOS Stream 10 Kernel: 5.15 Compiler: gcc gcc (GCC) 14.2.1 20250110 (Red Hat 14.2.1-8) Fedora Linux 41 Kernel: 5.15 Compiler: gcc gcc (GCC) 14.3.1 20250523 (Red Hat 14.3.1-1) Red Hat Enterprise Linux 8.10 Kernel: 5.15 Compiler: gcc gcc (GCC) 8.5.0 20210514 (Red Hat 8.5.0-22) Ubuntu 22.04 Kernel: 5.15 Compiler: gcc gcc (Ubuntu 11.4.0-1ubuntu1~22.04) 11.4.0 Red Hat Enterprise Linux 9.5 Kernel: 5.15 Compiler: gcc gcc (GCC) 11.5.0 20240719 (Red Hat 11.5.0-2) Ubuntu 20.04 Kernel: 5.15 Compiler: gcc gcc (Ubuntu 9.4.0-1ubuntu1~20.04.2) 9.4.0 Ubuntu 24.04 Kernel: 5.15 Compiler: gcc gcc (Ubuntu 13.3.0-6ubuntu2~24.04) 13.3.0 To view detailed results, visit: https://lab.dpdk.org/results/dashboard/patchsets/33573/ UNH-IOL DPDK Community Lab To manage your email subscriptions, visit: https://lab.dpdk.org/results/dashboard/preferences/subscriptions/