From mboxrd@z Thu Jan 1 00:00:00 1970 Return-Path: Received: from mails.dpdk.org (mails.dpdk.org [217.70.189.124]) by inbox.dpdk.org (Postfix) with ESMTP id 562C446A86 for ; Wed, 9 Jul 2025 03:33:52 +0200 (CEST) Received: from mails.dpdk.org (localhost [127.0.0.1]) by mails.dpdk.org (Postfix) with ESMTP id 4C8BE4013F; Wed, 9 Jul 2025 03:33:52 +0200 (CEST) Received: from mail-pl1-f228.google.com (mail-pl1-f228.google.com [209.85.214.228]) by mails.dpdk.org (Postfix) with ESMTP id 6CDD54013F for ; Wed, 9 Jul 2025 03:33:50 +0200 (CEST) Received: by mail-pl1-f228.google.com with SMTP id d9443c01a7336-237e6963f63so33458715ad.2 for ; Tue, 08 Jul 2025 18:33:50 -0700 (PDT) DKIM-Signature: v=1; a=rsa-sha256; c=relaxed/relaxed; d=iol.unh.edu; s=unh-iol; t=1752024829; x=1752629629; darn=dpdk.org; h=references:in-reply-to:cc:to:from:subject:message-id:date:from:to :cc:subject:date:message-id:reply-to; bh=VHa5TtEOa3hMsSAVGz5TS0Ul/QJNcaSk8AN/SBHLN0E=; b=eDzat4OqriTCqmV7AXsojozFhWFtA5OfAs5Dn4LZNWhzo1WGaSVAxSdJFtZk1Wg9DW NblPJCgyYy7H2cf4Oy9D4h8NOvnRy7WKDoM33YuuJI4bgLynY3CgCkOV5ajYeZCQtvp4 WWr0BEgxI0Ppfp+jvOmNkHuixMKSBqrGgwA8o= X-Google-DKIM-Signature: v=1; a=rsa-sha256; c=relaxed/relaxed; d=1e100.net; s=20230601; t=1752024829; x=1752629629; h=references:in-reply-to:cc:to:from:subject:message-id:date :x-gm-message-state:from:to:cc:subject:date:message-id:reply-to; bh=VHa5TtEOa3hMsSAVGz5TS0Ul/QJNcaSk8AN/SBHLN0E=; b=Uphg1VaJ6uWwAM/jZrXuGKDGuNeaZj5ANuB8zhGJRMsUFlL0VK74wi5WqFmjFTkYRX Wk/IbQejQOcVRYRNG18SrXMGpxtaWA1zF8ABtlry6uv/jo/OR2uZ0epsu+GMhJ7Mr5tO IRYAw7J9UBN5fBPuW6GFz/YlMyjmZFbzcYtpwBLl+6EMpItYG+aQ7pR0Qz6Zgtj/M4uq 7n5C1rAoqpBOoZwdQtWB70CpBHCY0aJmtBUkH6/UYZqd1aW+6ULqJbU/sElNzb9GY02z ZGRrPys7PAaEguOeJSgRszo9aAb8wPXORP+io/fzEHBVG9GCdBR+zrjxWutY1br1LQrG N7fA== X-Gm-Message-State: AOJu0YzOERyqSD+anCXDXdZvagGGuHeWfcL6bejfSHG1yo3vVgjPmZiL EV+o7oWTLSiNFQ9NQygWEuBx6b3c5I7R+/5oUlcFond/xtqeqxwofJJgbak0dYu5ZAj8vOqhTdj RKOHlnGU7Oe+9EnO353g2bMf3g/0d4Aj1tkBWH1dlhUsd X-Gm-Gg: ASbGncuqxEmov6qoMNIsHbCb5pG4kDzJ4q7O1DVVOVBLqyh+q+R6nDWiyrKPAHEkwph Q0Tz9BEMeODy8KXg0pELFLf5yvxy4he2+9vgd9Y8SLR8bopNhtYeYA93XAfwMIU5wM9MwWukGfi aAYHbI1zegFvQJQd0We88dt1amYC8bqoJYU81Y7YA2JL74DaoGXUPxkwBmfKkxTCmyIOZSZ4Wvr ZeYIykBixbcpQh0rarPyG0ejs6fHjVu0RD+Avw/AQKqwMcTjjzQFsNjEURV3TAXaKDWVaQbHucu 21B9aWEFFOq7+KyG9dArKubnrtjnUTX+hxJ0HLPksms0SVfCqWmqbPOXSySVBZCp2aCcKQ== X-Google-Smtp-Source: AGHT+IG6XpwetEsUqso7WxnkrXyYIgx9bP101uRfyYrzEHTqlPtWOEW3a/fTXsfNqPhxPutxxmRKWqC/h0Ju X-Received: by 2002:a17:903:3c24:b0:22d:b243:2fee with SMTP id d9443c01a7336-23ddb1a429emr7583895ad.13.1752024829584; Tue, 08 Jul 2025 18:33:49 -0700 (PDT) Received: from postal.iol.unh.edu (postal.iol.unh.edu. [132.177.123.84]) by smtp-relay.gmail.com with ESMTPS id d9443c01a7336-23c84508bc9sm6068635ad.97.2025.07.08.18.33.49 (version=TLS1_2 cipher=ECDHE-ECDSA-AES128-GCM-SHA256 bits=128/128); Tue, 08 Jul 2025 18:33:49 -0700 (PDT) X-Relaying-Domain: iol.unh.edu Date: Tue, 08 Jul 2025 18:33:49 -0700 (PDT) Message-ID: <686dc6fd.170a0220.1d6235.1524SMTPIN_ADDED_MISSING@mx.google.com> Received: from [172.21.0.5] (unknown [172.18.0.240]) by postal.iol.unh.edu (Postfix) with ESMTP id C52E06051830; Tue, 8 Jul 2025 21:33:48 -0400 (EDT) Subject: |SUCCESS| pw154979-154986 [PATCH] [v7,8/8] bus/dpaa: optimize qman e From: dpdklab@iol.unh.edu To: Test Report Cc: dpdk-test-reports@iol.unh.edu In-Reply-To: <20250703052558.3700573-9-vanshika.shukla@nxp.com> References: <20250703052558.3700573-9-vanshika.shukla@nxp.com> Content-Type: text/plain X-BeenThere: test-report@dpdk.org X-Mailman-Version: 2.1.29 Precedence: list List-Id: automatic DPDK test reports List-Unsubscribe: , List-Archive: List-Post: List-Help: List-Subscribe: , Errors-To: test-report-bounces@dpdk.org Test-Label: iol-unit-arm64-testing Test-Status: SUCCESS http://dpdk.org/patch/154986 _Testing PASS_ Submitter: Vanshika Shukla Date: Thursday, July 03 2025 05:25:58 DPDK git baseline: Repo:dpdk Branch: master CommitID:ba982f9a1ca9b96ed0394b764f1523d482e963a2 154979-154986 --> testing pass Upstream job id: Generic-Unit-Test-DPDK#353807 Test environment and result as below: +------------------------------+--------------+------------------------------+---------------------------+----------------+ | Environment | lpm_autotest | cryptodev_sw_snow3g_autotest | cryptodev_sw_zuc_autotest | dpdk_unit_test | +==============================+==============+==============================+===========================+================+ | Ubuntu 20.04 | PASS | SKIPPED | SKIPPED | PASS | +------------------------------+--------------+------------------------------+---------------------------+----------------+ | Debian 12 (arm) | SKIPPED | PASS | PASS | SKIPPED | +------------------------------+--------------+------------------------------+---------------------------+----------------+ | Fedora Linux 40 | SKIPPED | SKIPPED | SKIPPED | PASS | +------------------------------+--------------+------------------------------+---------------------------+----------------+ | CentOS Stream 10 | SKIPPED | SKIPPED | SKIPPED | PASS | +------------------------------+--------------+------------------------------+---------------------------+----------------+ | Fedora Linux 41 | SKIPPED | SKIPPED | SKIPPED | PASS | +------------------------------+--------------+------------------------------+---------------------------+----------------+ | Debian GNU/Linux 12 | SKIPPED | SKIPPED | SKIPPED | PASS | +------------------------------+--------------+------------------------------+---------------------------+----------------+ | CentOS Stream 9 | SKIPPED | SKIPPED | SKIPPED | PASS | +------------------------------+--------------+------------------------------+---------------------------+----------------+ | Ubuntu 22.04 | SKIPPED | SKIPPED | SKIPPED | PASS | +------------------------------+--------------+------------------------------+---------------------------+----------------+ | Red Hat Enterprise Linux 9.5 | SKIPPED | SKIPPED | SKIPPED | PASS | +------------------------------+--------------+------------------------------+---------------------------+----------------+ | Ubuntu 24.04 | SKIPPED | SKIPPED | SKIPPED | PASS | +------------------------------+--------------+------------------------------+---------------------------+----------------+ Ubuntu 20.04 Kernel: 5.4 Compiler: gcc gcc (Ubuntu 9.4.0-1ubuntu1~20.04.2) 9.4.0 Debian 12 (arm) Kernel: Depends on container host Compiler: gcc (Debian 12.2.0-14) 12.2.0 Fedora Linux 40 Kernel: 5.4 Compiler: clang gcc (GCC) 14.2.1 20240912 (Red Hat 14.2.1-3) CentOS Stream 10 Kernel: 5.4 Compiler: gcc gcc (GCC) 14.2.1 20250110 (Red Hat 14.2.1-8) Fedora Linux 41 Kernel: 5.4 Compiler: gcc gcc (GCC) 14.3.1 20250523 (Red Hat 14.3.1-1) Debian GNU/Linux 12 Kernel: 5.4 Compiler: gcc gcc (Debian 12.2.0-14+deb12u1) 12.2.0 CentOS Stream 9 Kernel: 5.4 Compiler: gcc gcc (GCC) 11.5.0 20240719 (Red Hat 11.5.0-7) Ubuntu 22.04 Kernel: 5.4 Compiler: gcc gcc (Ubuntu 11.4.0-1ubuntu1~22.04) 11.4.0 Red Hat Enterprise Linux 9.5 Kernel: 5.4 Compiler: gcc gcc (GCC) 11.5.0 20240719 (Red Hat 11.5.0-2) Ubuntu 24.04 Kernel: 5.4 Compiler: gcc gcc (Ubuntu 13.3.0-6ubuntu2~24.04) 13.3.0 To view detailed results, visit: https://lab.dpdk.org/results/dashboard/patchsets/33576/ UNH-IOL DPDK Community Lab To manage your email subscriptions, visit: https://lab.dpdk.org/results/dashboard/preferences/subscriptions/