From mboxrd@z Thu Jan 1 00:00:00 1970 Return-Path: Received: from mails.dpdk.org (mails.dpdk.org [217.70.189.124]) by inbox.dpdk.org (Postfix) with ESMTP id 4EFDA46A8F for ; Wed, 9 Jul 2025 03:41:44 +0200 (CEST) Received: from mails.dpdk.org (localhost [127.0.0.1]) by mails.dpdk.org (Postfix) with ESMTP id 272154013F; Wed, 9 Jul 2025 03:41:44 +0200 (CEST) Received: from mail-il1-f225.google.com (mail-il1-f225.google.com [209.85.166.225]) by mails.dpdk.org (Postfix) with ESMTP id 261904013F for ; Wed, 9 Jul 2025 03:41:43 +0200 (CEST) Received: by mail-il1-f225.google.com with SMTP id e9e14a558f8ab-3e058e82584so44670355ab.2 for ; Tue, 08 Jul 2025 18:41:43 -0700 (PDT) DKIM-Signature: v=1; a=rsa-sha256; c=relaxed/relaxed; d=iol.unh.edu; s=unh-iol; t=1752025302; x=1752630102; darn=dpdk.org; h=references:in-reply-to:cc:to:from:subject:message-id:date:from:to :cc:subject:date:message-id:reply-to; bh=x5+CAwI6CfkIWFLsyVoHAOFi7MxqnexAjTCvYeQ+bmY=; b=BwlBMWwAmMkiYtByo74YBYaQYhxLQyRGqC7kudqVCj4kgetQhfh38/WSHN9tGzmfxd eol0TbGUVsQt3NCHYMkBRVjgw1YRYb4vQNWomdAFlYKsIh9MGBjXfTH2Ex4NxaF9dQz5 VO4OdAf9AHodA3KfpWHyPWOWVah4QUtNu+8v0= X-Google-DKIM-Signature: v=1; a=rsa-sha256; c=relaxed/relaxed; d=1e100.net; s=20230601; t=1752025302; x=1752630102; h=references:in-reply-to:cc:to:from:subject:message-id:date :x-gm-message-state:from:to:cc:subject:date:message-id:reply-to; bh=x5+CAwI6CfkIWFLsyVoHAOFi7MxqnexAjTCvYeQ+bmY=; b=OCPJj5b2/cLtiy7kBn61szEensG2KvrlFiZVI0mB/D+326KTijeo1ouARxQcQRwR96 E2bwCL86f7afxLLGOx20HHCRw9+KEBgId2rh2SHE1e0JekvbRGocqMtiG8tBLJgH2V9g gdCoWcAQzp/dLHWZVmYEeOc2PgqZdqZ/7zUfeENTBJQJ8BUo868b0F16kLezj5pCk6cj EyFtaoIuUae8YNNIW0G074q7g+9PgOtrAT6YF52SM7mQOZmfwMHK70W+eZe6qqp9uAQ4 9lNiN+Ru+AGaiiGlArp6O3N9jyKU81+b2DgUpexIjmmL81Svx1JbkSysTQiW9MrXPMmT lN6Q== X-Gm-Message-State: AOJu0YwvDi7DNKTE+7hzyUGhgaHcPCAh3+EKWJ9M9qDL/ARyVEX42vxV g3b7OZf0X2JCcA7K2rozjPKpOdus2E6+Rw54ZYzUYcU132Ol4WaY1xnP96AEA2o6jl8aLmP4pKS JyDS4FkZrP6mHRSkdzv2zWMpfWLgQtfGpxGfVyoM3Vf+K X-Gm-Gg: ASbGncuJgd/+sbOnAcPd2FRQ3XaGuFb1DjLyQFjllxpjy6bZnhheXNnhR9BOON+R6AZ DbKpIsU3vzrALdLIl9ds8eRAD3ILkErwjTcZUE6ASI8TTrzDVEPI2qWTYZ4OYJPDXVE2URTP5Kp cFiqm7vtt7SMLW7Qa79c/zKxp2oOQ4R7DeyvTAWxcUGH34kgLIIng80ZoKQ7GtfvPYs5qirWh8L q10/n6vGjngfvQMkB+J47rs4bSdiidmvlBScQWpg70ve0Yz3hlD17dYI6g386ZYUw3jEoyGoDAJ pk41sf547zxP91pi100/XVeCSTE9/kfrPF/hEvF00JRj4jIHJzq0xG9t1JeXuHmXUUW5zw== X-Google-Smtp-Source: AGHT+IFWVqWTXtQ4iuvid1COzidxvjnQBs8U3Gtn5J5xHB1ejL1+CmhMQlZr+c6XLYwhDpmGZ2kVhcw9w4D8 X-Received: by 2002:a05:6e02:5:b0:3dd:f813:64c5 with SMTP id e9e14a558f8ab-3e16713220fmr9828125ab.22.1752025302426; Tue, 08 Jul 2025 18:41:42 -0700 (PDT) Received: from postal.iol.unh.edu (postal.iol.unh.edu. [132.177.123.84]) by smtp-relay.gmail.com with ESMTPS id e9e14a558f8ab-3e0f9c29321sm7545465ab.40.2025.07.08.18.41.42 (version=TLS1_2 cipher=ECDHE-ECDSA-AES128-GCM-SHA256 bits=128/128); Tue, 08 Jul 2025 18:41:42 -0700 (PDT) X-Relaying-Domain: iol.unh.edu Date: Tue, 08 Jul 2025 18:41:42 -0700 (PDT) Message-ID: <686dc8d6.050a0220.10b18b.785dSMTPIN_ADDED_MISSING@mx.google.com> Received: from [172.21.0.7] (unknown [172.18.0.240]) by postal.iol.unh.edu (Postfix) with ESMTP id 1AEF16051830; Tue, 8 Jul 2025 21:41:41 -0400 (EDT) Subject: |SUCCESS| pw154979-154986 [PATCH] [v7,8/8] bus/dpaa: optimize qman e From: dpdklab@iol.unh.edu To: Test Report Cc: dpdk-test-reports@iol.unh.edu In-Reply-To: <20250703052558.3700573-9-vanshika.shukla@nxp.com> References: <20250703052558.3700573-9-vanshika.shukla@nxp.com> Content-Type: text/plain X-BeenThere: test-report@dpdk.org X-Mailman-Version: 2.1.29 Precedence: list List-Id: automatic DPDK test reports List-Unsubscribe: , List-Archive: List-Post: List-Help: List-Subscribe: , Errors-To: test-report-bounces@dpdk.org Test-Label: iol-abi-testing Test-Status: SUCCESS http://dpdk.org/patch/154986 _Testing PASS_ Submitter: Vanshika Shukla Date: Thursday, July 03 2025 05:25:58 DPDK git baseline: Repo:dpdk Branch: master CommitID:ba982f9a1ca9b96ed0394b764f1523d482e963a2 154979-154986 --> testing pass Upstream job id: Generic-DPDK-Compile-ABI#133590 Test environment and result as below: +-------------------------------+----------+ | Environment | abi_test | +===============================+==========+ | CentOS Stream 9 | PASS | +-------------------------------+----------+ | Fedora Linux 40 | PASS | +-------------------------------+----------+ | Debian GNU/Linux 12 | PASS | +-------------------------------+----------+ | Fedora Linux 41 | PASS | +-------------------------------+----------+ | Red Hat Enterprise Linux 8.10 | PASS | +-------------------------------+----------+ | openSUSE Leap 15.6 | PASS | +-------------------------------+----------+ | Red Hat Enterprise Linux 9.5 | PASS | +-------------------------------+----------+ | Ubuntu 22.04 | PASS | +-------------------------------+----------+ | CentOS Stream 10 | PASS | +-------------------------------+----------+ | Ubuntu 24.04 | PASS | +-------------------------------+----------+ CentOS Stream 9 Kernel: 5.15 Compiler: gcc gcc (GCC) 11.5.0 20240719 (Red Hat 11.5.0-7) Fedora Linux 40 Kernel: 5.15 Compiler: gcc gcc (GCC) 14.2.1 20240912 (Red Hat 14.2.1-3) Debian GNU/Linux 12 Kernel: 5.15 Compiler: gcc gcc (Debian 12.2.0-14+deb12u1) 12.2.0 Fedora Linux 41 Kernel: 5.15 Compiler: clang gcc (GCC) 14.3.1 20250523 (Red Hat 14.3.1-1) Red Hat Enterprise Linux 8.10 Kernel: 5.15 Compiler: gcc gcc (GCC) 8.5.0 20210514 (Red Hat 8.5.0-22) openSUSE Leap 15.6 Kernel: 5.15 Compiler: gcc gcc (SUSE Linux) 7.5.0 Red Hat Enterprise Linux 9.5 Kernel: 5.15 Compiler: gcc gcc (GCC) 11.5.0 20240719 (Red Hat 11.5.0-2) Ubuntu 22.04 Kernel: 5.15 Compiler: gcc gcc (Ubuntu 11.4.0-1ubuntu1~22.04) 11.4.0 CentOS Stream 10 Kernel: 5.15 Compiler: gcc gcc (GCC) 14.2.1 20250110 (Red Hat 14.2.1-8) Ubuntu 24.04 Kernel: 5.15 Compiler: gcc gcc (Ubuntu 13.3.0-6ubuntu2~24.04) 13.3.0 To view detailed results, visit: https://lab.dpdk.org/results/dashboard/patchsets/33576/ UNH-IOL DPDK Community Lab To manage your email subscriptions, visit: https://lab.dpdk.org/results/dashboard/preferences/subscriptions/