From mboxrd@z Thu Jan 1 00:00:00 1970 Return-Path: Received: from mails.dpdk.org (mails.dpdk.org [217.70.189.124]) by inbox.dpdk.org (Postfix) with ESMTP id 3670F46A8F for ; Wed, 9 Jul 2025 03:41:47 +0200 (CEST) Received: from mails.dpdk.org (localhost [127.0.0.1]) by mails.dpdk.org (Postfix) with ESMTP id 31B7E4013F; Wed, 9 Jul 2025 03:41:47 +0200 (CEST) Received: from mail-yb1-f228.google.com (mail-yb1-f228.google.com [209.85.219.228]) by mails.dpdk.org (Postfix) with ESMTP id 9403C4013F for ; Wed, 9 Jul 2025 03:41:46 +0200 (CEST) Received: by mail-yb1-f228.google.com with SMTP id 3f1490d57ef6-e812fc35985so4296182276.0 for ; Tue, 08 Jul 2025 18:41:46 -0700 (PDT) DKIM-Signature: v=1; a=rsa-sha256; c=relaxed/relaxed; d=iol.unh.edu; s=unh-iol; t=1752025306; x=1752630106; darn=dpdk.org; h=references:in-reply-to:cc:to:from:subject:message-id:date:from:to :cc:subject:date:message-id:reply-to; bh=luXTV7VFqRWPGKMHGvkN9+lL+okoENaQVy3JEouuTHs=; b=XVcyFcIR/rz+rdMdsjLh9VoOH7yWBH3aaxpE3kZF4HCTHhF2qv/M20MEUxtw4CvDw1 68AlPA+7T9U+WmRmXIur6B72B+OUK5zaCX1lOLROsjm7DMGZabmXgXS3IzJv5pP5sZvz BqN6D1j1xZQ0CFF7iVJgqJ1JxBd7bq1MwGa5g= X-Google-DKIM-Signature: v=1; a=rsa-sha256; c=relaxed/relaxed; d=1e100.net; s=20230601; t=1752025306; x=1752630106; h=references:in-reply-to:cc:to:from:subject:message-id:date :x-gm-message-state:from:to:cc:subject:date:message-id:reply-to; bh=luXTV7VFqRWPGKMHGvkN9+lL+okoENaQVy3JEouuTHs=; b=hhhlVmD+4MsqJeqeTj9Mw/FnJmbElag97LMZuG1YYMlvkzWldr0IPf7yzlSgkk4OFR W+CkRjjmGwiQwPFKyE4ypncBch5tUJnm412T8tfiNv/PQxs1UakiRu0Okpn4N84GGbN1 b9oZzwHbHqz/064chGHBZLHEUHZtB8A7+Tv8xeoClYfabUYAZFRMrXifeOgv4aRihydz og4uBk3YRC75WIYmxPXf4VUIgQZrqeqhwOycNwLsrZSiUiCMBCTZAcwWRNs/6o0bASrT XTiPfKREwM5EozrWxof5ofq5ivzBw9egnUtOt4NOzSU5ojk1CjJ+/z0T7Egtbewl7fvp vdGw== X-Gm-Message-State: AOJu0Yw5S/I0/OSQehPQKg+ohQU6uT31FRXiQXXvzX1GMsGiMxwWggmj E8GKao4kanCPr8QLzxeceIfaQj4Qlzclws47EPESMBdon8YpCJGl3aBvUiguevtfY7pwNZAcCRt 6Jpaajq5gC8UCJidiExbrNKRbOVkTn/8xa8i1sN5R1FjC X-Gm-Gg: ASbGncslLLmfSVEPDzxi+EC6/wcZkYkkR/s0AA5QBRawjDpc4q5ncbr1CZDAStrpLlN t4LEiwhRnLvuRpHuVbdDZzuLgvLfNkTmo/uBg5tx7EETDhU65UPmuCQJZfI29BNhoJoa3Bv/6tk BychhFJHRCZJMgzfXq+IjMVLe+s9tDBoeeN5e5vKFweOScYv9BuAXPmzxRZd26VUEK8ixYsoGYG CCLAVhuSTCqjtJjfrIKQNkFeUHx6cPNzF6jwkR4SyqwUiMAcdLUOP6xgX4A2zZFMc9owJb3F2vg k5N5AOW0XTwTA/SA3DiR3uzt7XKZb8oEIkcKeY7ac9m7Y3kdEJ6bjK9uL7a94piOxeDCrQ== X-Google-Smtp-Source: AGHT+IFbBp3n7PRVfAh7G7CZBLY2WnTLBvwLHqcgQu6poTF9e6+yCF5cQ+GpXiDRZlQiqaIvhet5Q9e3Ngq1 X-Received: by 2002:a05:6902:15ce:b0:e89:86e1:ffaf with SMTP id 3f1490d57ef6-e8b6e164b5dmr1131803276.37.1752025303531; Tue, 08 Jul 2025 18:41:43 -0700 (PDT) Received: from postal.iol.unh.edu (postal.iol.unh.edu. [132.177.123.84]) by smtp-relay.gmail.com with ESMTPS id 00721157ae682-716659cfc10sm3061027b3.19.2025.07.08.18.41.43 (version=TLS1_2 cipher=ECDHE-ECDSA-AES128-GCM-SHA256 bits=128/128); Tue, 08 Jul 2025 18:41:43 -0700 (PDT) X-Relaying-Domain: iol.unh.edu Date: Tue, 08 Jul 2025 18:41:43 -0700 (PDT) Message-ID: <686dc8d7.050a0220.2efb27.0be2SMTPIN_ADDED_MISSING@mx.google.com> Received: from [172.21.0.9] (unknown [172.18.0.240]) by postal.iol.unh.edu (Postfix) with ESMTP id EA9686051830; Tue, 8 Jul 2025 21:41:42 -0400 (EDT) Subject: |WARNING| pw154979-154986 [PATCH] [v7,8/8] bus/dpaa: optimize qman e From: dpdklab@iol.unh.edu To: Test Report Cc: dpdk-test-reports@iol.unh.edu In-Reply-To: <20250703052558.3700573-9-vanshika.shukla@nxp.com> References: <20250703052558.3700573-9-vanshika.shukla@nxp.com> Content-Type: text/plain X-BeenThere: test-report@dpdk.org X-Mailman-Version: 2.1.29 Precedence: list List-Id: automatic DPDK test reports List-Unsubscribe: , List-Archive: List-Post: List-Help: List-Subscribe: , Errors-To: test-report-bounces@dpdk.org Test-Label: iol-compile-amd64-testing Test-Status: WARNING http://dpdk.org/patch/154986 _Testing issues_ Submitter: Vanshika Shukla Date: Thursday, July 03 2025 05:25:58 DPDK git baseline: Repo:dpdk Branch: master CommitID:ba982f9a1ca9b96ed0394b764f1523d482e963a2 154979-154986 --> testing issues Upstream job id: Generic-DPDK-Compile-Meson#406842 Test environment and result as below: +-------------------------------+--------------------+-------------------+------------------+-------------------+ | Environment | dpdk_meson_compile | dpdk_compile_spdk | dpdk_compile_ovs | dpdk_msvc_compile | +===============================+====================+===================+==================+===================+ | CentOS Stream 9 | PASS | PASS | SKIPPED | SKIPPED | +-------------------------------+--------------------+-------------------+------------------+-------------------+ | Debian GNU/Linux 12 | PASS | PASS | SKIPPED | SKIPPED | +-------------------------------+--------------------+-------------------+------------------+-------------------+ | CentOS Stream 10 | PASS | SKIPPED | SKIPPED | SKIPPED | +-------------------------------+--------------------+-------------------+------------------+-------------------+ | Fedora Linux 40 | PASS | PASS | SKIPPED | SKIPPED | +-------------------------------+--------------------+-------------------+------------------+-------------------+ | Fedora Linux 41 | PASS | PASS | PASS | SKIPPED | +-------------------------------+--------------------+-------------------+------------------+-------------------+ | openSUSE Leap 15.6 | PASS | SKIPPED | SKIPPED | SKIPPED | +-------------------------------+--------------------+-------------------+------------------+-------------------+ | Ubuntu 24.04 | PASS | PASS | PASS | SKIPPED | +-------------------------------+--------------------+-------------------+------------------+-------------------+ | Ubuntu 22.04 | PASS | PASS | SKIPPED | SKIPPED | +-------------------------------+--------------------+-------------------+------------------+-------------------+ | Ubuntu 20.04 | PASS | SKIPPED | SKIPPED | SKIPPED | +-------------------------------+--------------------+-------------------+------------------+-------------------+ | FreeBSD 14.2 | PASS | SKIPPED | SKIPPED | SKIPPED | +-------------------------------+--------------------+-------------------+------------------+-------------------+ | Red Hat Enterprise Linux 9.5 | PASS | SKIPPED | SKIPPED | SKIPPED | +-------------------------------+--------------------+-------------------+------------------+-------------------+ | Alpine Linux 3.22.0 | PASS | SKIPPED | SKIPPED | SKIPPED | +-------------------------------+--------------------+-------------------+------------------+-------------------+ | Red Hat Enterprise Linux 8.10 | PASS | SKIPPED | SKIPPED | SKIPPED | +-------------------------------+--------------------+-------------------+------------------+-------------------+ | Windows Server 2022 | SKIPPED | SKIPPED | SKIPPED | PASS | +-------------------------------+--------------------+-------------------+------------------+-------------------+ CentOS Stream 9 Kernel: 5.15 Compiler: gcc gcc (GCC) 11.5.0 20240719 (Red Hat 11.5.0-7) Debian GNU/Linux 12 Kernel: 5.15 Compiler: gcc gcc (Debian 12.2.0-14+deb12u1) 12.2.0 CentOS Stream 10 Kernel: 5.15 Compiler: gcc gcc (GCC) 14.2.1 20250110 (Red Hat 14.2.1-8) Fedora Linux 40 Kernel: 5.15 Compiler: clang gcc (GCC) 14.2.1 20240912 (Red Hat 14.2.1-3) Fedora Linux 41 Kernel: 5.15 Compiler: clang gcc (GCC) 14.3.1 20250523 (Red Hat 14.3.1-1) openSUSE Leap 15.6 Kernel: 5.15 Compiler: gcc gcc (SUSE Linux) 7.5.0 Ubuntu 24.04 Kernel: 5.15 Compiler: gcc gcc (Ubuntu 13.3.0-6ubuntu2~24.04) 13.3.0 Ubuntu 22.04 Kernel: 5.15 Compiler: gcc gcc (Ubuntu 11.4.0-1ubuntu1~22.04) 11.4.0 Ubuntu 20.04 Kernel: 5.15 Compiler: gcc gcc (Ubuntu 9.4.0-1ubuntu1~20.04.2) 9.4.0 FreeBSD 14.2 Kernel: 14.2-RELEASE Compiler: clang 18.1.6 Red Hat Enterprise Linux 9.5 Kernel: 5.15 Compiler: gcc gcc (GCC) 11.5.0 20240719 (Red Hat 11.5.0-2) Alpine Linux 3.22.0 Kernel: 5.15 Compiler: gcc gcc (Alpine 14.2.0) 14.2.0 Red Hat Enterprise Linux 8.10 Kernel: 5.15 Compiler: gcc gcc (GCC) 8.5.0 20210514 (Red Hat 8.5.0-22) Windows Server 2022 Kernel: 10.0.20348.2031 Compiler: clang 15.0.7, gcc 14.1.0 (MinGW), and MSVC VS 19.39.33521 To view detailed results, visit: https://lab.dpdk.org/results/dashboard/patchsets/33576/ UNH-IOL DPDK Community Lab To manage your email subscriptions, visit: https://lab.dpdk.org/results/dashboard/preferences/subscriptions/