From mboxrd@z Thu Jan 1 00:00:00 1970 Return-Path: Received: from mails.dpdk.org (mails.dpdk.org [217.70.189.124]) by inbox.dpdk.org (Postfix) with ESMTP id 4911046A8F for ; Wed, 9 Jul 2025 03:42:15 +0200 (CEST) Received: from mails.dpdk.org (localhost [127.0.0.1]) by mails.dpdk.org (Postfix) with ESMTP id 453244013F; Wed, 9 Jul 2025 03:42:15 +0200 (CEST) Received: from mail-oa1-f100.google.com (mail-oa1-f100.google.com [209.85.160.100]) by mails.dpdk.org (Postfix) with ESMTP id 403DB4013F for ; Wed, 9 Jul 2025 03:42:14 +0200 (CEST) Received: by mail-oa1-f100.google.com with SMTP id 586e51a60fabf-2edec6c5511so1427781fac.2 for ; Tue, 08 Jul 2025 18:42:14 -0700 (PDT) DKIM-Signature: v=1; a=rsa-sha256; c=relaxed/relaxed; d=iol.unh.edu; s=unh-iol; t=1752025333; x=1752630133; darn=dpdk.org; h=references:in-reply-to:cc:to:from:subject:message-id:date:from:to :cc:subject:date:message-id:reply-to; bh=v0ozVB6hbYF5TvdZLgsuV6QCUXdZ11pGu/DTrnWpM1o=; b=FERsKgIqqfe1aI1d2PZOLB07CxTBUzV9NAhrPrlnpRSVlq9lzH6T2rEyHvAu2Gh1m+ QIg14kfo9jydPBIsirsCyhE2OfVyPoqQUTCYdlDR5IPeZ8ywvcJ4zko08/gOuIjN7mkH Yig8zopHA5RlrafG4wSIXzzgvTLUlZIQIYL60= X-Google-DKIM-Signature: v=1; a=rsa-sha256; c=relaxed/relaxed; d=1e100.net; s=20230601; t=1752025333; x=1752630133; h=references:in-reply-to:cc:to:from:subject:message-id:date :x-gm-message-state:from:to:cc:subject:date:message-id:reply-to; bh=v0ozVB6hbYF5TvdZLgsuV6QCUXdZ11pGu/DTrnWpM1o=; b=exmD3HKWCZo7sZN5F+8ej4Mgok9aqbjXrP0JZP+FyfztiG1a8JeqD7PrHfMc2znDk/ 1JysKfluc0teD9cv12JnthLGcu9kvPI/KGjfcxFQpqSSGpo5a+sxiKFzvK3tiQFya+DA 7bNXvrvSUsY2CKwzaBs1wHZUGH/wXgZ7MnC9Qw/GCYS5iY8vPc5LziglvLwRx9Tkiw61 qv6pPt6vJn1mvb+RypDuV4KcPsmabke842abu9/zi7kMDZAcYF6oUQmbj3HvLSOEXgoS ohiFuOgP0xgBj3lWr0kSpbGKhK2kt66KSJCnjE2G/eXLFwU0n3ldWyfbnjh+Imyo2LEw GAbA== X-Gm-Message-State: AOJu0Yw9OrfjMBaWiReUtRj4ZDhm+D+heHYha86POIasE5BLG8DgNKrX mIJfmthgHLa0nC7tkuaUP7Of6weZFF97olSOC1AmXIqA4cpzLjQad4qbxGjeYmJBq+GVvK5ZY3m HCFu21DndqUoJ+9OCtKF8RD3Uu+rpbDhFMNniBq6cib9vf/Xf+q6OPErxv51J X-Gm-Gg: ASbGncsEnyydUIfN7cOeCQy2LncE28vJKnp1uJLNRgBDqjYn0lrbNreYQPTvKlxFz8Y 8vtC9Kzs3INLep28iX84GkjZGce4mRuZFkH5HYg3bL35Y/t4XJJgPTlrp/wRTYE61MXzjiIlG82 bQKs+iDL71m/8AoCY0rcwq9IHJFakocLga0mHxuGG6fjeN6py3ZjKH+HJZxZh5CWanmKpRylNul bTqRlgdGRKezP886dony6CupBEnB/TGjWjewGJ5AraOIAufwUjaTiM7VWNoPz7cTNN4XBRlaMTD Ah0WUMjA1heybCLM7EUMrgmOGgDXUpVMCa2sr7BmBf72Yb0= X-Google-Smtp-Source: AGHT+IEqJcL0wNPmYwQ9XqavJekGfZzu/LbQps1hZ0l+ti8yANCRqNlZwAiO1VSj8yGBsA/0/C6J1IToJcYM X-Received: by 2002:a05:6870:6120:b0:2c1:62e9:584b with SMTP id 586e51a60fabf-2fef88345c9mr410744fac.39.1752025333448; Tue, 08 Jul 2025 18:42:13 -0700 (PDT) Received: from postal.iol.unh.edu (postal.iol.unh.edu. [2606:4100:3880:1234::84]) by smtp-relay.gmail.com with ESMTPS id 586e51a60fabf-2f78fe5dc79sm741576fac.14.2025.07.08.18.42.13 (version=TLS1_2 cipher=ECDHE-ECDSA-AES128-GCM-SHA256 bits=128/128); Tue, 08 Jul 2025 18:42:13 -0700 (PDT) X-Relaying-Domain: iol.unh.edu Date: Tue, 08 Jul 2025 18:42:13 -0700 (PDT) Message-ID: <686dc8f5.050a0220.2b8074.7119SMTPIN_ADDED_MISSING@mx.google.com> Received: from [172.21.0.10] (unknown [172.18.0.240]) by postal.iol.unh.edu (Postfix) with ESMTP id C0ADE6051830; Tue, 8 Jul 2025 21:42:12 -0400 (EDT) Subject: |WARNING| pw154996 [PATCH] [v1] net/iavf: fix VLAN strip disabling f From: dpdklab@iol.unh.edu To: Test Report Cc: dpdk-test-reports@iol.unh.edu In-Reply-To: <20250703084234.8037-1-amiyaranjan.mohakud@gmail.com> References: <20250703084234.8037-1-amiyaranjan.mohakud@gmail.com> Content-Type: text/plain X-BeenThere: test-report@dpdk.org X-Mailman-Version: 2.1.29 Precedence: list List-Id: automatic DPDK test reports List-Unsubscribe: , List-Archive: List-Post: List-Help: List-Subscribe: , Errors-To: test-report-bounces@dpdk.org Test-Label: iol-compile-amd64-testing Test-Status: WARNING http://dpdk.org/patch/154996 _Testing issues_ Submitter: Amiya Ranjan Mohakud Date: Thursday, July 03 2025 08:42:34 DPDK git baseline: Repo:dpdk Branch: master CommitID:a6b10031d251fcc7dadede461f7e1d005024b139 154996 --> testing issues Upstream job id: Windows-Compile-DPDK-Native#29661 Test environment and result as below: +-------------------------------+--------------------+-------------------+------------------+-------------------+-------------------------+----------------------+ | Environment | dpdk_meson_compile | dpdk_compile_spdk | dpdk_compile_ovs | dpdk_msvc_compile | dpdk_llvm_clang_compile | dpdk_mingw64_compile | +===============================+====================+===================+==================+===================+=========================+======================+ | CentOS Stream 9 | PASS | PASS | SKIPPED | SKIPPED | SKIPPED | SKIPPED | +-------------------------------+--------------------+-------------------+------------------+-------------------+-------------------------+----------------------+ | CentOS Stream 10 | PASS | SKIPPED | SKIPPED | SKIPPED | SKIPPED | SKIPPED | +-------------------------------+--------------------+-------------------+------------------+-------------------+-------------------------+----------------------+ | Fedora Linux 40 | PASS | PASS | SKIPPED | SKIPPED | SKIPPED | SKIPPED | +-------------------------------+--------------------+-------------------+------------------+-------------------+-------------------------+----------------------+ | Debian GNU/Linux 12 | PASS | PASS | SKIPPED | SKIPPED | SKIPPED | SKIPPED | +-------------------------------+--------------------+-------------------+------------------+-------------------+-------------------------+----------------------+ | Fedora Linux 41 | PASS | PASS | PASS | SKIPPED | SKIPPED | SKIPPED | +-------------------------------+--------------------+-------------------+------------------+-------------------+-------------------------+----------------------+ | openSUSE Leap 15.6 | PASS | SKIPPED | SKIPPED | SKIPPED | SKIPPED | SKIPPED | +-------------------------------+--------------------+-------------------+------------------+-------------------+-------------------------+----------------------+ | Red Hat Enterprise Linux 8.10 | PASS | SKIPPED | SKIPPED | SKIPPED | SKIPPED | SKIPPED | +-------------------------------+--------------------+-------------------+------------------+-------------------+-------------------------+----------------------+ | Ubuntu 20.04 | PASS | SKIPPED | SKIPPED | SKIPPED | SKIPPED | SKIPPED | +-------------------------------+--------------------+-------------------+------------------+-------------------+-------------------------+----------------------+ | Ubuntu 24.04 | PASS | PASS | PASS | SKIPPED | SKIPPED | SKIPPED | +-------------------------------+--------------------+-------------------+------------------+-------------------+-------------------------+----------------------+ | Ubuntu 22.04 | PASS | PASS | SKIPPED | SKIPPED | SKIPPED | SKIPPED | +-------------------------------+--------------------+-------------------+------------------+-------------------+-------------------------+----------------------+ | Red Hat Enterprise Linux 9.5 | PASS | SKIPPED | SKIPPED | SKIPPED | SKIPPED | SKIPPED | +-------------------------------+--------------------+-------------------+------------------+-------------------+-------------------------+----------------------+ | Alpine Linux 3.22.0 | PASS | SKIPPED | SKIPPED | SKIPPED | SKIPPED | SKIPPED | +-------------------------------+--------------------+-------------------+------------------+-------------------+-------------------------+----------------------+ | FreeBSD 14.2 | PASS | SKIPPED | SKIPPED | SKIPPED | SKIPPED | SKIPPED | +-------------------------------+--------------------+-------------------+------------------+-------------------+-------------------------+----------------------+ | Windows Server 2022 | SKIPPED | SKIPPED | SKIPPED | PASS | PASS | PASS | +-------------------------------+--------------------+-------------------+------------------+-------------------+-------------------------+----------------------+ CentOS Stream 9 Kernel: 5.15 Compiler: gcc gcc (GCC) 11.5.0 20240719 (Red Hat 11.5.0-7) CentOS Stream 10 Kernel: 5.15 Compiler: gcc gcc (GCC) 14.2.1 20250110 (Red Hat 14.2.1-8) Fedora Linux 40 Kernel: 5.15 Compiler: clang gcc (GCC) 14.2.1 20240912 (Red Hat 14.2.1-3) Debian GNU/Linux 12 Kernel: 5.15 Compiler: gcc gcc (Debian 12.2.0-14+deb12u1) 12.2.0 Fedora Linux 41 Kernel: 5.15 Compiler: clang gcc (GCC) 14.3.1 20250523 (Red Hat 14.3.1-1) openSUSE Leap 15.6 Kernel: 5.15 Compiler: gcc gcc (SUSE Linux) 7.5.0 Red Hat Enterprise Linux 8.10 Kernel: 5.15 Compiler: gcc gcc (GCC) 8.5.0 20210514 (Red Hat 8.5.0-22) Ubuntu 20.04 Kernel: 5.15 Compiler: gcc gcc (Ubuntu 9.4.0-1ubuntu1~20.04.2) 9.4.0 Ubuntu 24.04 Kernel: 5.15 Compiler: gcc gcc (Ubuntu 13.3.0-6ubuntu2~24.04) 13.3.0 Ubuntu 22.04 Kernel: 5.15 Compiler: gcc gcc (Ubuntu 11.4.0-1ubuntu1~22.04) 11.4.0 Red Hat Enterprise Linux 9.5 Kernel: 5.15 Compiler: gcc gcc (GCC) 11.5.0 20240719 (Red Hat 11.5.0-2) Alpine Linux 3.22.0 Kernel: 5.15 Compiler: gcc gcc (Alpine 14.2.0) 14.2.0 FreeBSD 14.2 Kernel: 14.2-RELEASE Compiler: clang 18.1.6 Windows Server 2022 Kernel: 10.0.20348.2031 Compiler: clang 15.0.7, gcc 14.1.0 (MinGW), and MSVC VS 19.39.33521 To view detailed results, visit: https://lab.dpdk.org/results/dashboard/patchsets/33579/ UNH-IOL DPDK Community Lab To manage your email subscriptions, visit: https://lab.dpdk.org/results/dashboard/preferences/subscriptions/