From mboxrd@z Thu Jan 1 00:00:00 1970 Return-Path: Received: from mails.dpdk.org (mails.dpdk.org [217.70.189.124]) by inbox.dpdk.org (Postfix) with ESMTP id E646546A8F for ; Wed, 9 Jul 2025 03:49:39 +0200 (CEST) Received: from mails.dpdk.org (localhost [127.0.0.1]) by mails.dpdk.org (Postfix) with ESMTP id E1EE34013F; Wed, 9 Jul 2025 03:49:39 +0200 (CEST) Received: from mail-il1-f226.google.com (mail-il1-f226.google.com [209.85.166.226]) by mails.dpdk.org (Postfix) with ESMTP id 64D264013F for ; Wed, 9 Jul 2025 03:49:39 +0200 (CEST) Received: by mail-il1-f226.google.com with SMTP id e9e14a558f8ab-3e058e82584so44707615ab.2 for ; Tue, 08 Jul 2025 18:49:39 -0700 (PDT) DKIM-Signature: v=1; a=rsa-sha256; c=relaxed/relaxed; d=iol.unh.edu; s=unh-iol; t=1752025778; x=1752630578; darn=dpdk.org; h=references:in-reply-to:cc:to:from:subject:message-id:date:from:to :cc:subject:date:message-id:reply-to; bh=+4nZh/hthpv1hKjVlH5+4p+eWyX1oUi0VMyeyQZYfH4=; b=fsSl/BYuDjuT9QzAj3jvAFsyKpjbSfZNvPzi4E80Bey5lzNgFbWbpLYZpmjDJELb5V weT3W1s5Wn8Wg3bqCGMzmPi81SGfbVd9nluiK0ZcG62t51lKvjeY9bsjWWJDA8m4CzY9 AFIsljDEKOIHYLSKhiQHVKnj7WU+CfOt0lon8= X-Google-DKIM-Signature: v=1; a=rsa-sha256; c=relaxed/relaxed; d=1e100.net; s=20230601; t=1752025778; x=1752630578; h=references:in-reply-to:cc:to:from:subject:message-id:date :x-gm-message-state:from:to:cc:subject:date:message-id:reply-to; bh=+4nZh/hthpv1hKjVlH5+4p+eWyX1oUi0VMyeyQZYfH4=; b=ppD3I4VQyzQKwv/7q8TPN8K2NnAuo2d97o1Xxy534r7kkVxcmnZXx+7X1eIlSjRrri 5H2zJCtvh0UdOvH3A8uyLLPxcnxkJmxMU4FzB63p7orVB2RtB+7dsNHJ4BVMGlSkkr1b qxKnVPMjVP4R6vh3NX26MtI1vWvODlFd5bk+nEbBZxjBGq6ov+UVb5QZoXi32lZ9P8sm rucUPdPDbw/R4Hj1aXdyZRGtXdiGnXYlR9rOmVQD/52InbHvnq1DoGVTuYjkyumeJXey fT4NzgLEqGRY7NV/n86/iQNd1o5PXhCoHX5a1aMmLkIqp3XuceMAyGXAw+Pq2oxyyVkX bwyg== X-Gm-Message-State: AOJu0YwLMxaHN9VywLoempoKVioBJ1z240C9tfRy5b3DvMvNl1Oq02fH onQQi3p6YoXR3rFsNTujQWSlBJTHMSf6FCQju7vNXG9dNj8N7h2G4Em5aDuQ7E5T4OBQjaxaJrs 64ZLZfxRWOj32hrR1f9xO47Thj39+loLs2hbpOAhuJPUa X-Gm-Gg: ASbGncs/CdN1smB+wudrM+K1Kb21hMWucy7Nr3yUh9Y/Yskc4zanhQqfVtQMcgLvQuk yeMPqVDHiUuGUl4WjW1F0fFHXeHAqQmxyF66rNT2YaIUJz1/A11pBWvipTaYsgzqdOzqNvjXPM0 SZTy3YDbhwMuJwzWCbf1MiLpTICwPFeJErfT8Kwb9tenjBcLFLQnfVXFBRqW2JKlgmS/LMZAN3m PK/dDUJwfPhzX809lOm4DQWn7/LslFknWRx6r16kqLSoZ/biSUCG1/IG9qeVMj/hqxbBAz7eo3O XOOhRXIRpydCXbVX7t2g0wrXAT2HMF2Z7MSAF6o4drdw5osI1wtLjVgxPyPQoDoxSjNKSA== X-Google-Smtp-Source: AGHT+IFxsfXoNTBpa9SeUDMmBhvAaMP0NYL79gz8T8fRggV9k+JfmUmaA+HLyTL4Xj7V6+2TzkXGUzyJwqes X-Received: by 2002:a92:ca0f:0:b0:3dc:7563:c3d7 with SMTP id e9e14a558f8ab-3e1670d0b6bmr10851715ab.12.1752025778712; Tue, 08 Jul 2025 18:49:38 -0700 (PDT) Received: from postal.iol.unh.edu (postal.iol.unh.edu. [132.177.123.84]) by smtp-relay.gmail.com with ESMTPS id 8926c6da1cb9f-503b5baed8fsm388187173.52.2025.07.08.18.49.38 (version=TLS1_2 cipher=ECDHE-ECDSA-AES128-GCM-SHA256 bits=128/128); Tue, 08 Jul 2025 18:49:38 -0700 (PDT) X-Relaying-Domain: iol.unh.edu Date: Tue, 08 Jul 2025 18:49:38 -0700 (PDT) Message-ID: <686dcab2.050a0220.325eae.4ad6SMTPIN_ADDED_MISSING@mx.google.com> Received: from [172.21.0.7] (unknown [172.18.0.240]) by postal.iol.unh.edu (Postfix) with ESMTP id 398366051830; Tue, 8 Jul 2025 21:49:38 -0400 (EDT) Subject: |SUCCESS| pw154998 [PATCH] [v2] net/iavf: fix VLAN strip disabling f From: dpdklab@iol.unh.edu To: Test Report Cc: dpdk-test-reports@iol.unh.edu In-Reply-To: <20250703101758.9973-1-amiyaranjan.mohakud@gmail.com> References: <20250703101758.9973-1-amiyaranjan.mohakud@gmail.com> Content-Type: text/plain X-BeenThere: test-report@dpdk.org X-Mailman-Version: 2.1.29 Precedence: list List-Id: automatic DPDK test reports List-Unsubscribe: , List-Archive: List-Post: List-Help: List-Subscribe: , Errors-To: test-report-bounces@dpdk.org Test-Label: iol-compile-arm64-testing Test-Status: SUCCESS http://dpdk.org/patch/154998 _Testing PASS_ Submitter: Amiya Ranjan Mohakud Date: Thursday, July 03 2025 10:17:58 DPDK git baseline: Repo:dpdk Branch: master CommitID:a6b10031d251fcc7dadede461f7e1d005024b139 154998 --> testing pass Upstream job id: Generic-DPDK-Compile-Meson#406746 Test environment and result as below: +------------------------------+--------------------+ | Environment | dpdk_meson_compile | +==============================+====================+ | Red Hat Enterprise Linux 9.5 | PASS | +------------------------------+--------------------+ | Ubuntu 20.04 | PASS | +------------------------------+--------------------+ | Debian GNU/Linux 12 | PASS | +------------------------------+--------------------+ | Fedora Linux 40 | PASS | +------------------------------+--------------------+ | Fedora Linux 41 | PASS | +------------------------------+--------------------+ | Ubuntu 22.04 | PASS | +------------------------------+--------------------+ | Ubuntu 24.04 | PASS | +------------------------------+--------------------+ | CentOS Stream 9 | PASS | +------------------------------+--------------------+ | CentOS Stream 10 | PASS | +------------------------------+--------------------+ Red Hat Enterprise Linux 9.5 Kernel: 5.4 Compiler: gcc gcc (GCC) 11.5.0 20240719 (Red Hat 11.5.0-2) Ubuntu 20.04 Kernel: 5.15 Compiler: aarch64-linux-gnu-gcc gcc (Ubuntu 9.4.0-1ubuntu1~20.04.2) 9.4.0 Debian GNU/Linux 12 Kernel: 5.4 Compiler: gcc gcc (Debian 12.2.0-14+deb12u1) 12.2.0 Fedora Linux 40 Kernel: 5.4 Compiler: gcc gcc (GCC) 14.2.1 20240912 (Red Hat 14.2.1-3) Fedora Linux 41 Kernel: 5.4 Compiler: gcc gcc (GCC) 14.3.1 20250523 (Red Hat 14.3.1-1) Ubuntu 22.04 Kernel: 5.4 Compiler: gcc gcc (Ubuntu 11.4.0-1ubuntu1~22.04) 11.4.0 Ubuntu 24.04 Kernel: 5.4 Compiler: gcc gcc (Ubuntu 13.3.0-6ubuntu2~24.04) 13.3.0 CentOS Stream 9 Kernel: 5.4 Compiler: gcc gcc (GCC) 11.5.0 20240719 (Red Hat 11.5.0-7) CentOS Stream 10 Kernel: 5.4 Compiler: gcc gcc (GCC) 14.2.1 20250110 (Red Hat 14.2.1-8) To view detailed results, visit: https://lab.dpdk.org/results/dashboard/patchsets/33581/ UNH-IOL DPDK Community Lab To manage your email subscriptions, visit: https://lab.dpdk.org/results/dashboard/preferences/subscriptions/