From mboxrd@z Thu Jan 1 00:00:00 1970 Return-Path: Received: from mails.dpdk.org (mails.dpdk.org [217.70.189.124]) by inbox.dpdk.org (Postfix) with ESMTP id 69EF846A8F for ; Wed, 9 Jul 2025 03:52:55 +0200 (CEST) Received: from mails.dpdk.org (localhost [127.0.0.1]) by mails.dpdk.org (Postfix) with ESMTP id 45D864013F; Wed, 9 Jul 2025 03:52:55 +0200 (CEST) Received: from mail-pl1-f225.google.com (mail-pl1-f225.google.com [209.85.214.225]) by mails.dpdk.org (Postfix) with ESMTP id 675684013F for ; Wed, 9 Jul 2025 03:52:54 +0200 (CEST) Received: by mail-pl1-f225.google.com with SMTP id d9443c01a7336-235f9ea8d08so45326285ad.1 for ; Tue, 08 Jul 2025 18:52:54 -0700 (PDT) DKIM-Signature: v=1; a=rsa-sha256; c=relaxed/relaxed; d=iol.unh.edu; s=unh-iol; t=1752025973; x=1752630773; darn=dpdk.org; h=references:in-reply-to:cc:to:from:subject:message-id:date:from:to :cc:subject:date:message-id:reply-to; bh=oUxx5nuee6VQ1d0j40PfLUcXyyTdA02C2olzQWmvQqQ=; b=fkj9Q7+7pUkK8RnBxVGuqTzmeTzMknkNU7sLJrDdbN156OxvFpD77bM/sPgmdSBJ/t ExspUYQUk9cdvIMozqbj7+HG0cyFtfnrhciP8+5HRzUzjrAo9kihufi7EzWytPb700ZN TQRQwCQ9QvCOa+Ykz6SxPnGUbQ6YW6fXhN+Wo= X-Google-DKIM-Signature: v=1; a=rsa-sha256; c=relaxed/relaxed; d=1e100.net; s=20230601; t=1752025973; x=1752630773; h=references:in-reply-to:cc:to:from:subject:message-id:date :x-gm-message-state:from:to:cc:subject:date:message-id:reply-to; bh=oUxx5nuee6VQ1d0j40PfLUcXyyTdA02C2olzQWmvQqQ=; b=J0SPjDwLxN1hs40QwPhoNo6rr48ETYkCV8nkSv3OUB5TZr0muopWDcWxVSA0TOQX+W 6hVGADHXRnoocpvnp63VubAM7uQ2sPOYgjE0Kj1DzCAzEJGK0E7V56vL6N0H4oNbxNRd /S8Vi8rqpPr+eKr1exIirfUOPvg+rDPtf+pK403/AoQG3ctVCVjZ9uRtiF/qUZj6EhIm 2mu3NtBHOhv2ymPBSUPhhoKVcy9OmTgfY+/nRvr01SyatOTgODixwFD7u4ypmMZcqlsT 5R89VJoaimJbCXExgu5G4j7vfsPurNo0+7iJWtassIC3EFeicIT2GZeSJV6M+TJ4dEFB J0Rg== X-Gm-Message-State: AOJu0YzoJTEA4YeTz3mcjDMVesukdnsQT0dle/SV2GmJ51BiVFhScJGr OTj6fzNLoQXsuboDdNy1F2Uwv8UIt1UBIv2N4a3+VQ0htqqsWlZ8LVXj8lVvNwr7XW//RMnJS6T w8ZKEDWM45u4SfkN0uSud89tmW4PL9lv1afbzV38JniBy5gx9fDmwA9iciLdX X-Gm-Gg: ASbGnct7uoB2oy7SztpeRPjwiotvIqt31XE2XRZux72lrKgfghYBUJ0yHElTOHzyb1n QJ1h/Sw4tzmDTdJyBAjj0CoN4J6wGzd6LBCjg1+3gFnOzXQ+8SGkzYx/V51OMej+InyJ7pKJMUF 08aO9ofOlUAFg4v5/AdKUjZYC1Wv1NVYnXZEUbCwhK3JWkqmNVPStu3S6obeOE8Zh7KhxCkkaCb NaZKdhQPf10fwq9lRuxcKZVSAchTot3Yg5GC4l4hsJWVp+f8jDB7HUXC+OJLvEc20ZqGTUtwPR/ Ak3FBeMB37LnSLGJ8defAanyvoVxeyadZdv53HoCcyAIcjw= X-Google-Smtp-Source: AGHT+IFw3j/SHEbJnCsUhx0EsGuUc3ZWlFT0MQsykGC/Ugv2wAAwKsfoPVc+fAPZHbkbizNrCG2zc1Cpvdi5 X-Received: by 2002:a17:903:19c8:b0:234:bca7:292e with SMTP id d9443c01a7336-23ddb1b6160mr12128855ad.14.1752025973455; Tue, 08 Jul 2025 18:52:53 -0700 (PDT) Received: from postal.iol.unh.edu (postal.iol.unh.edu. [2606:4100:3880:1234::84]) by smtp-relay.gmail.com with ESMTPS id d9443c01a7336-23c845198c5sm5819915ad.116.2025.07.08.18.52.53 (version=TLS1_2 cipher=ECDHE-ECDSA-AES128-GCM-SHA256 bits=128/128); Tue, 08 Jul 2025 18:52:53 -0700 (PDT) X-Relaying-Domain: iol.unh.edu Date: Tue, 08 Jul 2025 18:52:53 -0700 (PDT) Message-ID: <686dcb75.170a0220.2dd944.e365SMTPIN_ADDED_MISSING@mx.google.com> Received: from [172.21.0.8] (unknown [172.18.0.240]) by postal.iol.unh.edu (Postfix) with ESMTP id 988296051830; Tue, 8 Jul 2025 21:52:52 -0400 (EDT) Subject: |SUCCESS| pw154968 [PATCH] build/x86: fix support for older compiler From: dpdklab@iol.unh.edu To: Test Report Cc: dpdk-test-reports@iol.unh.edu In-Reply-To: <20250702155129.3440210-1-bruce.richardson@intel.com> References: <20250702155129.3440210-1-bruce.richardson@intel.com> Content-Type: text/plain X-BeenThere: test-report@dpdk.org X-Mailman-Version: 2.1.29 Precedence: list List-Id: automatic DPDK test reports List-Unsubscribe: , List-Archive: List-Post: List-Help: List-Subscribe: , Errors-To: test-report-bounces@dpdk.org Test-Label: iol-compile-arm64-testing Test-Status: SUCCESS http://dpdk.org/patch/154968 _Testing PASS_ Submitter: Bruce Richardson Date: Wednesday, July 02 2025 15:51:29 DPDK git baseline: Repo:dpdk Branch: master CommitID:5d47e73e5f4f2eb69bd73f642cfd72b49436bf96 154968 --> testing pass Upstream job id: Generic-DPDK-Compile-Meson#406728 Test environment and result as below: +------------------------------+--------------------+ | Environment | dpdk_meson_compile | +==============================+====================+ | Red Hat Enterprise Linux 9.5 | PASS | +------------------------------+--------------------+ | Ubuntu 20.04 | PASS | +------------------------------+--------------------+ | Debian GNU/Linux 12 | PASS | +------------------------------+--------------------+ | Fedora Linux 40 | PASS | +------------------------------+--------------------+ | Fedora Linux 41 | PASS | +------------------------------+--------------------+ | Ubuntu 22.04 | PASS | +------------------------------+--------------------+ | Ubuntu 24.04 | PASS | +------------------------------+--------------------+ | CentOS Stream 9 | PASS | +------------------------------+--------------------+ | CentOS Stream 10 | PASS | +------------------------------+--------------------+ Red Hat Enterprise Linux 9.5 Kernel: 5.4 Compiler: gcc gcc (GCC) 11.5.0 20240719 (Red Hat 11.5.0-2) Ubuntu 20.04 Kernel: 5.4 Compiler: gcc gcc (Ubuntu 9.4.0-1ubuntu1~20.04.2) 9.4.0 Debian GNU/Linux 12 Kernel: 5.4 Compiler: gcc gcc (Debian 12.2.0-14+deb12u1) 12.2.0 Fedora Linux 40 Kernel: 5.4 Compiler: gcc gcc (GCC) 14.2.1 20240912 (Red Hat 14.2.1-3) Fedora Linux 41 Kernel: 5.4 Compiler: gcc gcc (GCC) 14.3.1 20250523 (Red Hat 14.3.1-1) Ubuntu 22.04 Kernel: 5.4 Compiler: gcc gcc (Ubuntu 11.4.0-1ubuntu1~22.04) 11.4.0 Ubuntu 24.04 Kernel: 5.4 Compiler: gcc gcc (Ubuntu 13.3.0-6ubuntu2~24.04) 13.3.0 CentOS Stream 9 Kernel: 5.4 Compiler: gcc gcc (GCC) 11.5.0 20240719 (Red Hat 11.5.0-7) CentOS Stream 10 Kernel: 5.4 Compiler: gcc gcc (GCC) 14.2.1 20250110 (Red Hat 14.2.1-8) To view detailed results, visit: https://lab.dpdk.org/results/dashboard/patchsets/33569/ UNH-IOL DPDK Community Lab To manage your email subscriptions, visit: https://lab.dpdk.org/results/dashboard/preferences/subscriptions/