automatic DPDK test reports
 help / color / mirror / Atom feed
From: dpdklab@iol.unh.edu
To: Test Report <test-report@dpdk.org>
Cc: dpdk-test-reports@iol.unh.edu
Subject: |WARNING| pw154979-154986 [PATCH] [v7,8/8] bus/dpaa: optimize qman e
Date: Tue, 08 Jul 2025 19:11:40 -0700 (PDT)	[thread overview]
Message-ID: <686dcfdc.050a0220.317f9e.063cSMTPIN_ADDED_MISSING@mx.google.com> (raw)
In-Reply-To: <20250703052558.3700573-9-vanshika.shukla@nxp.com>

Test-Label: iol-compile-amd64-testing
Test-Status: WARNING
http://dpdk.org/patch/154986

_Testing issues_

Submitter: Vanshika Shukla <vanshika.shukla@nxp.com>
Date: Thursday, July 03 2025 05:25:58 
DPDK git baseline: Repo:dpdk
  Branch: master
  CommitID:ba982f9a1ca9b96ed0394b764f1523d482e963a2

154979-154986 --> testing issues

Upstream job id: Windows-Compile-DPDK-Native#29662

Test environment and result as below:

+-------------------------------+--------------------+-------------------+------------------+-------------------+-------------------------+
|          Environment          | dpdk_meson_compile | dpdk_compile_spdk | dpdk_compile_ovs | dpdk_msvc_compile | dpdk_llvm_clang_compile |
+===============================+====================+===================+==================+===================+=========================+
| CentOS Stream 9               | PASS               | PASS              | SKIPPED          | SKIPPED           | SKIPPED                 |
+-------------------------------+--------------------+-------------------+------------------+-------------------+-------------------------+
| Debian GNU/Linux 12           | PASS               | PASS              | SKIPPED          | SKIPPED           | SKIPPED                 |
+-------------------------------+--------------------+-------------------+------------------+-------------------+-------------------------+
| CentOS Stream 10              | PASS               | SKIPPED           | SKIPPED          | SKIPPED           | SKIPPED                 |
+-------------------------------+--------------------+-------------------+------------------+-------------------+-------------------------+
| Fedora Linux 40               | PASS               | PASS              | SKIPPED          | SKIPPED           | SKIPPED                 |
+-------------------------------+--------------------+-------------------+------------------+-------------------+-------------------------+
| Fedora Linux 41               | PASS               | PASS              | PASS             | SKIPPED           | SKIPPED                 |
+-------------------------------+--------------------+-------------------+------------------+-------------------+-------------------------+
| openSUSE Leap 15.6            | PASS               | SKIPPED           | SKIPPED          | SKIPPED           | SKIPPED                 |
+-------------------------------+--------------------+-------------------+------------------+-------------------+-------------------------+
| Ubuntu 24.04                  | PASS               | PASS              | PASS             | SKIPPED           | SKIPPED                 |
+-------------------------------+--------------------+-------------------+------------------+-------------------+-------------------------+
| Ubuntu 22.04                  | PASS               | PASS              | SKIPPED          | SKIPPED           | SKIPPED                 |
+-------------------------------+--------------------+-------------------+------------------+-------------------+-------------------------+
| Ubuntu 20.04                  | PASS               | SKIPPED           | SKIPPED          | SKIPPED           | SKIPPED                 |
+-------------------------------+--------------------+-------------------+------------------+-------------------+-------------------------+
| FreeBSD 14.2                  | PASS               | SKIPPED           | SKIPPED          | SKIPPED           | SKIPPED                 |
+-------------------------------+--------------------+-------------------+------------------+-------------------+-------------------------+
| Red Hat Enterprise Linux 9.5  | PASS               | SKIPPED           | SKIPPED          | SKIPPED           | SKIPPED                 |
+-------------------------------+--------------------+-------------------+------------------+-------------------+-------------------------+
| Alpine Linux 3.22.0           | PASS               | SKIPPED           | SKIPPED          | SKIPPED           | SKIPPED                 |
+-------------------------------+--------------------+-------------------+------------------+-------------------+-------------------------+
| Red Hat Enterprise Linux 8.10 | PASS               | SKIPPED           | SKIPPED          | SKIPPED           | SKIPPED                 |
+-------------------------------+--------------------+-------------------+------------------+-------------------+-------------------------+
| Windows Server 2022           | SKIPPED            | SKIPPED           | SKIPPED          | PASS              | PASS                    |
+-------------------------------+--------------------+-------------------+------------------+-------------------+-------------------------+


CentOS Stream 9
	Kernel: 5.15
	Compiler: gcc gcc (GCC) 11.5.0 20240719 (Red Hat 11.5.0-7)

Debian GNU/Linux 12
	Kernel: 5.15
	Compiler: gcc gcc (Debian 12.2.0-14+deb12u1) 12.2.0

CentOS Stream 10
	Kernel: 5.15
	Compiler: gcc gcc (GCC) 14.2.1 20250110 (Red Hat 14.2.1-8)

Fedora Linux 40
	Kernel: 5.15
	Compiler: clang gcc (GCC) 14.2.1 20240912 (Red Hat 14.2.1-3)

Fedora Linux 41
	Kernel: 5.15
	Compiler: clang gcc (GCC) 14.3.1 20250523 (Red Hat 14.3.1-1)

openSUSE Leap 15.6
	Kernel: 5.15
	Compiler: gcc gcc (SUSE Linux) 7.5.0

Ubuntu 24.04
	Kernel: 5.15
	Compiler: gcc gcc (Ubuntu 13.3.0-6ubuntu2~24.04) 13.3.0

Ubuntu 22.04
	Kernel: 5.15
	Compiler: gcc gcc (Ubuntu 11.4.0-1ubuntu1~22.04) 11.4.0

Ubuntu 20.04
	Kernel: 5.15
	Compiler: gcc gcc (Ubuntu 9.4.0-1ubuntu1~20.04.2) 9.4.0

FreeBSD 14.2
	Kernel: 14.2-RELEASE
	Compiler: clang 18.1.6

Red Hat Enterprise Linux 9.5
	Kernel: 5.15
	Compiler: gcc gcc (GCC) 11.5.0 20240719 (Red Hat 11.5.0-2)

Alpine Linux 3.22.0
	Kernel: 5.15
	Compiler: gcc gcc (Alpine 14.2.0) 14.2.0

Red Hat Enterprise Linux 8.10
	Kernel: 5.15
	Compiler: gcc gcc (GCC) 8.5.0 20210514 (Red Hat 8.5.0-22)

Windows Server 2022
	Kernel: 10.0.20348.2031
	Compiler: clang 15.0.7, gcc 14.1.0 (MinGW), and MSVC VS 19.39.33521

To view detailed results, visit:
https://lab.dpdk.org/results/dashboard/patchsets/33576/

UNH-IOL DPDK Community Lab

To manage your email subscriptions, visit: 
https://lab.dpdk.org/results/dashboard/preferences/subscriptions/

  parent reply	other threads:[~2025-07-09  2:11 UTC|newest]

Thread overview: 26+ messages / expand[flat|nested]  mbox.gz  Atom feed  top
     [not found] <20250703052558.3700573-9-vanshika.shukla@nxp.com>
2025-07-03  4:53 ` |SUCCESS| pw154979-154986 [v7 8/8] bus/dpaa: optimize qman enqueue check qemudev
2025-07-03  4:58 ` qemudev
2025-07-03  5:26 ` |SUCCESS| pw154986 " checkpatch
2025-07-08 22:28 ` |SUCCESS| pw154979-154986 [PATCH] [v7,8/8] bus/dpaa: optimize qman e dpdklab
2025-07-08 22:50 ` dpdklab
2025-07-08 22:50 ` dpdklab
2025-07-08 22:59 ` dpdklab
2025-07-08 23:42 ` |PENDING| " dpdklab
2025-07-08 23:42 ` dpdklab
2025-07-09  0:02 ` dpdklab
2025-07-09  0:24 ` |SUCCESS| " dpdklab
2025-07-09  1:07 ` |WARNING| " dpdklab
2025-07-09  1:08 ` dpdklab
2025-07-09  1:08 ` dpdklab
2025-07-09  1:08 ` dpdklab
2025-07-09  1:08 ` dpdklab
2025-07-09  1:08 ` dpdklab
2025-07-09  1:33 ` |SUCCESS| " dpdklab
2025-07-09  1:41 ` dpdklab
2025-07-09  1:41 ` |WARNING| " dpdklab
2025-07-09  2:11 ` dpdklab [this message]
2025-07-09  2:58 ` dpdklab
2025-07-09  3:46 ` |SUCCESS| " dpdklab
2025-07-09  6:26 ` dpdklab
2025-07-09  8:26 ` dpdklab
2025-07-09 15:02 ` dpdklab

Reply instructions:

You may reply publicly to this message via plain-text email
using any one of the following methods:

* Save the following mbox file, import it into your mail client,
  and reply-to-all from there: mbox

  Avoid top-posting and favor interleaved quoting:
  https://en.wikipedia.org/wiki/Posting_style#Interleaved_style

* Reply using the --to, --cc, and --in-reply-to
  switches of git-send-email(1):

  git send-email \
    --in-reply-to=686dcfdc.050a0220.317f9e.063cSMTPIN_ADDED_MISSING@mx.google.com \
    --to=dpdklab@iol.unh.edu \
    --cc=dpdk-test-reports@iol.unh.edu \
    --cc=test-report@dpdk.org \
    /path/to/YOUR_REPLY

  https://kernel.org/pub/software/scm/git/docs/git-send-email.html

* If your mail client supports setting the In-Reply-To header
  via mailto: links, try the mailto: link
Be sure your reply has a Subject: header at the top and a blank line before the message body.
This is a public inbox, see mirroring instructions
for how to clone and mirror all data and code used for this inbox;
as well as URLs for NNTP newsgroup(s).