From mboxrd@z Thu Jan 1 00:00:00 1970 Return-Path: Received: from mails.dpdk.org (mails.dpdk.org [217.70.189.124]) by inbox.dpdk.org (Postfix) with ESMTP id 6F49E46AF1 for ; Wed, 9 Jul 2025 04:14:33 +0200 (CEST) Received: from mails.dpdk.org (localhost [127.0.0.1]) by mails.dpdk.org (Postfix) with ESMTP id 5197E4013F; Wed, 9 Jul 2025 04:14:33 +0200 (CEST) Received: from mail-il1-f227.google.com (mail-il1-f227.google.com [209.85.166.227]) by mails.dpdk.org (Postfix) with ESMTP id 430004013F for ; Wed, 9 Jul 2025 04:14:32 +0200 (CEST) Received: by mail-il1-f227.google.com with SMTP id e9e14a558f8ab-3df2df6a25aso17806235ab.1 for ; Tue, 08 Jul 2025 19:14:32 -0700 (PDT) DKIM-Signature: v=1; a=rsa-sha256; c=relaxed/relaxed; d=iol.unh.edu; s=unh-iol; t=1752027271; x=1752632071; darn=dpdk.org; h=references:in-reply-to:cc:to:from:subject:message-id:date:from:to :cc:subject:date:message-id:reply-to; bh=oc3duHcxprgtUmRrW+SIRwAu9Rp5J9h5+KoLkzKDT0Y=; b=fdIBSBXL7UnVj7BqOfCNh2a9DiyNsiuxD5vlqMjjW720dRg6RFFQ3jD1opmK0QTaNH HkTjz+vECd+vDCqtAohNOoDexxTPG7w2U1+aN+Sik7DG3n7P91P8mYrm7ps1t2qiekE+ H4GG5wlq+UCSd4JZGagSzyB4LPBY5m+R3MedI= X-Google-DKIM-Signature: v=1; a=rsa-sha256; c=relaxed/relaxed; d=1e100.net; s=20230601; t=1752027271; x=1752632071; h=references:in-reply-to:cc:to:from:subject:message-id:date :x-gm-message-state:from:to:cc:subject:date:message-id:reply-to; bh=oc3duHcxprgtUmRrW+SIRwAu9Rp5J9h5+KoLkzKDT0Y=; b=hi6+/qtFwpIhuh7Ij3WBEwo0uOmvrDKyG/Hsc/Dne3gbRl6XAyPztK1ecOVzNEmEeo fFwvKJ4aSDr1vAwsvczHZENYxZ4BsAbXZWgRsxJk0JfRP9Mz1TBToitCjxoMDmodoshr B1UQTtrFXy6a9z8mfLLVY54amKRQxRtUg6GeBuassxJfPyKDEQn0Xqk3XyUaE89swNeE S59a1lpb0omFiKH+CULVs0JwR9KP4tsSzMu9+wkwyCgU9GhzGmb2jiNT+d7DiAhBZlIF 36EmQ7lCuC8/8SrSGctX68d1atX6Mp9OfvGTAtOBaQsTeUaDYfv1E2htCCKeEenyVk0q 9M3w== X-Gm-Message-State: AOJu0YyAlCNh/5/+BZCS6roHojt70KS8aLQCC/Nvo3H8+xOtKxObqJKG dSST+qAR8VWkp6jGjInyG+G0yNvhBNQeB/RGzrfQx0M0pFjf+spxLfpn5i1SmrqCKQymTIQCzJq wpuw+YeyQXhvBY/53+BhHGdsrt6BHSWgVagkf4RhDMo0hSJX1HmElO1r5mcgF X-Gm-Gg: ASbGncszaM4GRiD3aQUm6/qcqftVkssLJJhn3KJ/wILU3AeSr6gEtIno9cfL0efbILE +bjORisBHF4/KSgT57W5xmCUjlzbXIPe4dS9eDb8vNt2qQPNiWKViUBzmSVwIydfaCiu5enfnSb id5NBZfOgv/q0e0EroerCSQnfqkn2iczxmHkWgbPAbR0dTk5KncO/sI+3kQ3foRbvvflbPBzd1D 1pC6sNkDOM/+qT00sbswDsQIRz5v56OqeviQNFKAP/rREDrNfF80IOA1M+6yIdW6cMhbAG9AJaE Vchfeojj17INi/XTudOHw5SLgEwF79TUGYc8FRQunnV2AC4= X-Google-Smtp-Source: AGHT+IGA0tYUWt0f0APhOR2yZG0Es5tlOwLLbz3S6q1SF0TRCPvYUiXgttE5ceoLSTldRFnRMlSKrLgiDNoK X-Received: by 2002:a05:6e02:220a:b0:3dc:8b29:30b1 with SMTP id e9e14a558f8ab-3e1670a7488mr10678835ab.14.1752027271553; Tue, 08 Jul 2025 19:14:31 -0700 (PDT) Received: from postal.iol.unh.edu (postal.iol.unh.edu. [2606:4100:3880:1234::84]) by smtp-relay.gmail.com with ESMTPS id 8926c6da1cb9f-503b5be4ea8sm424679173.71.2025.07.08.19.14.31 (version=TLS1_2 cipher=ECDHE-ECDSA-AES128-GCM-SHA256 bits=128/128); Tue, 08 Jul 2025 19:14:31 -0700 (PDT) X-Relaying-Domain: iol.unh.edu Date: Tue, 08 Jul 2025 19:14:31 -0700 (PDT) Message-ID: <686dd087.050a0220.7453d.6746SMTPIN_ADDED_MISSING@mx.google.com> Received: from [172.21.0.5] (unknown [172.18.0.240]) by postal.iol.unh.edu (Postfix) with ESMTP id 15FF56051830; Tue, 8 Jul 2025 22:14:31 -0400 (EDT) Subject: |SUCCESS| pw154976 [PATCH] net/iavf: fix VLAN offload strip flag From: dpdklab@iol.unh.edu To: Test Report Cc: dpdk-test-reports@iol.unh.edu In-Reply-To: <20250702181506.95192-1-amiyaranjan.mohakud@gmail.com> References: <20250702181506.95192-1-amiyaranjan.mohakud@gmail.com> Content-Type: text/plain X-BeenThere: test-report@dpdk.org X-Mailman-Version: 2.1.29 Precedence: list List-Id: automatic DPDK test reports List-Unsubscribe: , List-Archive: List-Post: List-Help: List-Subscribe: , Errors-To: test-report-bounces@dpdk.org Test-Label: iol-abi-testing Test-Status: SUCCESS http://dpdk.org/patch/154976 _Testing PASS_ Submitter: Amiya Ranjan Mohakud Date: Wednesday, July 02 2025 18:15:06 DPDK git baseline: Repo:dpdk Branch: master CommitID:a6b10031d251fcc7dadede461f7e1d005024b139 154976 --> testing pass Upstream job id: Generic-DPDK-Compile-ABI#133605 Test environment and result as below: +-------------------------------+----------+ | Environment | abi_test | +===============================+==========+ | Fedora Linux 41 | PASS | +-------------------------------+----------+ | Debian GNU/Linux 12 | PASS | +-------------------------------+----------+ | Ubuntu 24.04 | PASS | +-------------------------------+----------+ | Fedora Linux 40 | PASS | +-------------------------------+----------+ | CentOS Stream 10 | PASS | +-------------------------------+----------+ | CentOS Stream 9 | PASS | +-------------------------------+----------+ | openSUSE Leap 15.6 | PASS | +-------------------------------+----------+ | Ubuntu 22.04 | PASS | +-------------------------------+----------+ | Red Hat Enterprise Linux 9.5 | PASS | +-------------------------------+----------+ | Red Hat Enterprise Linux 8.10 | PASS | +-------------------------------+----------+ Fedora Linux 41 Kernel: 5.15 Compiler: clang gcc (GCC) 14.3.1 20250523 (Red Hat 14.3.1-1) Debian GNU/Linux 12 Kernel: 5.15 Compiler: gcc gcc (Debian 12.2.0-14+deb12u1) 12.2.0 Ubuntu 24.04 Kernel: 5.15 Compiler: gcc gcc (Ubuntu 13.3.0-6ubuntu2~24.04) 13.3.0 Fedora Linux 40 Kernel: 5.15 Compiler: clang gcc (GCC) 14.2.1 20240912 (Red Hat 14.2.1-3) CentOS Stream 10 Kernel: 5.15 Compiler: gcc gcc (GCC) 14.2.1 20250110 (Red Hat 14.2.1-8) CentOS Stream 9 Kernel: 5.15 Compiler: gcc gcc (GCC) 11.5.0 20240719 (Red Hat 11.5.0-7) openSUSE Leap 15.6 Kernel: 5.15 Compiler: gcc gcc (SUSE Linux) 7.5.0 Ubuntu 22.04 Kernel: 5.15 Compiler: gcc gcc (Ubuntu 11.4.0-1ubuntu1~22.04) 11.4.0 Red Hat Enterprise Linux 9.5 Kernel: 5.15 Compiler: gcc gcc (GCC) 11.5.0 20240719 (Red Hat 11.5.0-2) Red Hat Enterprise Linux 8.10 Kernel: 5.15 Compiler: gcc gcc (GCC) 8.5.0 20210514 (Red Hat 8.5.0-22) To view detailed results, visit: https://lab.dpdk.org/results/dashboard/patchsets/33573/ UNH-IOL DPDK Community Lab To manage your email subscriptions, visit: https://lab.dpdk.org/results/dashboard/preferences/subscriptions/