From mboxrd@z Thu Jan 1 00:00:00 1970 Return-Path: Received: from mails.dpdk.org (mails.dpdk.org [217.70.189.124]) by inbox.dpdk.org (Postfix) with ESMTP id D829846AF1 for ; Wed, 9 Jul 2025 04:19:32 +0200 (CEST) Received: from mails.dpdk.org (localhost [127.0.0.1]) by mails.dpdk.org (Postfix) with ESMTP id BABD44013F; Wed, 9 Jul 2025 04:19:32 +0200 (CEST) Received: from mail-il1-f225.google.com (mail-il1-f225.google.com [209.85.166.225]) by mails.dpdk.org (Postfix) with ESMTP id 4174D4013F for ; Wed, 9 Jul 2025 04:19:31 +0200 (CEST) Received: by mail-il1-f225.google.com with SMTP id e9e14a558f8ab-3de252f75d7so50984845ab.3 for ; Tue, 08 Jul 2025 19:19:31 -0700 (PDT) DKIM-Signature: v=1; a=rsa-sha256; c=relaxed/relaxed; d=iol.unh.edu; s=unh-iol; t=1752027570; x=1752632370; darn=dpdk.org; h=references:in-reply-to:cc:to:from:subject:message-id:date:from:to :cc:subject:date:message-id:reply-to; bh=kjibc4c1wjAmleqq4nKEVUA+RyfkPJS0QLK6z2geu3E=; b=fP8+zEW82864jAKDISL9qRHbTHgG3Qyd7ZCy5ROW7lmhFI7I209K1xOw3FLufqFnw2 hAvMTqjSv1ZKFQGxWNYuBw4AnccwTIX3lCZYQOFaSIAoQrbOV5YFiPZ4+O6Nq2rdo0JK kVnrOcoo/f9kv1ECWTHUxxW22y6AcJ1/YFwQg= X-Google-DKIM-Signature: v=1; a=rsa-sha256; c=relaxed/relaxed; d=1e100.net; s=20230601; t=1752027570; x=1752632370; h=references:in-reply-to:cc:to:from:subject:message-id:date :x-gm-message-state:from:to:cc:subject:date:message-id:reply-to; bh=kjibc4c1wjAmleqq4nKEVUA+RyfkPJS0QLK6z2geu3E=; b=RKUnHI4NxIVfqZcdyPfVtpKugRyy65HoTqFDR0bda7QOwy/6qUjySi5fE6aGtRZXQ2 jiFvFTy5INw4+nweWp0osiaahbUma9E+FgLyhB/GXx4kDdopubSxPWjnGZ4YD/X2opLq /WjRlWCW21r9hk00ClUM+dSr70NJ/AEWXOyYO9lg3EWgdfKFpyzGdSiUJei2gP7fAeau QSgtaD+j7zwrpKiD8CYt8XpRSDN59x2Kmo4hbeXmGwaGYobjzaSer/mhfd1ttOLZHjxF XXx5KABIRgT4s8xGKr2BWeJPlj3nGIdBV47TIij8Rn6WS0zQ0xHX61IPk0RObeI14BeN zTSw== X-Gm-Message-State: AOJu0Yxe2qCUaJJTHjGuPY9FevMywzMbQjVeZ9gBupfZ4sp2O/ww0RT3 gub3FVRV+5Kat7edn1mTYou1YaCm+D5bwMF3kcEh3Kz5f2MdLQONgVFDzZfHPY3t82WnDa8brUK 6DHSE0okx+yCZNEWYLTcd+z8noOUzq0y3VAR61rRc5OdV X-Gm-Gg: ASbGncuoqRj2IWLHJCmzJw3XOpW3IFFOCkQJ+SaZ08Z7vOd3WFKHF8TArHzYfXAc6Qr mYZ7YjYadudALJfoGIw5BWnxk6kMvKZj0waW9m+PzyAHQkSxwXeb4ptQ3WreQuFupeRqNH6GGtW tJnMTVIN3Ldm66LAK+QY37k8IoQ0nx2PqlbX3uG+S0VtBFIsGYSESYcXF7CHFCAKSHp+TATsC8d U+QcMNhbAG9LdkUEtaxoqYeLpW57AD2U81CZ+8hKIO3g6NKXlSli4oComCY2k1bv/tmkCD7m0k3 v2Ecs1fd0E6+iC9mVtOrp8p4f/8Fo18TOgtlh8PknsD0RL/jFEnptl2kZf46VOpRssPv/g== X-Google-Smtp-Source: AGHT+IF4C1GTXULvfJVUq2y6JIu7uc0nzQNTFxErlPbNNXgPSmQ68IwJ2wCWBS9IGZ4FoqXmbNsK+Reo+S0o X-Received: by 2002:a05:6e02:3f07:b0:3df:47f1:bdb9 with SMTP id e9e14a558f8ab-3e1670d6e01mr12698135ab.18.1752027570607; Tue, 08 Jul 2025 19:19:30 -0700 (PDT) Received: from postal.iol.unh.edu (postal.iol.unh.edu. [132.177.123.84]) by smtp-relay.gmail.com with ESMTPS id e9e14a558f8ab-3e0f343496csm7217375ab.4.2025.07.08.19.19.30 (version=TLS1_2 cipher=ECDHE-ECDSA-AES128-GCM-SHA256 bits=128/128); Tue, 08 Jul 2025 19:19:30 -0700 (PDT) X-Relaying-Domain: iol.unh.edu Date: Tue, 08 Jul 2025 19:19:30 -0700 (PDT) Message-ID: <686dd1b2.050a0220.1e55f9.5c8dSMTPIN_ADDED_MISSING@mx.google.com> Received: from [172.21.0.9] (unknown [172.18.0.240]) by postal.iol.unh.edu (Postfix) with ESMTP id 20DC56051830; Tue, 8 Jul 2025 22:19:30 -0400 (EDT) Subject: |SUCCESS| pw154976 [PATCH] net/iavf: fix VLAN offload strip flag From: dpdklab@iol.unh.edu To: Test Report Cc: dpdk-test-reports@iol.unh.edu In-Reply-To: <20250702181506.95192-1-amiyaranjan.mohakud@gmail.com> References: <20250702181506.95192-1-amiyaranjan.mohakud@gmail.com> Content-Type: text/plain X-BeenThere: test-report@dpdk.org X-Mailman-Version: 2.1.29 Precedence: list List-Id: automatic DPDK test reports List-Unsubscribe: , List-Archive: List-Post: List-Help: List-Subscribe: , Errors-To: test-report-bounces@dpdk.org Test-Label: iol-unit-arm64-testing Test-Status: SUCCESS http://dpdk.org/patch/154976 _Testing PASS_ Submitter: Amiya Ranjan Mohakud Date: Wednesday, July 02 2025 18:15:06 DPDK git baseline: Repo:dpdk Branch: master CommitID:a6b10031d251fcc7dadede461f7e1d005024b139 154976 --> testing pass Upstream job id: Generic-Unit-Test-DPDK#353833 Test environment and result as below: +------------------------------+--------------+---------------------------+------------------------------+----------------+ | Environment | lpm_autotest | cryptodev_sw_zuc_autotest | cryptodev_sw_snow3g_autotest | dpdk_unit_test | +==============================+==============+===========================+==============================+================+ | Ubuntu 20.04 | PASS | SKIPPED | SKIPPED | PASS | +------------------------------+--------------+---------------------------+------------------------------+----------------+ | Debian 12 (arm) | SKIPPED | PASS | PASS | SKIPPED | +------------------------------+--------------+---------------------------+------------------------------+----------------+ | CentOS Stream 9 | SKIPPED | SKIPPED | SKIPPED | PASS | +------------------------------+--------------+---------------------------+------------------------------+----------------+ | Debian GNU/Linux 12 | SKIPPED | SKIPPED | SKIPPED | PASS | +------------------------------+--------------+---------------------------+------------------------------+----------------+ | CentOS Stream 10 | SKIPPED | SKIPPED | SKIPPED | PASS | +------------------------------+--------------+---------------------------+------------------------------+----------------+ | Fedora Linux 40 | SKIPPED | SKIPPED | SKIPPED | PASS | +------------------------------+--------------+---------------------------+------------------------------+----------------+ | Fedora Linux 41 | SKIPPED | SKIPPED | SKIPPED | PASS | +------------------------------+--------------+---------------------------+------------------------------+----------------+ | Red Hat Enterprise Linux 9.5 | SKIPPED | SKIPPED | SKIPPED | PASS | +------------------------------+--------------+---------------------------+------------------------------+----------------+ | Ubuntu 22.04 | SKIPPED | SKIPPED | SKIPPED | PASS | +------------------------------+--------------+---------------------------+------------------------------+----------------+ | Ubuntu 24.04 | SKIPPED | SKIPPED | SKIPPED | PASS | +------------------------------+--------------+---------------------------+------------------------------+----------------+ Ubuntu 20.04 Kernel: 5.4 Compiler: gcc gcc (Ubuntu 9.4.0-1ubuntu1~20.04.2) 9.4.0 Debian 12 (arm) Kernel: Depends on container host Compiler: gcc (Debian 12.2.0-14) 12.2.0 CentOS Stream 9 Kernel: 5.4 Compiler: gcc gcc (GCC) 11.5.0 20240719 (Red Hat 11.5.0-7) Debian GNU/Linux 12 Kernel: 5.4 Compiler: gcc gcc (Debian 12.2.0-14+deb12u1) 12.2.0 CentOS Stream 10 Kernel: 5.4 Compiler: gcc gcc (GCC) 14.2.1 20250110 (Red Hat 14.2.1-8) Fedora Linux 40 Kernel: 5.4 Compiler: clang gcc (GCC) 14.2.1 20240912 (Red Hat 14.2.1-3) Fedora Linux 41 Kernel: 5.4 Compiler: clang gcc (GCC) 14.3.1 20250523 (Red Hat 14.3.1-1) Red Hat Enterprise Linux 9.5 Kernel: 5.4 Compiler: gcc gcc (GCC) 11.5.0 20240719 (Red Hat 11.5.0-2) Ubuntu 22.04 Kernel: 5.4 Compiler: gcc gcc (Ubuntu 11.4.0-1ubuntu1~22.04) 11.4.0 Ubuntu 24.04 Kernel: 5.4 Compiler: gcc gcc (Ubuntu 13.3.0-6ubuntu2~24.04) 13.3.0 To view detailed results, visit: https://lab.dpdk.org/results/dashboard/patchsets/33573/ UNH-IOL DPDK Community Lab To manage your email subscriptions, visit: https://lab.dpdk.org/results/dashboard/preferences/subscriptions/