From mboxrd@z Thu Jan 1 00:00:00 1970 Return-Path: Received: from mails.dpdk.org (mails.dpdk.org [217.70.189.124]) by inbox.dpdk.org (Postfix) with ESMTP id 8A2FC46AF1 for ; Wed, 9 Jul 2025 04:39:18 +0200 (CEST) Received: from mails.dpdk.org (localhost [127.0.0.1]) by mails.dpdk.org (Postfix) with ESMTP id 850734013F; Wed, 9 Jul 2025 04:39:18 +0200 (CEST) Received: from mail-io1-f98.google.com (mail-io1-f98.google.com [209.85.166.98]) by mails.dpdk.org (Postfix) with ESMTP id 676524013F for ; Wed, 9 Jul 2025 04:39:17 +0200 (CEST) Received: by mail-io1-f98.google.com with SMTP id ca18e2360f4ac-87640a9e237so439842039f.2 for ; Tue, 08 Jul 2025 19:39:17 -0700 (PDT) DKIM-Signature: v=1; a=rsa-sha256; c=relaxed/relaxed; d=iol.unh.edu; s=unh-iol; t=1752028757; x=1752633557; darn=dpdk.org; h=references:in-reply-to:cc:to:from:subject:message-id:date:from:to :cc:subject:date:message-id:reply-to; bh=G0TujCCimExHvpTqeP/SJbcAkjTzX7glCoCCytswiVU=; b=c/bTVi6BHTsh38WXsnr2nlAHsmcX8KiST54pRmeJe7iuRHgh6ySkr7OjL01sHm/fqJ P0nklmvQaolKi64SeJyNj5KPh3FklERrnxFJKqYjWegVNGyylr5bs4r8mEpvt4XeL1TV sZAVqwZFaiKfsWJgukjP/Wu0gTKR4+atmnUos= X-Google-DKIM-Signature: v=1; a=rsa-sha256; c=relaxed/relaxed; d=1e100.net; s=20230601; t=1752028757; x=1752633557; h=references:in-reply-to:cc:to:from:subject:message-id:date :x-gm-message-state:from:to:cc:subject:date:message-id:reply-to; bh=G0TujCCimExHvpTqeP/SJbcAkjTzX7glCoCCytswiVU=; b=aMK56n1gEzVNTmRnXsoQoxKi6tsE7VjOWkxfXNJ9YGy+7XG0/4w27/Wps7mO3rhwue BhchfkqDi1+ITdsWn5D9TGlyi7pdkQbCUA9lkSMDuhmKx3t8StgHAjNpeS949hwJMESB aJrVCzFcH3YmRsUxQe9VYrisXQz4DCR+VXRu0U3zb7K3dLgRmMciv6+SQL/gJFYiClvV T1nOElfL3rLvrF3Telgm0Q8LN/Zf+2AYrW63RRwpOXF7JdoWlpaBnPms6IUmxHZC10Hx Y4vw1T6fIrOzaSAjz5JHwGWaF//5OwT3Rto9MPiFutQNIIAs/xf2wDTBNPidYK/5IvPr OCVg== X-Gm-Message-State: AOJu0Yz1aHPrD0quV3qZ9qGl0UoYQXqx5KriU1mgt/py/S2GN1OoWZOT zAu3GIjKtYd68KyQHkjtpyHZrUJe0aGw1u5LWd9+sBH2A0y/SjLd+OV+s7w/X5gMJAuhisYRsMU dJoqxJZKjwDEKvc7U+IxRntHs7Add+19BGN5B/mU0CPra X-Gm-Gg: ASbGnculX7IaBVSZ9oZfqDZnv6z0dn79cXiEOI1+fD/qVopmYhMw/wjnI1sZCAmPciT o3d5RIU+kaB9dj3kgHI6yfivZtMMyoNIdWXdl0fMEHToxEpb7/mkWW8Orfl7LfnMs66CgBr1Wgj IKVAE0mjTxVEsB2ik5wyHxe0gPL+wGc6LLDvUg/69PfdlSxCdj1hq++e9uOFkjaOBJG93MIKrNw 4SIlI/zNmGU65R7b8DDgmS1HfvbRAuNL5+C8fF6jHVGZPMrNF2oDCvG5pnzjyKIinnvHeoW03wU tC4EbcYMqf7whQxLv3e2gDxZ5znTJqCXSaSJh/HAP/KQpzNdsrI5x3nDxbRE4+X5/6LKEw== X-Google-Smtp-Source: AGHT+IFYOmS8Q3+b0p80xNmyPPd2ZCG17jMr3XEoYNAzDjszhCYaQKD4oS89ZyjsStvoNwCY14Fo1+28T9kn X-Received: by 2002:a05:6e02:190e:b0:3df:4c9b:683c with SMTP id e9e14a558f8ab-3e1670d7ed5mr8886855ab.17.1752028756688; Tue, 08 Jul 2025 19:39:16 -0700 (PDT) Received: from postal.iol.unh.edu (postal.iol.unh.edu. [132.177.123.84]) by smtp-relay.gmail.com with ESMTPS id e9e14a558f8ab-3e0f9b7fe9esm7076005ab.30.2025.07.08.19.39.16 (version=TLS1_2 cipher=ECDHE-ECDSA-AES128-GCM-SHA256 bits=128/128); Tue, 08 Jul 2025 19:39:16 -0700 (PDT) X-Relaying-Domain: iol.unh.edu Date: Tue, 08 Jul 2025 19:39:16 -0700 (PDT) Message-ID: <686dd654.920a0220.eb27a.46d8SMTPIN_ADDED_MISSING@mx.google.com> Received: from [172.21.0.8] (unknown [172.18.0.240]) by postal.iol.unh.edu (Postfix) with ESMTP id 39B8E6051830; Tue, 8 Jul 2025 22:39:16 -0400 (EDT) Subject: |SUCCESS| pw154996 [PATCH] [v1] net/iavf: fix VLAN strip disabling f From: dpdklab@iol.unh.edu To: Test Report Cc: dpdk-test-reports@iol.unh.edu In-Reply-To: <20250703084234.8037-1-amiyaranjan.mohakud@gmail.com> References: <20250703084234.8037-1-amiyaranjan.mohakud@gmail.com> Content-Type: text/plain X-BeenThere: test-report@dpdk.org X-Mailman-Version: 2.1.29 Precedence: list List-Id: automatic DPDK test reports List-Unsubscribe: , List-Archive: List-Post: List-Help: List-Subscribe: , Errors-To: test-report-bounces@dpdk.org Test-Label: iol-compile-arm64-testing Test-Status: SUCCESS http://dpdk.org/patch/154996 _Testing PASS_ Submitter: Amiya Ranjan Mohakud Date: Thursday, July 03 2025 08:42:34 DPDK git baseline: Repo:dpdk Branch: master CommitID:a6b10031d251fcc7dadede461f7e1d005024b139 154996 --> testing pass Upstream job id: Generic-DPDK-Compile-Meson#406828 Test environment and result as below: +------------------------------+--------------------+ | Environment | dpdk_meson_compile | +==============================+====================+ | Ubuntu 20.04 | PASS | +------------------------------+--------------------+ | Fedora Linux 40 | PASS | +------------------------------+--------------------+ | Fedora Linux 41 | PASS | +------------------------------+--------------------+ | Ubuntu 22.04 | PASS | +------------------------------+--------------------+ | CentOS Stream 9 | PASS | +------------------------------+--------------------+ | CentOS Stream 10 | PASS | +------------------------------+--------------------+ | Debian GNU/Linux 12 | PASS | +------------------------------+--------------------+ | Red Hat Enterprise Linux 9.5 | PASS | +------------------------------+--------------------+ | Ubuntu 24.04 | PASS | +------------------------------+--------------------+ Ubuntu 20.04 Kernel: 5.15 Compiler: aarch64-linux-gnu-gcc gcc (Ubuntu 9.4.0-1ubuntu1~20.04.2) 9.4.0 Fedora Linux 40 Kernel: 5.4 Compiler: clang gcc (GCC) 14.2.1 20240912 (Red Hat 14.2.1-3) Fedora Linux 41 Kernel: 5.4 Compiler: gcc gcc (GCC) 14.3.1 20250523 (Red Hat 14.3.1-1) Ubuntu 22.04 Kernel: 5.4 Compiler: gcc gcc (Ubuntu 11.4.0-1ubuntu1~22.04) 11.4.0 CentOS Stream 9 Kernel: 5.4 Compiler: gcc gcc (GCC) 11.5.0 20240719 (Red Hat 11.5.0-7) CentOS Stream 10 Kernel: 5.4 Compiler: gcc gcc (GCC) 14.2.1 20250110 (Red Hat 14.2.1-8) Debian GNU/Linux 12 Kernel: 5.4 Compiler: gcc gcc (Debian 12.2.0-14+deb12u1) 12.2.0 Red Hat Enterprise Linux 9.5 Kernel: 5.4 Compiler: gcc gcc (GCC) 11.5.0 20240719 (Red Hat 11.5.0-2) Ubuntu 24.04 Kernel: 5.4 Compiler: gcc gcc (Ubuntu 13.3.0-6ubuntu2~24.04) 13.3.0 To view detailed results, visit: https://lab.dpdk.org/results/dashboard/patchsets/33579/ UNH-IOL DPDK Community Lab To manage your email subscriptions, visit: https://lab.dpdk.org/results/dashboard/preferences/subscriptions/