From mboxrd@z Thu Jan 1 00:00:00 1970 Return-Path: Received: from mails.dpdk.org (mails.dpdk.org [217.70.189.124]) by inbox.dpdk.org (Postfix) with ESMTP id DD6E646AF1 for ; Wed, 9 Jul 2025 04:41:44 +0200 (CEST) Received: from mails.dpdk.org (localhost [127.0.0.1]) by mails.dpdk.org (Postfix) with ESMTP id BD1064013F; Wed, 9 Jul 2025 04:41:44 +0200 (CEST) Received: from mail-il1-f225.google.com (mail-il1-f225.google.com [209.85.166.225]) by mails.dpdk.org (Postfix) with ESMTP id 5534A4013F for ; Wed, 9 Jul 2025 04:41:43 +0200 (CEST) Received: by mail-il1-f225.google.com with SMTP id e9e14a558f8ab-3df4bdadca5so19584445ab.1 for ; Tue, 08 Jul 2025 19:41:43 -0700 (PDT) DKIM-Signature: v=1; a=rsa-sha256; c=relaxed/relaxed; d=iol.unh.edu; s=unh-iol; t=1752028902; x=1752633702; darn=dpdk.org; h=references:in-reply-to:cc:to:from:subject:message-id:date:from:to :cc:subject:date:message-id:reply-to; bh=P4gds6QQ7VuYKDGLdzdSVo6mY85ofut0lgITeseYbAI=; b=TAKUmVpnccdvKg29z0C7uq4XTajsZ3SIke/oCk0AMNckoE9WnPr0kbAICdkRWUE76h 8bZMW7J58Q9NuYsjbsu6OjXVQgDDicZ97o0ibdsOCgWk6GVlTH8V3Kbvk0IB5OOMGRAs ieZ7LjekzCfG8ZOWlbP3+Xle5vZB1shnkwRwA= X-Google-DKIM-Signature: v=1; a=rsa-sha256; c=relaxed/relaxed; d=1e100.net; s=20230601; t=1752028902; x=1752633702; h=references:in-reply-to:cc:to:from:subject:message-id:date :x-gm-message-state:from:to:cc:subject:date:message-id:reply-to; bh=P4gds6QQ7VuYKDGLdzdSVo6mY85ofut0lgITeseYbAI=; b=UtjX1Lp8CjjvFhm+cR21jHwei7aZtujD4dzQq/z0ipxKZO02/OXZlEa8kxndCIa2v6 E1kHJmwnRw5TYiv0vtVBv3H2529Rck1+7jhu5mL3VJ1x+rr1Flqgv4KRKY44qryl7Y4Z P85Xu6Ca+z4ywRKK5/fwsMjUdYdMOTdKeiPDDC/vgy2L9LwTBxMCREcBV98H1i7M4T1e 1zOwZV/R7JrO347Mr36lnk0jH3BraZlJSFNt2/sl6iKcF3tCY3K2Wd9pDS2C1ByZ+6ax gdLiV9wKQXLasYHAjWerRyu7XSZL4/F19zi+/xsb5S3ga0v5i3fLdBIKwWjI8j+XkcWe ZunA== X-Gm-Message-State: AOJu0YwLPKpZTgUxdlJrdfWY1xIUfOtpXYFO9v7iSgqimfeujCdscij8 GyyHcRIglB61xgQgFAbaoalxhUGtohS+5OVBG28237e83lQ3H0rcFJnnS/V17o4ak68kEUbQOEe nmWHBPqgZibYfV+svNLP3xF3w8x2p9FXhdSYuUtxDhOM3 X-Gm-Gg: ASbGncukjeVD5a6wMgrAFiM97btnz44X7O1bsujCxiGMQg5PkJtmObu5xEoN4fOHocV OfL2rTIcN6vks3C9+RgrtFgMMpf8LhyzsiZlo/7hUlLapjQnJjWu46luh2lolPCBmydnX7tiqk/ 0E38pCGPYdOnGS3LOdHZBb+fgMq5OTIbqDKRHWAPKctvro99z+r4HbBOIqRp0XQS5pyTLn+TZ4x /IuCqrIU91l+vxkFWRwmzRHSWTumw/Oy5iXDGEb8HkfuTRhle5qJblKoZhkuYMM5j8Mh2OzuT2F mB1lFKCcZoEBI7UxNf9iEkJeerLD2oNbkHupH3VxyKwCQmVOVzG7Nf3wPRepwJ+8Oe+0zQ== X-Google-Smtp-Source: AGHT+IEnSdKaNdxpxZGbf4E4V9+OK9cnuIUOOfLeuIg49mam/GYCrGndgX+HWGEplvUgrOqoF07isgW4Cjuy X-Received: by 2002:a05:6e02:250a:b0:3ce:4b12:fa17 with SMTP id e9e14a558f8ab-3e1670eb0d3mr10405805ab.19.1752028902563; Tue, 08 Jul 2025 19:41:42 -0700 (PDT) Received: from postal.iol.unh.edu (postal.iol.unh.edu. [132.177.123.84]) by smtp-relay.gmail.com with ESMTPS id e9e14a558f8ab-3e0f9c294b4sm7121485ab.37.2025.07.08.19.41.42 (version=TLS1_2 cipher=ECDHE-ECDSA-AES128-GCM-SHA256 bits=128/128); Tue, 08 Jul 2025 19:41:42 -0700 (PDT) X-Relaying-Domain: iol.unh.edu Date: Tue, 08 Jul 2025 19:41:42 -0700 (PDT) Message-ID: <686dd6e6.050a0220.1611af.704bSMTPIN_ADDED_MISSING@mx.google.com> Received: from [172.21.0.6] (unknown [172.18.0.240]) by postal.iol.unh.edu (Postfix) with ESMTP id 1A5316051830; Tue, 8 Jul 2025 22:41:42 -0400 (EDT) Subject: |SUCCESS| pw154945-154949 [PATCH] [v3,5/5] dts: add performance test From: dpdklab@iol.unh.edu To: Test Report Cc: dpdk-test-reports@iol.unh.edu In-Reply-To: <20250702052154.381690-5-probb@iol.unh.edu> References: <20250702052154.381690-5-probb@iol.unh.edu> Content-Type: text/plain X-BeenThere: test-report@dpdk.org X-Mailman-Version: 2.1.29 Precedence: list List-Id: automatic DPDK test reports List-Unsubscribe: , List-Archive: List-Post: List-Help: List-Subscribe: , Errors-To: test-report-bounces@dpdk.org Test-Label: iol-unit-amd64-testing Test-Status: SUCCESS http://dpdk.org/patch/154949 _Testing PASS_ Submitter: Patrick Robb Date: Wednesday, July 02 2025 05:21:54 DPDK git baseline: Repo:dpdk Branch: master CommitID:e90979eebbea093f6bab2d7c222fc5f5c9a85eff 154945-154949 --> testing pass Upstream job id: Generic-Unit-Test-DPDK#353881 Test environment and result as below: +-------------------------------+----------------+ | Environment | dpdk_unit_test | +===============================+================+ | Red Hat Enterprise Linux 8.10 | PASS | +-------------------------------+----------------+ | Red Hat Enterprise Linux 9.5 | PASS | +-------------------------------+----------------+ | CentOS Stream 10 | PASS | +-------------------------------+----------------+ | CentOS Stream 9 | PASS | +-------------------------------+----------------+ | Fedora Linux 40 | PASS | +-------------------------------+----------------+ | Fedora Linux 41 | PASS | +-------------------------------+----------------+ | Debian GNU/Linux 12 | PASS | +-------------------------------+----------------+ | Ubuntu 20.04 | PASS | +-------------------------------+----------------+ | Ubuntu 22.04 | PASS | +-------------------------------+----------------+ | Ubuntu 24.04 | PASS | +-------------------------------+----------------+ Red Hat Enterprise Linux 8.10 Kernel: 5.15 Compiler: gcc gcc (GCC) 8.5.0 20210514 (Red Hat 8.5.0-22) Red Hat Enterprise Linux 9.5 Kernel: 5.15 Compiler: gcc gcc (GCC) 11.5.0 20240719 (Red Hat 11.5.0-2) CentOS Stream 10 Kernel: 5.15 Compiler: gcc gcc (GCC) 14.2.1 20250110 (Red Hat 14.2.1-8) CentOS Stream 9 Kernel: 5.15 Compiler: gcc gcc (GCC) 11.5.0 20240719 (Red Hat 11.5.0-7) Fedora Linux 40 Kernel: 5.15 Compiler: gcc gcc (GCC) 14.2.1 20240912 (Red Hat 14.2.1-3) Fedora Linux 41 Kernel: 5.15 Compiler: clang gcc (GCC) 14.3.1 20250523 (Red Hat 14.3.1-1) Debian GNU/Linux 12 Kernel: 5.15 Compiler: gcc gcc (Debian 12.2.0-14+deb12u1) 12.2.0 Ubuntu 20.04 Kernel: 5.15 Compiler: gcc gcc (Ubuntu 9.4.0-1ubuntu1~20.04.2) 9.4.0 Ubuntu 22.04 Kernel: 5.15 Compiler: gcc gcc (Ubuntu 11.4.0-1ubuntu1~22.04) 11.4.0 Ubuntu 24.04 Kernel: 5.15 Compiler: gcc gcc (Ubuntu 13.3.0-6ubuntu2~24.04) 13.3.0 To view detailed results, visit: https://lab.dpdk.org/results/dashboard/patchsets/33562/ UNH-IOL DPDK Community Lab To manage your email subscriptions, visit: https://lab.dpdk.org/results/dashboard/preferences/subscriptions/