From mboxrd@z Thu Jan 1 00:00:00 1970 Return-Path: Received: from mails.dpdk.org (mails.dpdk.org [217.70.189.124]) by inbox.dpdk.org (Postfix) with ESMTP id 87DEB46AF1 for ; Wed, 9 Jul 2025 04:48:19 +0200 (CEST) Received: from mails.dpdk.org (localhost [127.0.0.1]) by mails.dpdk.org (Postfix) with ESMTP id 746084013F; Wed, 9 Jul 2025 04:48:19 +0200 (CEST) Received: from mail-oo1-f99.google.com (mail-oo1-f99.google.com [209.85.161.99]) by mails.dpdk.org (Postfix) with ESMTP id BDA7D4013F for ; Wed, 9 Jul 2025 04:48:17 +0200 (CEST) Received: by mail-oo1-f99.google.com with SMTP id 006d021491bc7-60efc773b5fso3457578eaf.3 for ; Tue, 08 Jul 2025 19:48:17 -0700 (PDT) DKIM-Signature: v=1; a=rsa-sha256; c=relaxed/relaxed; d=iol.unh.edu; s=unh-iol; t=1752029297; x=1752634097; darn=dpdk.org; h=references:in-reply-to:cc:to:from:subject:message-id:date:from:to :cc:subject:date:message-id:reply-to; bh=eKP+/WD2OoN11tYgFE/MhfJLWA2gd0OWdvAc5+AouRg=; b=LG59ifiuKQmewae3Be4ufK1llE0NUaXs+Z2OlShPB0COj906zKvZNktPu6ckHHni5g cheYxoUL5VWGxOuJbHzvGo9S+Pxv0aG7GYBQc8hlsX3qtE9Wb6oXPxdga5W+mkViokks oH+t7wtGADKOYFtV6kxwfZwMO1ucyD0jV5i/g= X-Google-DKIM-Signature: v=1; a=rsa-sha256; c=relaxed/relaxed; d=1e100.net; s=20230601; t=1752029297; x=1752634097; h=references:in-reply-to:cc:to:from:subject:message-id:date :x-gm-message-state:from:to:cc:subject:date:message-id:reply-to; bh=eKP+/WD2OoN11tYgFE/MhfJLWA2gd0OWdvAc5+AouRg=; b=B906e05VvN7+xseziwa2+2ataKxXmJkwVj/N5Rox/PPxzJdu46FMBYMD6NmlAajMgO IQOUitCShbAgLCUH1bIGaydH50l3tyEy0Psbbo4d8tUsMXJtglgwW0RfcmmW/i1Zu2jF zMCsIJWUDpJ2qsuKppY6aiPOcPUWoxn4/s+9+/QQFyjYUQ+7gFZY5yr6ov+jGS/e3MvT 2UQOeTtwsm+D2hwCuFwDvqeuyd5NumiBB7gFswLfGJcQvT4yTqxuUHL4DMlEJsZNKegQ VHGllbnjHlB9M9uNvNAjHHzkq/8zIVKrvPZ6Jr0XbNSjQBzrSG6E+5u3fiqTrg/W5o1Y OvhA== X-Gm-Message-State: AOJu0Yyi+ioiDcqNxsjlBFY5ML6HM9vhbTl6KttQYl/+BzOu+waTdFiR HmM8vDqCZ/oqwF9w8A8uXyKTpjn1aASDjYIo3xo7lKkRVgXLlQm4Sjo94T9NCnlTijd2IRAqz2d c7OVoyj8GWGNWbcVaVXfBl4QZTVTxk83ZT4YS3I2uNLGq X-Gm-Gg: ASbGncu6Cvo3SqdBCXZGyXB1WcSDCg4/PmMigAKYmrp8o645Lu3Qrvy4JTkDQWXT0dP +tJ1+mglbBKom2y0Nm8IogJDUeu3yFimJa0Eri5UBrizztptQRiaxF2VXWDWLtW/vyF8fJj8lCK d3HHdcfw6TyvnRJxyWG1OOm3I3p4o9FkW9pVkTNh5CPD/Yp0WAGQ+G19js6yi4sozQ3DhR7Th6n NbIbH7wxIgLN6VpyZhc3OygAlUj/S7rpoEkf3AtVhDFoCrDrSYPHvZeaW5RcBAO2r8ihpepmPOT uvZHCDss/SGLyMDtcEPTO2oHyahSL+fbpl3EL/bQfb2694J1f4L0Z3lxIOhnOa8MyVGT9Q== X-Google-Smtp-Source: AGHT+IHr/ACwkEYXvG5HQBci3p02RD3/L07OiJigQsciyTfRjeIQfv5QAJGhG9EJQkstLQc7WVEla1sUgWIf X-Received: by 2002:a05:6871:14a:b0:2e9:d485:5ad4 with SMTP id 586e51a60fabf-2fef87cb6famr576027fac.33.1752029296883; Tue, 08 Jul 2025 19:48:16 -0700 (PDT) Received: from postal.iol.unh.edu (postal.iol.unh.edu. [132.177.123.84]) by smtp-relay.gmail.com with ESMTPS id 586e51a60fabf-2f79012674fsm738818fac.36.2025.07.08.19.48.16 (version=TLS1_2 cipher=ECDHE-ECDSA-AES128-GCM-SHA256 bits=128/128); Tue, 08 Jul 2025 19:48:16 -0700 (PDT) X-Relaying-Domain: iol.unh.edu Date: Tue, 08 Jul 2025 19:48:16 -0700 (PDT) Message-ID: <686dd870.050a0220.118070.7e70SMTPIN_ADDED_MISSING@mx.google.com> Received: from [172.21.0.5] (unknown [172.18.0.240]) by postal.iol.unh.edu (Postfix) with ESMTP id 590766051830; Tue, 8 Jul 2025 22:48:16 -0400 (EDT) Subject: |SUCCESS| pw154950-154951 [PATCH] [v3,2/2] net/zxdh: add support flo From: dpdklab@iol.unh.edu To: Test Report Cc: dpdk-test-reports@iol.unh.edu In-Reply-To: <20250702073453.113779-3-chen.bingbin@zte.com.cn> References: <20250702073453.113779-3-chen.bingbin@zte.com.cn> Content-Type: text/plain X-BeenThere: test-report@dpdk.org X-Mailman-Version: 2.1.29 Precedence: list List-Id: automatic DPDK test reports List-Unsubscribe: , List-Archive: List-Post: List-Help: List-Subscribe: , Errors-To: test-report-bounces@dpdk.org Test-Label: iol-abi-testing Test-Status: SUCCESS http://dpdk.org/patch/154951 _Testing PASS_ Submitter: Bingbin Chen Date: Wednesday, July 02 2025 07:34:45 DPDK git baseline: Repo:dpdk Branch: master CommitID:ba982f9a1ca9b96ed0394b764f1523d482e963a2 154950-154951 --> testing pass Upstream job id: Generic-DPDK-Compile-ABI#133617 Test environment and result as below: +-------------------------------+----------+ | Environment | abi_test | +===============================+==========+ | CentOS Stream 10 | PASS | +-------------------------------+----------+ | Fedora Linux 41 | PASS | +-------------------------------+----------+ | CentOS Stream 9 | PASS | +-------------------------------+----------+ | Fedora Linux 40 | PASS | +-------------------------------+----------+ | Debian GNU/Linux 12 | PASS | +-------------------------------+----------+ | Ubuntu 24.04 | PASS | +-------------------------------+----------+ | openSUSE Leap 15.6 | PASS | +-------------------------------+----------+ | Red Hat Enterprise Linux 8.10 | PASS | +-------------------------------+----------+ | Ubuntu 22.04 | PASS | +-------------------------------+----------+ | Red Hat Enterprise Linux 9.5 | PASS | +-------------------------------+----------+ CentOS Stream 10 Kernel: 5.15 Compiler: gcc gcc (GCC) 14.2.1 20250110 (Red Hat 14.2.1-8) Fedora Linux 41 Kernel: 5.15 Compiler: gcc gcc (GCC) 14.3.1 20250523 (Red Hat 14.3.1-1) CentOS Stream 9 Kernel: 5.15 Compiler: gcc gcc (GCC) 11.5.0 20240719 (Red Hat 11.5.0-7) Fedora Linux 40 Kernel: 5.15 Compiler: clang gcc (GCC) 14.2.1 20240912 (Red Hat 14.2.1-3) Debian GNU/Linux 12 Kernel: 5.15 Compiler: gcc gcc (Debian 12.2.0-14+deb12u1) 12.2.0 Ubuntu 24.04 Kernel: 5.15 Compiler: gcc gcc (Ubuntu 13.3.0-6ubuntu2~24.04) 13.3.0 openSUSE Leap 15.6 Kernel: 5.15 Compiler: gcc gcc (SUSE Linux) 7.5.0 Red Hat Enterprise Linux 8.10 Kernel: 5.15 Compiler: gcc gcc (GCC) 8.5.0 20210514 (Red Hat 8.5.0-22) Ubuntu 22.04 Kernel: 5.15 Compiler: gcc gcc (Ubuntu 11.4.0-1ubuntu1~22.04) 11.4.0 Red Hat Enterprise Linux 9.5 Kernel: 5.15 Compiler: gcc gcc (GCC) 11.5.0 20240719 (Red Hat 11.5.0-2) To view detailed results, visit: https://lab.dpdk.org/results/dashboard/patchsets/33563/ UNH-IOL DPDK Community Lab To manage your email subscriptions, visit: https://lab.dpdk.org/results/dashboard/preferences/subscriptions/