From mboxrd@z Thu Jan 1 00:00:00 1970 Return-Path: Received: from mails.dpdk.org (mails.dpdk.org [217.70.189.124]) by inbox.dpdk.org (Postfix) with ESMTP id 83B1346AF1 for ; Wed, 9 Jul 2025 04:58:15 +0200 (CEST) Received: from mails.dpdk.org (localhost [127.0.0.1]) by mails.dpdk.org (Postfix) with ESMTP id 615244013F; Wed, 9 Jul 2025 04:58:15 +0200 (CEST) Received: from mail-yw1-f227.google.com (mail-yw1-f227.google.com [209.85.128.227]) by mails.dpdk.org (Postfix) with ESMTP id 61A2E4013F for ; Wed, 9 Jul 2025 04:58:13 +0200 (CEST) Received: by mail-yw1-f227.google.com with SMTP id 00721157ae682-70e302191a3so43620117b3.2 for ; Tue, 08 Jul 2025 19:58:13 -0700 (PDT) DKIM-Signature: v=1; a=rsa-sha256; c=relaxed/relaxed; d=iol.unh.edu; s=unh-iol; t=1752029892; x=1752634692; darn=dpdk.org; h=references:in-reply-to:cc:to:from:subject:message-id:date:from:to :cc:subject:date:message-id:reply-to; bh=Z5dpUZw+WCoul8ojWNwtYwoYZgJTG4NmJaVXHChpX6A=; b=E6UWOIOTMLPaGh+a7YQbe22oH2C/wgNz1PoV6SBs1oX+r0J/VWAMne81qjmySqYCPk rAYp/NjZ/x95nJzQchGwk2zV+d6LtJTRi+47FxYm9+N2CHWmGLOgD9rBjUKI/6n48uwT 83y5q1tA81P/Q3wmqpRweS8xmscjMLaLgl3Do= X-Google-DKIM-Signature: v=1; a=rsa-sha256; c=relaxed/relaxed; d=1e100.net; s=20230601; t=1752029892; x=1752634692; h=references:in-reply-to:cc:to:from:subject:message-id:date :x-gm-message-state:from:to:cc:subject:date:message-id:reply-to; bh=Z5dpUZw+WCoul8ojWNwtYwoYZgJTG4NmJaVXHChpX6A=; b=EQswWsaWiraUGyebYjgdgzBmzzpe83B06jWjA17bGjFJODcToscc90rccKhdK9noWD sUWeBwaDceHBduV9cHHq89cyKEIw3PnkkOacQoNFeQ2mTqOzUXc6B6pVVfrBIR6oqlm+ 7YQAsEHtyKodvWuE7DcJ0mP2mAbBGtkZu/sO12QmNOzaZns+W+CXvLq9GWFCY8fgNR6p Fm+lSrrJSBHAf1vtiD8S1rZLE73jDamHIzWeexIns5YPaVS9/ED+hayU6x7lVccZxl0W RykPcRlb/HWYyYXbgorYceGPlA88/Q/C/5u9Kr63JlXZj5r69I9ZBse48iLSwGl8MldH 17Uw== X-Gm-Message-State: AOJu0Yw7MwUPO9bs8wg21EAulRlpWHTu5TgvjrWlNskQlSCoqL9N+0L/ WU1YTP1iN1FlelPEbaXAnr+c/X6qXlp+qDSISz3ntDaV7/UeC0wcxCqIOn1MMK5xnJF7J0qk87R KNVho3ldToY0aPPjPxf8mMneimn0xgXuTHzqAuaW6h6obD/Ov1Tj2LGwB9Tk6 X-Gm-Gg: ASbGncs6t0gZggs9/ej5FOuSUbIh6qjaRiqivty9eH7ZicalD5bKXCrzqZ5I3jDEI51 f1jEWMXwfMWamafBoIR1Kz6AQCYbfbTTzkqeOX8tVJJU4efqT7M9vOkKDXTmZq3ov5D6Gtr9PII XIcYrhDrLXzLpiIBiSDFaTOlacYtBnFtrZL6nHiq7lWhrFnaA/DFZ3dCgGRG5FuAVVOR1Vbrhgb SWrbldntPhnnGU7bQUIYUzW+7gkhmEidcQcELGCuySlNGEfDUUwzuZ2Kc7+xl3ppWH/o9Jrg9nB lVo4mPBZolFGB8EIwtuKqc078p8v8BXS5SnfXnHzyw0XPTA= X-Google-Smtp-Source: AGHT+IE72qwJ0PxjYI1hHlX9jVSEY+cO4goVOzHyC6c/kYu4IrCA4FIeac9p7RpBG5Hn8NAqCTvI3GDVd67z X-Received: by 2002:a05:690c:f02:b0:711:16d4:60dd with SMTP id 00721157ae682-717b19cb2c7mr18085257b3.19.1752029892714; Tue, 08 Jul 2025 19:58:12 -0700 (PDT) Received: from postal.iol.unh.edu (postal.iol.unh.edu. [2606:4100:3880:1234::84]) by smtp-relay.gmail.com with ESMTPS id 00721157ae682-71665b292fdsm3334237b3.35.2025.07.08.19.58.12 (version=TLS1_2 cipher=ECDHE-ECDSA-AES128-GCM-SHA256 bits=128/128); Tue, 08 Jul 2025 19:58:12 -0700 (PDT) X-Relaying-Domain: iol.unh.edu Date: Tue, 08 Jul 2025 19:58:12 -0700 (PDT) Message-ID: <686ddac4.050a0220.8720b.1a26SMTPIN_ADDED_MISSING@mx.google.com> Received: from [172.21.0.5] (unknown [172.18.0.240]) by postal.iol.unh.edu (Postfix) with ESMTP id 6EF1E6051830; Tue, 8 Jul 2025 22:58:12 -0400 (EDT) Subject: |WARNING| pw154979-154986 [PATCH] [v7,8/8] bus/dpaa: optimize qman e From: dpdklab@iol.unh.edu To: Test Report Cc: dpdk-test-reports@iol.unh.edu In-Reply-To: <20250703052558.3700573-9-vanshika.shukla@nxp.com> References: <20250703052558.3700573-9-vanshika.shukla@nxp.com> Content-Type: text/plain X-BeenThere: test-report@dpdk.org X-Mailman-Version: 2.1.29 Precedence: list List-Id: automatic DPDK test reports List-Unsubscribe: , List-Archive: List-Post: List-Help: List-Subscribe: , Errors-To: test-report-bounces@dpdk.org Test-Label: iol-compile-amd64-testing Test-Status: WARNING http://dpdk.org/patch/154986 _Testing issues_ Submitter: Vanshika Shukla Date: Thursday, July 03 2025 05:25:58 DPDK git baseline: Repo:dpdk Branch: master CommitID:ba982f9a1ca9b96ed0394b764f1523d482e963a2 154979-154986 --> testing issues Upstream job id: Windows-Compile-DPDK-Native#29663 Test environment and result as below: +-------------------------------+--------------------+-------------------+------------------+-------------------+-------------------------+----------------------+ | Environment | dpdk_meson_compile | dpdk_compile_spdk | dpdk_compile_ovs | dpdk_msvc_compile | dpdk_llvm_clang_compile | dpdk_mingw64_compile | +===============================+====================+===================+==================+===================+=========================+======================+ | CentOS Stream 9 | PASS | PASS | SKIPPED | SKIPPED | SKIPPED | SKIPPED | +-------------------------------+--------------------+-------------------+------------------+-------------------+-------------------------+----------------------+ | Debian GNU/Linux 12 | PASS | PASS | SKIPPED | SKIPPED | SKIPPED | SKIPPED | +-------------------------------+--------------------+-------------------+------------------+-------------------+-------------------------+----------------------+ | CentOS Stream 10 | PASS | SKIPPED | SKIPPED | SKIPPED | SKIPPED | SKIPPED | +-------------------------------+--------------------+-------------------+------------------+-------------------+-------------------------+----------------------+ | Fedora Linux 40 | PASS | PASS | SKIPPED | SKIPPED | SKIPPED | SKIPPED | +-------------------------------+--------------------+-------------------+------------------+-------------------+-------------------------+----------------------+ | Fedora Linux 41 | PASS | PASS | PASS | SKIPPED | SKIPPED | SKIPPED | +-------------------------------+--------------------+-------------------+------------------+-------------------+-------------------------+----------------------+ | openSUSE Leap 15.6 | PASS | SKIPPED | SKIPPED | SKIPPED | SKIPPED | SKIPPED | +-------------------------------+--------------------+-------------------+------------------+-------------------+-------------------------+----------------------+ | Ubuntu 24.04 | PASS | PASS | PASS | SKIPPED | SKIPPED | SKIPPED | +-------------------------------+--------------------+-------------------+------------------+-------------------+-------------------------+----------------------+ | Ubuntu 22.04 | PASS | PASS | SKIPPED | SKIPPED | SKIPPED | SKIPPED | +-------------------------------+--------------------+-------------------+------------------+-------------------+-------------------------+----------------------+ | Ubuntu 20.04 | PASS | SKIPPED | SKIPPED | SKIPPED | SKIPPED | SKIPPED | +-------------------------------+--------------------+-------------------+------------------+-------------------+-------------------------+----------------------+ | FreeBSD 14.2 | PASS | SKIPPED | SKIPPED | SKIPPED | SKIPPED | SKIPPED | +-------------------------------+--------------------+-------------------+------------------+-------------------+-------------------------+----------------------+ | Red Hat Enterprise Linux 9.5 | PASS | SKIPPED | SKIPPED | SKIPPED | SKIPPED | SKIPPED | +-------------------------------+--------------------+-------------------+------------------+-------------------+-------------------------+----------------------+ | Alpine Linux 3.22.0 | PASS | SKIPPED | SKIPPED | SKIPPED | SKIPPED | SKIPPED | +-------------------------------+--------------------+-------------------+------------------+-------------------+-------------------------+----------------------+ | Red Hat Enterprise Linux 8.10 | PASS | SKIPPED | SKIPPED | SKIPPED | SKIPPED | SKIPPED | +-------------------------------+--------------------+-------------------+------------------+-------------------+-------------------------+----------------------+ | Windows Server 2022 | SKIPPED | SKIPPED | SKIPPED | PASS | PASS | PASS | +-------------------------------+--------------------+-------------------+------------------+-------------------+-------------------------+----------------------+ CentOS Stream 9 Kernel: 5.15 Compiler: gcc gcc (GCC) 11.5.0 20240719 (Red Hat 11.5.0-7) Debian GNU/Linux 12 Kernel: 5.15 Compiler: gcc gcc (Debian 12.2.0-14+deb12u1) 12.2.0 CentOS Stream 10 Kernel: 5.15 Compiler: gcc gcc (GCC) 14.2.1 20250110 (Red Hat 14.2.1-8) Fedora Linux 40 Kernel: 5.15 Compiler: clang gcc (GCC) 14.2.1 20240912 (Red Hat 14.2.1-3) Fedora Linux 41 Kernel: 5.15 Compiler: clang gcc (GCC) 14.3.1 20250523 (Red Hat 14.3.1-1) openSUSE Leap 15.6 Kernel: 5.15 Compiler: gcc gcc (SUSE Linux) 7.5.0 Ubuntu 24.04 Kernel: 5.15 Compiler: gcc gcc (Ubuntu 13.3.0-6ubuntu2~24.04) 13.3.0 Ubuntu 22.04 Kernel: 5.15 Compiler: gcc gcc (Ubuntu 11.4.0-1ubuntu1~22.04) 11.4.0 Ubuntu 20.04 Kernel: 5.15 Compiler: gcc gcc (Ubuntu 9.4.0-1ubuntu1~20.04.2) 9.4.0 FreeBSD 14.2 Kernel: 14.2-RELEASE Compiler: clang 18.1.6 Red Hat Enterprise Linux 9.5 Kernel: 5.15 Compiler: gcc gcc (GCC) 11.5.0 20240719 (Red Hat 11.5.0-2) Alpine Linux 3.22.0 Kernel: 5.15 Compiler: gcc gcc (Alpine 14.2.0) 14.2.0 Red Hat Enterprise Linux 8.10 Kernel: 5.15 Compiler: gcc gcc (GCC) 8.5.0 20210514 (Red Hat 8.5.0-22) Windows Server 2022 Kernel: 10.0.20348.2031 Compiler: clang 15.0.7, gcc 14.1.0 (MinGW), and MSVC VS 19.39.33521 To view detailed results, visit: https://lab.dpdk.org/results/dashboard/patchsets/33576/ UNH-IOL DPDK Community Lab To manage your email subscriptions, visit: https://lab.dpdk.org/results/dashboard/preferences/subscriptions/