From mboxrd@z Thu Jan 1 00:00:00 1970 Return-Path: Received: from mails.dpdk.org (mails.dpdk.org [217.70.189.124]) by inbox.dpdk.org (Postfix) with ESMTP id AC52546AF1 for ; Wed, 9 Jul 2025 05:12:47 +0200 (CEST) Received: from mails.dpdk.org (localhost [127.0.0.1]) by mails.dpdk.org (Postfix) with ESMTP id A71F14013F; Wed, 9 Jul 2025 05:12:47 +0200 (CEST) Received: from mail-il1-f228.google.com (mail-il1-f228.google.com [209.85.166.228]) by mails.dpdk.org (Postfix) with ESMTP id 0FCBB4013F for ; Wed, 9 Jul 2025 05:12:47 +0200 (CEST) Received: by mail-il1-f228.google.com with SMTP id e9e14a558f8ab-3e13a58191eso42323375ab.2 for ; Tue, 08 Jul 2025 20:12:47 -0700 (PDT) DKIM-Signature: v=1; a=rsa-sha256; c=relaxed/relaxed; d=iol.unh.edu; s=unh-iol; t=1752030766; x=1752635566; darn=dpdk.org; h=references:in-reply-to:cc:to:from:subject:message-id:date:from:to :cc:subject:date:message-id:reply-to; bh=f1ZtQCqGNJ245bEe962UjyGcG90L/Hqylg904/z5SZc=; b=HVY4xU+UizbeNs9n1weS8XQxhCnxuoT92t+ZKObKaxpgFPxoRmlfdjI9P2XN5m+YDm C9/52RkcNnkwJb7bACFNM91k6GyydrdQUgc3oE40Mm2CK5HZ6jrfM4WuT6DA3maAwt/u NIyorrujATYMPBFE5WO/31/gxyZUz6sgb02tA= X-Google-DKIM-Signature: v=1; a=rsa-sha256; c=relaxed/relaxed; d=1e100.net; s=20230601; t=1752030766; x=1752635566; h=references:in-reply-to:cc:to:from:subject:message-id:date :x-gm-message-state:from:to:cc:subject:date:message-id:reply-to; bh=f1ZtQCqGNJ245bEe962UjyGcG90L/Hqylg904/z5SZc=; b=gaCPKskSKShLt/AGdlFrXasZ7x2Q4YUTArUiJQ6ILnyFXodMS+oIyFKNvKTvfDIWxI hDh/VJ0+l5c1t8jnJsa0VDKorLLVEHWXuRlBPGL3POEIqZ7WvNd/beHHiG7VY0+g9ke1 mBI+MxOpBR/wsSyK9ppMBITO+1DScC8V+ec/cxfSbkKNu4sBRdt8PcS3OFg87Fw2l9Wy q/t1rHvvCFGu/ZVWHnGAfYWkqBeAQ/WGLQf0MEmzAB0nA4zc0cZpkAgA2UIrjBr/+MAP O1MfCDNDsX71WwtIesqHZIAtAnqK32pUJWeZy9j7kCuXlM0hVWdQXzHPyrLePF0saFgs rMRg== X-Gm-Message-State: AOJu0YyqDDxoxYS1h1sBqOvPTw4c9+nAMkoSz1s+MuolU8Vl0Lo2wxpZ sVbbwQdl9FonqKQbRmd5NsvBluGZ8Yiid4Z5vF8HYFuvsSE4y/v5uTqZ8GxZHgXy2H9okwpWdu6 o2QFCPGS9m/G9VoehH8BqNWoHm9Kb9bhrEZUCzxClgHP+EGt05aGkhq7bBLCQ X-Gm-Gg: ASbGncshMcgIwQKTZLVG43AXqUwzcv1wy0fhos4LSh9ZRMo+A57RRc1DNSKuWYz2Dod Pn92PkIGweDVi6TYIqbvtLzNt310bmv16VM38pOXGRBiN1Zwk64ERmx331qnKdp3iFa/2wkZ+JM YcLw7B89HLj7ZzGD4Kjymxhvi1AWvgaWDYSbSKzVLMWC/aKff6VPMbmgPWt6H2Qdc9gJ9yeII2f K2eDwihCHWX0kwqk8fyUSJ4NJQ9iOjNEoTOJGX74+wqH4A6FICJPMMkl9G4lrQUD1ElW64F79S0 yoAaWTWIoy+M1BTdMZ6TYW57J8dSVgzRGRaJKCBi+N2SBCI= X-Google-Smtp-Source: AGHT+IEuQfr/+EydQ9BvtQ5yN/dZwEOHOycfZZgoViavjPrQyElCAIu51Ct5kf11geSUDcPAw+dQ/U4NHT3N X-Received: by 2002:a05:6e02:b41:b0:3dd:cdf2:fea4 with SMTP id e9e14a558f8ab-3e1670ac635mr11109985ab.14.1752030766376; Tue, 08 Jul 2025 20:12:46 -0700 (PDT) Received: from postal.iol.unh.edu (postal.iol.unh.edu. [2606:4100:3880:1234::84]) by smtp-relay.gmail.com with ESMTPS id 8926c6da1cb9f-503b59bde2esm438583173.7.2025.07.08.20.12.46 (version=TLS1_2 cipher=ECDHE-ECDSA-AES128-GCM-SHA256 bits=128/128); Tue, 08 Jul 2025 20:12:46 -0700 (PDT) X-Relaying-Domain: iol.unh.edu Date: Tue, 08 Jul 2025 20:12:46 -0700 (PDT) Message-ID: <686dde2e.050a0220.7474a.6fb8SMTPIN_ADDED_MISSING@mx.google.com> Received: from [172.21.0.6] (unknown [172.18.0.240]) by postal.iol.unh.edu (Postfix) with ESMTP id D593E6051830; Tue, 8 Jul 2025 23:12:45 -0400 (EDT) Subject: |SUCCESS| pw154925-154942 [PATCH] [V5,18/18] drivers/net: add hinic3 From: dpdklab@iol.unh.edu To: Test Report Cc: dpdk-test-reports@iol.unh.edu In-Reply-To: <20250702020953.599-19-wff_light@vip.163.com> References: <20250702020953.599-19-wff_light@vip.163.com> Content-Type: text/plain X-BeenThere: test-report@dpdk.org X-Mailman-Version: 2.1.29 Precedence: list List-Id: automatic DPDK test reports List-Unsubscribe: , List-Archive: List-Post: List-Help: List-Subscribe: , Errors-To: test-report-bounces@dpdk.org Test-Label: iol-unit-amd64-testing Test-Status: SUCCESS http://dpdk.org/patch/154942 _Testing PASS_ Submitter: Feifei Wang Date: Wednesday, July 02 2025 02:09:41 DPDK git baseline: Repo:dpdk Branch: master CommitID:ba982f9a1ca9b96ed0394b764f1523d482e963a2 154925-154942 --> testing pass Upstream job id: Generic-Unit-Test-DPDK#353903 Test environment and result as below: +-------------------------------+----------------+ | Environment | dpdk_unit_test | +===============================+================+ | CentOS Stream 9 | PASS | +-------------------------------+----------------+ | Fedora Linux 40 | PASS | +-------------------------------+----------------+ | CentOS Stream 10 | PASS | +-------------------------------+----------------+ | Debian GNU/Linux 12 | PASS | +-------------------------------+----------------+ | Red Hat Enterprise Linux 8.10 | PASS | +-------------------------------+----------------+ | Fedora Linux 41 | PASS | +-------------------------------+----------------+ | Red Hat Enterprise Linux 9.5 | PASS | +-------------------------------+----------------+ | Ubuntu 20.04 | PASS | +-------------------------------+----------------+ | Ubuntu 24.04 | PASS | +-------------------------------+----------------+ | Ubuntu 22.04 | PASS | +-------------------------------+----------------+ CentOS Stream 9 Kernel: 5.15 Compiler: gcc gcc (GCC) 11.5.0 20240719 (Red Hat 11.5.0-7) Fedora Linux 40 Kernel: 5.15 Compiler: gcc gcc (GCC) 14.2.1 20240912 (Red Hat 14.2.1-3) CentOS Stream 10 Kernel: 5.15 Compiler: gcc gcc (GCC) 14.2.1 20250110 (Red Hat 14.2.1-8) Debian GNU/Linux 12 Kernel: 5.15 Compiler: gcc gcc (Debian 12.2.0-14+deb12u1) 12.2.0 Red Hat Enterprise Linux 8.10 Kernel: 5.15 Compiler: gcc gcc (GCC) 8.5.0 20210514 (Red Hat 8.5.0-22) Fedora Linux 41 Kernel: 5.15 Compiler: gcc gcc (GCC) 14.3.1 20250523 (Red Hat 14.3.1-1) Red Hat Enterprise Linux 9.5 Kernel: 5.15 Compiler: gcc gcc (GCC) 11.5.0 20240719 (Red Hat 11.5.0-2) Ubuntu 20.04 Kernel: 5.15 Compiler: gcc gcc (Ubuntu 9.4.0-1ubuntu1~20.04.2) 9.4.0 Ubuntu 24.04 Kernel: 5.15 Compiler: gcc gcc (Ubuntu 13.3.0-6ubuntu2~24.04) 13.3.0 Ubuntu 22.04 Kernel: 5.15 Compiler: gcc gcc (Ubuntu 11.4.0-1ubuntu1~22.04) 11.4.0 To view detailed results, visit: https://lab.dpdk.org/results/dashboard/patchsets/33560/ UNH-IOL DPDK Community Lab To manage your email subscriptions, visit: https://lab.dpdk.org/results/dashboard/preferences/subscriptions/