From: dpdklab@iol.unh.edu
To: Test Report <test-report@dpdk.org>
Cc: dpdk-test-reports@iol.unh.edu
Subject: |PENDING| pw155085 [PATCH] [v3] pcapng: allow any protocol link type
Date: Tue, 08 Jul 2025 20:22:33 -0700 (PDT) [thread overview]
Message-ID: <686de079.050a0220.2359f3.db85SMTPIN_ADDED_MISSING@mx.google.com> (raw)
In-Reply-To: <20250708210245.3967578-1-schneide@qti.qualcomm.com>
Test-Label: iol-compile-amd64-testing
Test-Status: PENDING
http://dpdk.org/patch/155085
_Testing pending_
Submitter: Schneide <schneide@qti.qualcomm.com>
Date: Tuesday, July 08 2025 21:02:45
DPDK git baseline: Repo:dpdk
Branch: master
CommitID:e90979eebbea093f6bab2d7c222fc5f5c9a85eff
155085 --> testing pending
Upstream job id: Generic-VM-DPDK-Compile-Meson#37039
Test environment and result as below:
+--------------+--------------------+
| Environment | dpdk_meson_compile |
+==============+====================+
| Ubuntu 20.04 | PASS |
+--------------+--------------------+
| FreeBSD 14.2 | PEND |
+--------------+--------------------+
Ubuntu 20.04
Kernel: 4.19
Compiler: gcc gcc (Ubuntu 9.4.0-1ubuntu1~20.04.2) 9.4.0
FreeBSD 14.2
Kernel: 14.2-RELEASE
Compiler: clang 18.1.6
To view detailed results, visit:
https://lab.dpdk.org/results/dashboard/patchsets/33618/
UNH-IOL DPDK Community Lab
To manage your email subscriptions, visit:
https://lab.dpdk.org/results/dashboard/preferences/subscriptions/
next prev parent reply other threads:[~2025-07-09 3:22 UTC|newest]
Thread overview: 22+ messages / expand[flat|nested] mbox.gz Atom feed top
[not found] <20250708210245.3967578-1-schneide@qti.qualcomm.com>
2025-07-08 20:29 ` |SUCCESS| pw155085 [PATCH v3] pcapng: allow any protocol link type for the interface block qemudev
2025-07-08 20:34 ` qemudev
2025-07-08 21:03 ` checkpatch
2025-07-08 22:23 ` 0-day Robot
2025-07-09 2:08 ` |SUCCESS| pw155085 [PATCH] [v3] pcapng: allow any protocol link type dpdklab
2025-07-09 2:10 ` dpdklab
2025-07-09 2:46 ` dpdklab
2025-07-09 3:22 ` dpdklab [this message]
2025-07-09 3:30 ` dpdklab
2025-07-09 3:34 ` dpdklab
2025-07-09 3:57 ` |PENDING| " dpdklab
2025-07-09 4:12 ` dpdklab
2025-07-09 4:15 ` dpdklab
2025-07-09 4:42 ` dpdklab
2025-07-09 4:54 ` |SUCCESS| " dpdklab
2025-07-09 5:15 ` dpdklab
2025-07-09 6:11 ` dpdklab
2025-07-09 7:22 ` |WARNING| " dpdklab
2025-07-09 9:40 ` |SUCCESS| " dpdklab
2025-07-09 10:19 ` |WARNING| " dpdklab
2025-07-09 10:48 ` dpdklab
2025-07-09 15:10 ` dpdklab
Reply instructions:
You may reply publicly to this message via plain-text email
using any one of the following methods:
* Save the following mbox file, import it into your mail client,
and reply-to-all from there: mbox
Avoid top-posting and favor interleaved quoting:
https://en.wikipedia.org/wiki/Posting_style#Interleaved_style
* Reply using the --to, --cc, and --in-reply-to
switches of git-send-email(1):
git send-email \
--in-reply-to=686de079.050a0220.2359f3.db85SMTPIN_ADDED_MISSING@mx.google.com \
--to=dpdklab@iol.unh.edu \
--cc=dpdk-test-reports@iol.unh.edu \
--cc=test-report@dpdk.org \
/path/to/YOUR_REPLY
https://kernel.org/pub/software/scm/git/docs/git-send-email.html
* If your mail client supports setting the In-Reply-To header
via mailto: links, try the mailto: link
Be sure your reply has a Subject: header at the top and a blank line
before the message body.
This is a public inbox, see mirroring instructions
for how to clone and mirror all data and code used for this inbox;
as well as URLs for NNTP newsgroup(s).