From mboxrd@z Thu Jan 1 00:00:00 1970 Return-Path: Received: from mails.dpdk.org (mails.dpdk.org [217.70.189.124]) by inbox.dpdk.org (Postfix) with ESMTP id EEB2F46A45 for ; Wed, 9 Jul 2025 05:25:19 +0200 (CEST) Received: from mails.dpdk.org (localhost [127.0.0.1]) by mails.dpdk.org (Postfix) with ESMTP id E2AA94013F; Wed, 9 Jul 2025 05:25:19 +0200 (CEST) Received: from mail-pg1-f228.google.com (mail-pg1-f228.google.com [209.85.215.228]) by mails.dpdk.org (Postfix) with ESMTP id 287784013F for ; Wed, 9 Jul 2025 05:25:19 +0200 (CEST) Received: by mail-pg1-f228.google.com with SMTP id 41be03b00d2f7-b3182c6d03bso5978312a12.0 for ; Tue, 08 Jul 2025 20:25:19 -0700 (PDT) DKIM-Signature: v=1; a=rsa-sha256; c=relaxed/relaxed; d=iol.unh.edu; s=unh-iol; t=1752031518; x=1752636318; darn=dpdk.org; h=references:in-reply-to:cc:to:from:subject:message-id:date:from:to :cc:subject:date:message-id:reply-to; bh=WjKsaQclaHCrNNrx/c4YiRMc5YlgFNanziArclJEGHM=; b=Z0HHTnQSYx4/MToMItQ8LSxg/C9cG8CfCoeE123xQwthJoksaOYXp4MDnVk8v5nWQj JOK/iPoiKlsmeIZvv2riivpoeexYKfRDRvPqZ39hxwPtWEjzTkXx7nNZ5D+tWvBI0Y+3 5eH7jy89Jzd6gdSXcCtQO4XfRo4A+0IzmDOq0= X-Google-DKIM-Signature: v=1; a=rsa-sha256; c=relaxed/relaxed; d=1e100.net; s=20230601; t=1752031518; x=1752636318; h=references:in-reply-to:cc:to:from:subject:message-id:date :x-gm-message-state:from:to:cc:subject:date:message-id:reply-to; bh=WjKsaQclaHCrNNrx/c4YiRMc5YlgFNanziArclJEGHM=; b=XAlhe8brm7+nYyLT04TyRX8kE8ce6LODmClS1uwCPWANkT875YdfpyOpMqh6NDoXAd nrIOvLlOlLd4rFQ7rLFCd9nVl7F35EotR3n1k328jE6Cg55VeF+P1u0Z3FiWVjjKK7WV W/HXukw3Y2IYdFMTDw+j8rd50GmVF5lkAmcSrxunWbfu1la3myTr0lTaJzv0EVwPRZIg hnQZA9FsSj2BvlaACDW2M888BZOBngRpF/0epf6kG33HiKG4MA4Z2dNiszrRrfXXgMU0 IOC8+1aG74jx2YPDV/l8mwGYNZAZ72RP3DRl6osTywsmQvfTS87AoWvIDhtM0m92Za5X vqUg== X-Gm-Message-State: AOJu0YycinoJkEMOTRekMhlC0oooNDuDAYw8b85Ycmun98+M2+0QAtqg DBL0odgDlZ8TSDQmwEVlECFed9ab5eTLE0mwDkW/GleL+Ox/rsPIRyKxeWfJfUkXGXU2B6KkpGH 4RmbQKjd3sxiLlrFOBpRlusGpBZ5ZGQYrMkIeMMKsnods X-Gm-Gg: ASbGnctGYxBs7SDM+beluP80nhYrAYlIto7xUl/zO3ubgwRcB/E3SZ4GMfkFbHRxB9V TA1VaB7O7idrlFi1x2HzKQSVEC+Lr3gbzNdMFhplDmNoCGXHT6tZpH8U2oMaYWwRI+JpPMsASR7 xrPCX6AdqepPCI6Lw5148PggBcJh9YmKEoxv4VFDln3arQ5uMKHEnE2VuVwjqkvHtvhxs8PjhG5 OsaydB09gio22PzztjFAJR5YyPFVQndjuPIyTFp2ZZGKUKgV+amWHaRYvumnCyZMsqKHBoXO2zY 0SrLtjQmiIslakhg9wjx8mlplDaTG3NIEcMq3xFC58SsOYT7XYg0J2moJ6BsV7K961n1pA== X-Google-Smtp-Source: AGHT+IH7c1a2iKrYolwjDtkITonTBi0pkcAYDLyR4vKJOtS0DQwUBwjzsrNOp2/AjAgeEaawylt4fHE3+6eK X-Received: by 2002:a17:903:3b8e:b0:220:c164:6ee1 with SMTP id d9443c01a7336-23ddb2f2e23mr15562835ad.32.1752031518112; Tue, 08 Jul 2025 20:25:18 -0700 (PDT) Received: from postal.iol.unh.edu (postal.iol.unh.edu. [132.177.123.84]) by smtp-relay.gmail.com with ESMTPS id d9443c01a7336-23c842b5494sm6078075ad.13.2025.07.08.20.25.17 (version=TLS1_2 cipher=ECDHE-ECDSA-AES128-GCM-SHA256 bits=128/128); Tue, 08 Jul 2025 20:25:18 -0700 (PDT) X-Relaying-Domain: iol.unh.edu Date: Tue, 08 Jul 2025 20:25:18 -0700 (PDT) Message-ID: <686de11e.170a0220.16fa49.0ff8SMTPIN_ADDED_MISSING@mx.google.com> Received: from [172.21.0.7] (unknown [172.18.0.240]) by postal.iol.unh.edu (Postfix) with ESMTP id 91D3B6051830; Tue, 8 Jul 2025 23:25:17 -0400 (EDT) Subject: |SUCCESS| pw154950-154951 [PATCH] [v3,2/2] net/zxdh: add support flo From: dpdklab@iol.unh.edu To: Test Report Cc: dpdk-test-reports@iol.unh.edu In-Reply-To: <20250702073453.113779-3-chen.bingbin@zte.com.cn> References: <20250702073453.113779-3-chen.bingbin@zte.com.cn> Content-Type: text/plain X-BeenThere: test-report@dpdk.org X-Mailman-Version: 2.1.29 Precedence: list List-Id: automatic DPDK test reports List-Unsubscribe: , List-Archive: List-Post: List-Help: List-Subscribe: , Errors-To: test-report-bounces@dpdk.org Test-Label: iol-unit-arm64-testing Test-Status: SUCCESS http://dpdk.org/patch/154951 _Testing PASS_ Submitter: Bingbin Chen Date: Wednesday, July 02 2025 07:34:45 DPDK git baseline: Repo:dpdk Branch: master CommitID:ba982f9a1ca9b96ed0394b764f1523d482e963a2 154950-154951 --> testing pass Upstream job id: Generic-Unit-Test-DPDK#353852 Test environment and result as below: +------------------------------+----------------+--------------+------------------------------+---------------------------+ | Environment | dpdk_unit_test | lpm_autotest | cryptodev_sw_snow3g_autotest | cryptodev_sw_zuc_autotest | +==============================+================+==============+==============================+===========================+ | CentOS Stream 10 | PASS | SKIPPED | SKIPPED | SKIPPED | +------------------------------+----------------+--------------+------------------------------+---------------------------+ | Debian GNU/Linux 12 | PASS | SKIPPED | SKIPPED | SKIPPED | +------------------------------+----------------+--------------+------------------------------+---------------------------+ | CentOS Stream 9 | PASS | SKIPPED | SKIPPED | SKIPPED | +------------------------------+----------------+--------------+------------------------------+---------------------------+ | Fedora Linux 40 | PASS | SKIPPED | SKIPPED | SKIPPED | +------------------------------+----------------+--------------+------------------------------+---------------------------+ | Fedora Linux 41 | PASS | SKIPPED | SKIPPED | SKIPPED | +------------------------------+----------------+--------------+------------------------------+---------------------------+ | Ubuntu 20.04 | PASS | PASS | SKIPPED | SKIPPED | +------------------------------+----------------+--------------+------------------------------+---------------------------+ | Red Hat Enterprise Linux 9.5 | PASS | SKIPPED | SKIPPED | SKIPPED | +------------------------------+----------------+--------------+------------------------------+---------------------------+ | Ubuntu 24.04 | PASS | SKIPPED | SKIPPED | SKIPPED | +------------------------------+----------------+--------------+------------------------------+---------------------------+ | Ubuntu 22.04 | PASS | SKIPPED | SKIPPED | SKIPPED | +------------------------------+----------------+--------------+------------------------------+---------------------------+ | Debian 12 (arm) | SKIPPED | SKIPPED | PASS | PASS | +------------------------------+----------------+--------------+------------------------------+---------------------------+ CentOS Stream 10 Kernel: 5.4 Compiler: gcc gcc (GCC) 14.2.1 20250110 (Red Hat 14.2.1-8) Debian GNU/Linux 12 Kernel: 5.4 Compiler: gcc gcc (Debian 12.2.0-14+deb12u1) 12.2.0 CentOS Stream 9 Kernel: 5.4 Compiler: gcc gcc (GCC) 11.5.0 20240719 (Red Hat 11.5.0-7) Fedora Linux 40 Kernel: 5.4 Compiler: gcc gcc (GCC) 14.2.1 20240912 (Red Hat 14.2.1-3) Fedora Linux 41 Kernel: 5.4 Compiler: gcc gcc (GCC) 14.3.1 20250523 (Red Hat 14.3.1-1) Ubuntu 20.04 Kernel: 5.4 Compiler: gcc gcc (Ubuntu 9.4.0-1ubuntu1~20.04.2) 9.4.0 Red Hat Enterprise Linux 9.5 Kernel: 5.4 Compiler: gcc gcc (GCC) 11.5.0 20240719 (Red Hat 11.5.0-2) Ubuntu 24.04 Kernel: 5.4 Compiler: gcc gcc (Ubuntu 13.3.0-6ubuntu2~24.04) 13.3.0 Ubuntu 22.04 Kernel: 5.4 Compiler: gcc gcc (Ubuntu 11.4.0-1ubuntu1~22.04) 11.4.0 Debian 12 (arm) Kernel: Depends on container host Compiler: gcc (Debian 12.2.0-14) 12.2.0 To view detailed results, visit: https://lab.dpdk.org/results/dashboard/patchsets/33563/ UNH-IOL DPDK Community Lab To manage your email subscriptions, visit: https://lab.dpdk.org/results/dashboard/preferences/subscriptions/