From mboxrd@z Thu Jan 1 00:00:00 1970 Return-Path: Received: from mails.dpdk.org (mails.dpdk.org [217.70.189.124]) by inbox.dpdk.org (Postfix) with ESMTP id 8454F46AF1 for ; Wed, 9 Jul 2025 05:39:33 +0200 (CEST) Received: from mails.dpdk.org (localhost [127.0.0.1]) by mails.dpdk.org (Postfix) with ESMTP id 6A15A4013F; Wed, 9 Jul 2025 05:39:33 +0200 (CEST) Received: from mail-yb1-f227.google.com (mail-yb1-f227.google.com [209.85.219.227]) by mails.dpdk.org (Postfix) with ESMTP id 8E5444013F for ; Wed, 9 Jul 2025 05:39:32 +0200 (CEST) Received: by mail-yb1-f227.google.com with SMTP id 3f1490d57ef6-e81749142b3so4106698276.3 for ; Tue, 08 Jul 2025 20:39:32 -0700 (PDT) DKIM-Signature: v=1; a=rsa-sha256; c=relaxed/relaxed; d=iol.unh.edu; s=unh-iol; t=1752032371; x=1752637171; darn=dpdk.org; h=references:in-reply-to:cc:to:from:subject:message-id:date:from:to :cc:subject:date:message-id:reply-to; bh=JPX8yuF9Hz+bpYUwr8DM3UsaHpEo94zbm4Cz4bD0MOY=; b=ZLqLwRUt98d4V0KkJYJkHKnCXFi/N7C8Vn/XJdYHbFw6h1os5eClM9J4OuLcOuPux9 a/l3Lr7rtdJoJZUO+S5o0MwZiKCJ1U6xx5JICocc4xrn+JG4TenDpn7KJVwtuqucyfai Ie2yGZJII8jaqRo6AJflgHpuMkawf2zA0gE1I= X-Google-DKIM-Signature: v=1; a=rsa-sha256; c=relaxed/relaxed; d=1e100.net; s=20230601; t=1752032371; x=1752637171; h=references:in-reply-to:cc:to:from:subject:message-id:date :x-gm-message-state:from:to:cc:subject:date:message-id:reply-to; bh=JPX8yuF9Hz+bpYUwr8DM3UsaHpEo94zbm4Cz4bD0MOY=; b=OLy1H2c/SqiyibFW6L8EL4+5gogOXqnoYG6ed3fVtUuSznF7LmzlNVbJfVWfOpYKDj ab4CkNwZ5/+FpZpbGqknp/lSD+MDCm1sVGdejiXO03yHwdQE6Jq42uwBWNSYo98A6zqx CrQVNNWWi53e9rci7iM48Rb0vx4KTnSx2vRXHHdAl6jAEmHz6uRHieUxfUjPOSyxrJQd zhWkmnT9cU6xEXi7A1FDc4iXrHcSqJsA5Ty2rc7vh3VxYI/5WCK177VOOMD+tkKW5krK q+nzdWvYTWiJm0JDOrs//PhkvGlBfC4A4Gr+xULyiXvafAOnIRRjmkYvIcKBwYcspDxi xvCQ== X-Gm-Message-State: AOJu0Yy+rCY1FR/IR5rDqhh3WhbJeVuzsQ0J9/WBeO4wWy1hrwsoGke7 KDQ8NZPtPMkx2kNe7c5x10CuXA6lOyOZOYuP2HHn7l5jvFM5zrO3NaNUzClSimh9psT7+fYcy2M DET5KYhKt+BUGZiyvjVWQNvrgPv3+harDQMr7waQ594E9 X-Gm-Gg: ASbGncszU4AxOb35fmuWM/R8CQGOW5ncOn2FAR1uS7xhdK+ah0hTyO594N/YP9USBC7 TmP9ruzjRWJhDgEkazqXMOD1H0taVYoj3dxA5n8MMZVvzqOSvGgi6Tmlvi+suTiXCstCL9SE2bk nNn3JZHoKf9I/NgiisyTryd58LWxerI6v2keQ/NL/cjWe13mTdych91DYTSaDZOD55HZ7O8cB9a fHwr5AQ4b/j34CVXO0WEmERezoLxFcG/oA6x0V4Ej3iSo7trr0+2B1i88/b32kJ5zgtPBzDsrcw b3EeMIiPAcHxovNj9jcmTqdSrD5js4+jNFdnRFHC9FNUQWHIT7XXozpg46UrjPWJdnPLkw== X-Google-Smtp-Source: AGHT+IH8uWNtB1ZImQhggu4o2Ef6/dRAVhvo9UJhf74hWQODZztMwrWSulfIX43Sg28MJPlYFyMvImHby6jC X-Received: by 2002:a05:6902:1890:b0:e81:7acd:f77e with SMTP id 3f1490d57ef6-e8b6e0da639mr1440501276.6.1752032371750; Tue, 08 Jul 2025 20:39:31 -0700 (PDT) Received: from postal.iol.unh.edu (postal.iol.unh.edu. [132.177.123.84]) by smtp-relay.gmail.com with ESMTPS id 3f1490d57ef6-e899c467b39sm582528276.27.2025.07.08.20.39.31 (version=TLS1_2 cipher=ECDHE-ECDSA-AES128-GCM-SHA256 bits=128/128); Tue, 08 Jul 2025 20:39:31 -0700 (PDT) X-Relaying-Domain: iol.unh.edu Date: Tue, 08 Jul 2025 20:39:31 -0700 (PDT) Message-ID: <686de473.250a0220.368c6a.e717SMTPIN_ADDED_MISSING@mx.google.com> Received: from [172.21.0.5] (unknown [172.18.0.240]) by postal.iol.unh.edu (Postfix) with ESMTP id 6CBA56051830; Tue, 8 Jul 2025 23:39:31 -0400 (EDT) Subject: |SUCCESS| pw154996 [PATCH] [v1] net/iavf: fix VLAN strip disabling f From: dpdklab@iol.unh.edu To: Test Report Cc: dpdk-test-reports@iol.unh.edu In-Reply-To: <20250703084234.8037-1-amiyaranjan.mohakud@gmail.com> References: <20250703084234.8037-1-amiyaranjan.mohakud@gmail.com> Content-Type: text/plain X-BeenThere: test-report@dpdk.org X-Mailman-Version: 2.1.29 Precedence: list List-Id: automatic DPDK test reports List-Unsubscribe: , List-Archive: List-Post: List-Help: List-Subscribe: , Errors-To: test-report-bounces@dpdk.org Test-Label: iol-unit-amd64-testing Test-Status: SUCCESS http://dpdk.org/patch/154996 _Testing PASS_ Submitter: Amiya Ranjan Mohakud Date: Thursday, July 03 2025 08:42:34 DPDK git baseline: Repo:dpdk Branch: master CommitID:a6b10031d251fcc7dadede461f7e1d005024b139 154996 --> testing pass Upstream job id: Generic-VM-Unit-Test-DPDK#29814 Test environment and result as below: +-------------------------------+----------------+ | Environment | dpdk_unit_test | +===============================+================+ | CentOS Stream 10 | PASS | +-------------------------------+----------------+ | CentOS Stream 9 | PASS | +-------------------------------+----------------+ | Debian GNU/Linux 12 | PASS | +-------------------------------+----------------+ | Fedora Linux 40 | PASS | +-------------------------------+----------------+ | Fedora Linux 41 | PASS | +-------------------------------+----------------+ | Red Hat Enterprise Linux 9.5 | PASS | +-------------------------------+----------------+ | Red Hat Enterprise Linux 8.10 | PASS | +-------------------------------+----------------+ | Ubuntu 24.04 | PASS | +-------------------------------+----------------+ | Ubuntu 22.04 | PASS | +-------------------------------+----------------+ | Ubuntu 20.04 | PASS | +-------------------------------+----------------+ | Windows Server 2022 | PASS | +-------------------------------+----------------+ CentOS Stream 10 Kernel: 5.15 Compiler: gcc gcc (GCC) 14.2.1 20250110 (Red Hat 14.2.1-8) CentOS Stream 9 Kernel: 5.15 Compiler: gcc gcc (GCC) 11.5.0 20240719 (Red Hat 11.5.0-7) Debian GNU/Linux 12 Kernel: 5.15 Compiler: gcc gcc (Debian 12.2.0-14+deb12u1) 12.2.0 Fedora Linux 40 Kernel: 5.15 Compiler: gcc gcc (GCC) 14.2.1 20240912 (Red Hat 14.2.1-3) Fedora Linux 41 Kernel: 5.15 Compiler: gcc gcc (GCC) 14.3.1 20250523 (Red Hat 14.3.1-1) Red Hat Enterprise Linux 9.5 Kernel: 5.15 Compiler: gcc gcc (GCC) 11.5.0 20240719 (Red Hat 11.5.0-2) Red Hat Enterprise Linux 8.10 Kernel: 5.15 Compiler: gcc gcc (GCC) 8.5.0 20210514 (Red Hat 8.5.0-22) Ubuntu 24.04 Kernel: 5.15 Compiler: gcc gcc (Ubuntu 13.3.0-6ubuntu2~24.04) 13.3.0 Ubuntu 22.04 Kernel: 5.15 Compiler: gcc gcc (Ubuntu 11.4.0-1ubuntu1~22.04) 11.4.0 Ubuntu 20.04 Kernel: 5.15 Compiler: gcc gcc (Ubuntu 9.4.0-1ubuntu1~20.04.2) 9.4.0 Windows Server 2022 Kernel: 10.0.20348.2031 Compiler: clang 15.0.7, gcc 14.1.0 (MinGW), and MSVC VS 19.39.33521 To view detailed results, visit: https://lab.dpdk.org/results/dashboard/patchsets/33579/ UNH-IOL DPDK Community Lab To manage your email subscriptions, visit: https://lab.dpdk.org/results/dashboard/preferences/subscriptions/