From mboxrd@z Thu Jan 1 00:00:00 1970 Return-Path: Received: from mails.dpdk.org (mails.dpdk.org [217.70.189.124]) by inbox.dpdk.org (Postfix) with ESMTP id 108F646AF1 for ; Wed, 9 Jul 2025 05:43:43 +0200 (CEST) Received: from mails.dpdk.org (localhost [127.0.0.1]) by mails.dpdk.org (Postfix) with ESMTP id 052B54013F; Wed, 9 Jul 2025 05:43:43 +0200 (CEST) Received: from mail-oa1-f97.google.com (mail-oa1-f97.google.com [209.85.160.97]) by mails.dpdk.org (Postfix) with ESMTP id EDE854013F for ; Wed, 9 Jul 2025 05:43:41 +0200 (CEST) Received: by mail-oa1-f97.google.com with SMTP id 586e51a60fabf-2e9071e3706so3539664fac.0 for ; Tue, 08 Jul 2025 20:43:41 -0700 (PDT) DKIM-Signature: v=1; a=rsa-sha256; c=relaxed/relaxed; d=iol.unh.edu; s=unh-iol; t=1752032621; x=1752637421; darn=dpdk.org; h=references:in-reply-to:cc:to:from:subject:message-id:date:from:to :cc:subject:date:message-id:reply-to; bh=jpNFi0lISqjBfEQbla/hpOWzDKaKG0BdrJLPdhZ32mo=; b=VgcoscGeFrT3MKCZCcQRUNaqMTvvoZ5fODBGtEkY8EpD6xEuOEo2Vo5gYK9a+1UpDI MRaOnwZPviuEEwJeT0RqFGPNq4Zofky3hcF1hbi0Qa1DL78DHkydCZyeJQ4dig3MhzcE 6kyy8sZepwwtrwC1xlHlUP1Jfn6b+i9QAHpZQ= X-Google-DKIM-Signature: v=1; a=rsa-sha256; c=relaxed/relaxed; d=1e100.net; s=20230601; t=1752032621; x=1752637421; h=references:in-reply-to:cc:to:from:subject:message-id:date :x-gm-message-state:from:to:cc:subject:date:message-id:reply-to; bh=jpNFi0lISqjBfEQbla/hpOWzDKaKG0BdrJLPdhZ32mo=; b=CYqMS50q0lJv7FJofXUFXE4dcFBOG9jwhnKIIZQolksnw2jkigrhV2PzjRyLqogRpa JMOps0Lc3g/VYDu7lJySchM9sn54agOSG0z4BYVTH7M9C/hZiqAiST0Gumzs3lVz+I3W duBGVstNtnXwzwKSducUtjvm6KrjjtJSSFWsclcxtDOOrw4ZNWPlj7H9VCR+B6Fi7smr 29PGSdo6o41DgkT3E/oJ8/BX9Gd1FxCEon0Sd1y9NYV5P2ce4pNEnjql0Oohmex5qkZe 6jk38uk5RUIO8k2FEGKQEzq5+61al9bJ2oxK+/o1eC+0nCVkZHUFyr0HF1Y54DJd102/ Ei+A== X-Gm-Message-State: AOJu0Yy0QMjYJl7ZFiwOIZatFcT8ZuF++SpK6WmzFa7Sib0Gx8d7MpWq 9dHoFLC5/wJe6HmuVTktaPoUILl6Y1WYTqh8HKmZWCpNPfYTlUEeEYXCIdaHXzfDeLX8eurr3Zz JPOOrNZ1mSF2h2H0v2kIPm7G/oz4eH1+8JbJkxBs7FTXm987rUpwViGmU0SVc X-Gm-Gg: ASbGncsd9BtssEgo34H0Q7Tv+LR8imNkkt5ZHNwM4WCxZZ5BSO35Ir9WHmZWcferjMj nCFPLhjtizRi/E9K3a+vzWnz/W9PBYohCup1QjvSLz84XNNqTFP6P+WKoenqLZ/OCnvXhAdpUCZ y48hP4E7Zh1f4vGRWsyd5zPz9I2eZg05ZTfcahaXDbifP/pcuSui2bsCxRpSJDJjdRDm1b1NA06 FI5e3Csrh0NSBgRlGyxZb3jTsTbQFQidpKu3yTeVlskxzsCpZtvv8DamrMf/g2egZpbawefqjEI fDFyhDmnG/Itdt/0+OzQtsinw4si/OdKN6L/I5UFXiwR10Q= X-Google-Smtp-Source: AGHT+IEroROoYopk8LQy+/owOZ18aqrUxG4wjoji9Ky6m0LxCB+HdTCvlkAA6qzwidMpwHY3dE2tptNQf2bR X-Received: by 2002:a05:6870:f618:b0:2d5:2955:aa58 with SMTP id 586e51a60fabf-2fef80a2eb8mr686501fac.0.1752032621302; Tue, 08 Jul 2025 20:43:41 -0700 (PDT) Received: from postal.iol.unh.edu (postal.iol.unh.edu. [2606:4100:3880:1234::84]) by smtp-relay.gmail.com with ESMTPS id 586e51a60fabf-2f78fe587c1sm726030fac.15.2025.07.08.20.43.41 (version=TLS1_2 cipher=ECDHE-ECDSA-AES128-GCM-SHA256 bits=128/128); Tue, 08 Jul 2025 20:43:41 -0700 (PDT) X-Relaying-Domain: iol.unh.edu Date: Tue, 08 Jul 2025 20:43:41 -0700 (PDT) Message-ID: <686de56d.050a0220.2010e6.6d0aSMTPIN_ADDED_MISSING@mx.google.com> Received: from [172.21.0.6] (unknown [172.18.0.240]) by postal.iol.unh.edu (Postfix) with ESMTP id C50976051830; Tue, 8 Jul 2025 23:43:40 -0400 (EDT) Subject: |WARNING| pw154976 [PATCH] net/iavf: fix VLAN offload strip flag From: dpdklab@iol.unh.edu To: Test Report Cc: dpdk-test-reports@iol.unh.edu In-Reply-To: <20250702181506.95192-1-amiyaranjan.mohakud@gmail.com> References: <20250702181506.95192-1-amiyaranjan.mohakud@gmail.com> Content-Type: text/plain X-BeenThere: test-report@dpdk.org X-Mailman-Version: 2.1.29 Precedence: list List-Id: automatic DPDK test reports List-Unsubscribe: , List-Archive: List-Post: List-Help: List-Subscribe: , Errors-To: test-report-bounces@dpdk.org Test-Label: iol-compile-amd64-testing Test-Status: WARNING http://dpdk.org/patch/154976 _Testing issues_ Submitter: Amiya Ranjan Mohakud Date: Wednesday, July 02 2025 18:15:06 DPDK git baseline: Repo:dpdk Branch: master CommitID:a6b10031d251fcc7dadede461f7e1d005024b139 154976 --> testing issues Upstream job id: Windows-Compile-DPDK-Native#29664 Test environment and result as below: +-------------------------------+--------------------+-------------------+-------------------+------------------+-------------------------+ | Environment | dpdk_meson_compile | dpdk_msvc_compile | dpdk_compile_spdk | dpdk_compile_ovs | dpdk_llvm_clang_compile | +===============================+====================+===================+===================+==================+=========================+ | Ubuntu 20.04 | PASS | SKIPPED | SKIPPED | SKIPPED | SKIPPED | +-------------------------------+--------------------+-------------------+-------------------+------------------+-------------------------+ | FreeBSD 14.2 | PASS | SKIPPED | SKIPPED | SKIPPED | SKIPPED | +-------------------------------+--------------------+-------------------+-------------------+------------------+-------------------------+ | CentOS Stream 9 | PASS | SKIPPED | PASS | SKIPPED | SKIPPED | +-------------------------------+--------------------+-------------------+-------------------+------------------+-------------------------+ | CentOS Stream 10 | PASS | SKIPPED | SKIPPED | SKIPPED | SKIPPED | +-------------------------------+--------------------+-------------------+-------------------+------------------+-------------------------+ | Debian GNU/Linux 12 | PASS | SKIPPED | PASS | SKIPPED | SKIPPED | +-------------------------------+--------------------+-------------------+-------------------+------------------+-------------------------+ | Fedora Linux 40 | PASS | SKIPPED | PASS | SKIPPED | SKIPPED | +-------------------------------+--------------------+-------------------+-------------------+------------------+-------------------------+ | Fedora Linux 41 | PASS | SKIPPED | PASS | PASS | SKIPPED | +-------------------------------+--------------------+-------------------+-------------------+------------------+-------------------------+ | openSUSE Leap 15.6 | PASS | SKIPPED | SKIPPED | SKIPPED | SKIPPED | +-------------------------------+--------------------+-------------------+-------------------+------------------+-------------------------+ | Red Hat Enterprise Linux 8.10 | PASS | SKIPPED | SKIPPED | SKIPPED | SKIPPED | +-------------------------------+--------------------+-------------------+-------------------+------------------+-------------------------+ | Red Hat Enterprise Linux 9.5 | PASS | SKIPPED | SKIPPED | SKIPPED | SKIPPED | +-------------------------------+--------------------+-------------------+-------------------+------------------+-------------------------+ | Ubuntu 22.04 | PASS | SKIPPED | PASS | SKIPPED | SKIPPED | +-------------------------------+--------------------+-------------------+-------------------+------------------+-------------------------+ | Ubuntu 24.04 | PASS | SKIPPED | PASS | PASS | SKIPPED | +-------------------------------+--------------------+-------------------+-------------------+------------------+-------------------------+ | Alpine Linux 3.22.0 | PEND | SKIPPED | SKIPPED | SKIPPED | SKIPPED | +-------------------------------+--------------------+-------------------+-------------------+------------------+-------------------------+ | Windows Server 2022 | SKIPPED | PASS | SKIPPED | SKIPPED | PASS | +-------------------------------+--------------------+-------------------+-------------------+------------------+-------------------------+ Ubuntu 20.04 Kernel: 4.19 Compiler: gcc gcc (Ubuntu 9.4.0-1ubuntu1~20.04.2) 9.4.0 FreeBSD 14.2 Kernel: 14.2-RELEASE Compiler: clang 18.1.6 CentOS Stream 9 Kernel: 5.15 Compiler: gcc gcc (GCC) 11.5.0 20240719 (Red Hat 11.5.0-7) CentOS Stream 10 Kernel: 5.15 Compiler: gcc gcc (GCC) 14.2.1 20250110 (Red Hat 14.2.1-8) Debian GNU/Linux 12 Kernel: 5.15 Compiler: gcc gcc (Debian 12.2.0-14+deb12u1) 12.2.0 Fedora Linux 40 Kernel: 5.15 Compiler: clang gcc (GCC) 14.2.1 20240912 (Red Hat 14.2.1-3) Fedora Linux 41 Kernel: 5.15 Compiler: clang gcc (GCC) 14.3.1 20250523 (Red Hat 14.3.1-1) openSUSE Leap 15.6 Kernel: 5.15 Compiler: gcc gcc (SUSE Linux) 7.5.0 Red Hat Enterprise Linux 8.10 Kernel: 5.15 Compiler: gcc gcc (GCC) 8.5.0 20210514 (Red Hat 8.5.0-22) Red Hat Enterprise Linux 9.5 Kernel: 5.15 Compiler: gcc gcc (GCC) 11.5.0 20240719 (Red Hat 11.5.0-2) Ubuntu 22.04 Kernel: 5.15 Compiler: gcc gcc (Ubuntu 11.4.0-1ubuntu1~22.04) 11.4.0 Ubuntu 24.04 Kernel: 5.15 Compiler: gcc gcc (Ubuntu 13.3.0-6ubuntu2~24.04) 13.3.0 Alpine Linux 3.22.0 Kernel: 5.15 Compiler: gcc gcc (Alpine 14.2.0) 14.2.0 Windows Server 2022 Kernel: 10.0.20348.2031 Compiler: clang 15.0.7, gcc 14.1.0 (MinGW), and MSVC VS 19.39.33521 To view detailed results, visit: https://lab.dpdk.org/results/dashboard/patchsets/33573/ UNH-IOL DPDK Community Lab To manage your email subscriptions, visit: https://lab.dpdk.org/results/dashboard/preferences/subscriptions/