From mboxrd@z Thu Jan 1 00:00:00 1970 Return-Path: Received: from mails.dpdk.org (mails.dpdk.org [217.70.189.124]) by inbox.dpdk.org (Postfix) with ESMTP id 21A4F46AF1 for ; Wed, 9 Jul 2025 05:43:53 +0200 (CEST) Received: from mails.dpdk.org (localhost [127.0.0.1]) by mails.dpdk.org (Postfix) with ESMTP id 1C53B4013F; Wed, 9 Jul 2025 05:43:53 +0200 (CEST) Received: from mail-pf1-f228.google.com (mail-pf1-f228.google.com [209.85.210.228]) by mails.dpdk.org (Postfix) with ESMTP id 1B1C24013F for ; Wed, 9 Jul 2025 05:43:52 +0200 (CEST) Received: by mail-pf1-f228.google.com with SMTP id d2e1a72fcca58-7399a2dc13fso5882243b3a.2 for ; Tue, 08 Jul 2025 20:43:52 -0700 (PDT) DKIM-Signature: v=1; a=rsa-sha256; c=relaxed/relaxed; d=iol.unh.edu; s=unh-iol; t=1752032631; x=1752637431; darn=dpdk.org; h=references:in-reply-to:cc:to:from:subject:message-id:date:from:to :cc:subject:date:message-id:reply-to; bh=wbBPWcbc4kcymMFZpxEjO072YV78JUTV5CXJ9JxxIOg=; b=WeG9o0Gv0yjtTcPXfSbJNyIvd8Eg0ZW9RhbsIOTf9YnOLnBuNTnpe84ank45sCO2gb tiaygmXJlXrKY0W4BmA6yPr6oMQLu7B6oz6Y6BU/4+FFO5cSCO5+I+yiQ7p/mzkLCSqU p6VYpxTxrSfkVE+n201lASqZ/Pxxfo/G01SeI= X-Google-DKIM-Signature: v=1; a=rsa-sha256; c=relaxed/relaxed; d=1e100.net; s=20230601; t=1752032631; x=1752637431; h=references:in-reply-to:cc:to:from:subject:message-id:date :x-gm-message-state:from:to:cc:subject:date:message-id:reply-to; bh=wbBPWcbc4kcymMFZpxEjO072YV78JUTV5CXJ9JxxIOg=; b=G4eu+bSh85xgMgfaYutdD5MK+NtCls71hKUb9/hLIRcAhUEBs5iArPgsxqwZux3e/B rNkJiNW5QQLsQc3RqIH6MgU7IP8F9fVpzf01OuNT98k7zoA3+/nAU3JG8R+Mj4bsFSeW vv/Qw5KWYN7EfPld9ILXmf9gO7Op/8hRqRhBs8HYMt1YsVH5Q7TPqkFEeHETPJTPGd8X kq/A8IRQMAq5KpSp7ZdbZh/6rbaoJRDaAlZG+PgB4fd87IirDXXwqwAS1OgrFHKOqN4P 64HxumjeWRa+g0o3COwJxy3Rc9YaZ57jlSrMUUeyK7z2DNzzR09sLvUZ2MMH3xfeBIiU bVWg== X-Gm-Message-State: AOJu0YzzLLNmOryMYeO+ZzK12nfBQRL/LmJ7GzVhBWbP6A0Sphp4ZsO0 pQtvaiRsY0iua+usDORc3qxjOZrmwEaBgcdHpAQpearawKrKM3LMFHr0ZzmkaK6M2bFQ4+xG4MM 3WEhOcpyG0RiWenChhZkjmiLX48dnS3AY1X0UFPoXu1IvUoGv/ZuD2q+QPhjV X-Gm-Gg: ASbGncvNwEkwkzzoBjyJeNsdMnBvhPcrKAlcxF01g6/QKrKB1XfdtmoYJt5Y2w8Lkh0 MVPQO0uqg6teKQnGmxYU7/15MN89l2gKynxmAIltZzl/h7ot06eZLBewMRvW7MYIufT0VcgDkx6 rCNDAFbwAUbI7v5PvtH3W74JcQjyqc+SMPu/o8aEfAlYCl/jB5Ry+tL17WactnitELaqkucMNfE Sj5f8TvnBcUnCFP8kfd+G7SYhbZul0WUg3lVbfym+SJxCn1ig/5O6yvRGVdRZNukMdneK5O1zVB Ykfje5mE9FpPZYUIvejGJNoMHUWhkvAj4XrSMkvp/qhjN6Q= X-Google-Smtp-Source: AGHT+IHC0LcVH3yu34eVr8jai8r0SpzMKZxBMAHLhM+wnhQeBGmB9RrOMrGw/igTJFBETOm/qOhXhiEssNxC X-Received: by 2002:a05:6a00:140a:b0:736:2a73:6756 with SMTP id d2e1a72fcca58-74ea67317d5mr1753521b3a.21.1752032631268; Tue, 08 Jul 2025 20:43:51 -0700 (PDT) Received: from postal.iol.unh.edu (postal.iol.unh.edu. [2606:4100:3880:1234::84]) by smtp-relay.gmail.com with ESMTPS id d2e1a72fcca58-74ce3510792sm716408b3a.10.2025.07.08.20.43.51 (version=TLS1_2 cipher=ECDHE-ECDSA-AES128-GCM-SHA256 bits=128/128); Tue, 08 Jul 2025 20:43:51 -0700 (PDT) X-Relaying-Domain: iol.unh.edu Date: Tue, 08 Jul 2025 20:43:51 -0700 (PDT) Message-ID: <686de577.050a0220.2b36e0.7820SMTPIN_ADDED_MISSING@mx.google.com> Received: from [172.21.0.7] (unknown [172.18.0.240]) by postal.iol.unh.edu (Postfix) with ESMTP id 72DD16051830; Tue, 8 Jul 2025 23:43:50 -0400 (EDT) Subject: |WARNING| pw154976 [PATCH] net/iavf: fix VLAN offload strip flag From: dpdklab@iol.unh.edu To: Test Report Cc: dpdk-test-reports@iol.unh.edu In-Reply-To: <20250702181506.95192-1-amiyaranjan.mohakud@gmail.com> References: <20250702181506.95192-1-amiyaranjan.mohakud@gmail.com> Content-Type: text/plain X-BeenThere: test-report@dpdk.org X-Mailman-Version: 2.1.29 Precedence: list List-Id: automatic DPDK test reports List-Unsubscribe: , List-Archive: List-Post: List-Help: List-Subscribe: , Errors-To: test-report-bounces@dpdk.org Test-Label: iol-compile-amd64-testing Test-Status: WARNING http://dpdk.org/patch/154976 _Testing issues_ Submitter: Amiya Ranjan Mohakud Date: Wednesday, July 02 2025 18:15:06 DPDK git baseline: Repo:dpdk Branch: master CommitID:a6b10031d251fcc7dadede461f7e1d005024b139 154976 --> testing issues Upstream job id: Generic-DPDK-Compile-Meson#406898 Test environment and result as below: +-------------------------------+--------------------+-------------------+-------------------+------------------+-------------------------+ | Environment | dpdk_meson_compile | dpdk_msvc_compile | dpdk_compile_spdk | dpdk_compile_ovs | dpdk_llvm_clang_compile | +===============================+====================+===================+===================+==================+=========================+ | Ubuntu 20.04 | PASS | SKIPPED | SKIPPED | SKIPPED | SKIPPED | +-------------------------------+--------------------+-------------------+-------------------+------------------+-------------------------+ | FreeBSD 14.2 | PASS | SKIPPED | SKIPPED | SKIPPED | SKIPPED | +-------------------------------+--------------------+-------------------+-------------------+------------------+-------------------------+ | CentOS Stream 9 | PASS | SKIPPED | PASS | SKIPPED | SKIPPED | +-------------------------------+--------------------+-------------------+-------------------+------------------+-------------------------+ | CentOS Stream 10 | PASS | SKIPPED | SKIPPED | SKIPPED | SKIPPED | +-------------------------------+--------------------+-------------------+-------------------+------------------+-------------------------+ | Debian GNU/Linux 12 | PASS | SKIPPED | PASS | SKIPPED | SKIPPED | +-------------------------------+--------------------+-------------------+-------------------+------------------+-------------------------+ | Fedora Linux 40 | PASS | SKIPPED | PASS | SKIPPED | SKIPPED | +-------------------------------+--------------------+-------------------+-------------------+------------------+-------------------------+ | Fedora Linux 41 | PASS | SKIPPED | PASS | PASS | SKIPPED | +-------------------------------+--------------------+-------------------+-------------------+------------------+-------------------------+ | openSUSE Leap 15.6 | PASS | SKIPPED | SKIPPED | SKIPPED | SKIPPED | +-------------------------------+--------------------+-------------------+-------------------+------------------+-------------------------+ | Red Hat Enterprise Linux 8.10 | PASS | SKIPPED | SKIPPED | SKIPPED | SKIPPED | +-------------------------------+--------------------+-------------------+-------------------+------------------+-------------------------+ | Red Hat Enterprise Linux 9.5 | PASS | SKIPPED | SKIPPED | SKIPPED | SKIPPED | +-------------------------------+--------------------+-------------------+-------------------+------------------+-------------------------+ | Ubuntu 22.04 | PASS | SKIPPED | PASS | SKIPPED | SKIPPED | +-------------------------------+--------------------+-------------------+-------------------+------------------+-------------------------+ | Ubuntu 24.04 | PASS | SKIPPED | PASS | PASS | SKIPPED | +-------------------------------+--------------------+-------------------+-------------------+------------------+-------------------------+ | Alpine Linux 3.22.0 | PEND | SKIPPED | SKIPPED | SKIPPED | SKIPPED | +-------------------------------+--------------------+-------------------+-------------------+------------------+-------------------------+ | Windows Server 2022 | SKIPPED | PASS | SKIPPED | SKIPPED | PASS | +-------------------------------+--------------------+-------------------+-------------------+------------------+-------------------------+ Ubuntu 20.04 Kernel: 4.19 Compiler: gcc gcc (Ubuntu 9.4.0-1ubuntu1~20.04.2) 9.4.0 FreeBSD 14.2 Kernel: 14.2-RELEASE Compiler: clang 18.1.6 CentOS Stream 9 Kernel: 5.15 Compiler: gcc gcc (GCC) 11.5.0 20240719 (Red Hat 11.5.0-7) CentOS Stream 10 Kernel: 5.15 Compiler: gcc gcc (GCC) 14.2.1 20250110 (Red Hat 14.2.1-8) Debian GNU/Linux 12 Kernel: 5.15 Compiler: gcc gcc (Debian 12.2.0-14+deb12u1) 12.2.0 Fedora Linux 40 Kernel: 5.15 Compiler: clang gcc (GCC) 14.2.1 20240912 (Red Hat 14.2.1-3) Fedora Linux 41 Kernel: 5.15 Compiler: clang gcc (GCC) 14.3.1 20250523 (Red Hat 14.3.1-1) openSUSE Leap 15.6 Kernel: 5.15 Compiler: gcc gcc (SUSE Linux) 7.5.0 Red Hat Enterprise Linux 8.10 Kernel: 5.15 Compiler: gcc gcc (GCC) 8.5.0 20210514 (Red Hat 8.5.0-22) Red Hat Enterprise Linux 9.5 Kernel: 5.15 Compiler: gcc gcc (GCC) 11.5.0 20240719 (Red Hat 11.5.0-2) Ubuntu 22.04 Kernel: 5.15 Compiler: gcc gcc (Ubuntu 11.4.0-1ubuntu1~22.04) 11.4.0 Ubuntu 24.04 Kernel: 5.15 Compiler: gcc gcc (Ubuntu 13.3.0-6ubuntu2~24.04) 13.3.0 Alpine Linux 3.22.0 Kernel: 5.15 Compiler: gcc gcc (Alpine 14.2.0) 14.2.0 Windows Server 2022 Kernel: 10.0.20348.2031 Compiler: clang 15.0.7, gcc 14.1.0 (MinGW), and MSVC VS 19.39.33521 To view detailed results, visit: https://lab.dpdk.org/results/dashboard/patchsets/33573/ UNH-IOL DPDK Community Lab To manage your email subscriptions, visit: https://lab.dpdk.org/results/dashboard/preferences/subscriptions/