From mboxrd@z Thu Jan 1 00:00:00 1970 Return-Path: Received: from mails.dpdk.org (mails.dpdk.org [217.70.189.124]) by inbox.dpdk.org (Postfix) with ESMTP id 429E346AF1 for ; Wed, 9 Jul 2025 05:45:01 +0200 (CEST) Received: from mails.dpdk.org (localhost [127.0.0.1]) by mails.dpdk.org (Postfix) with ESMTP id 3BAC94013F; Wed, 9 Jul 2025 05:45:01 +0200 (CEST) Received: from mail-pg1-f227.google.com (mail-pg1-f227.google.com [209.85.215.227]) by mails.dpdk.org (Postfix) with ESMTP id D37494013F for ; Wed, 9 Jul 2025 05:44:59 +0200 (CEST) Received: by mail-pg1-f227.google.com with SMTP id 41be03b00d2f7-b31d489a76dso4309576a12.1 for ; Tue, 08 Jul 2025 20:44:59 -0700 (PDT) DKIM-Signature: v=1; a=rsa-sha256; c=relaxed/relaxed; d=iol.unh.edu; s=unh-iol; t=1752032699; x=1752637499; darn=dpdk.org; h=references:in-reply-to:cc:to:from:subject:message-id:date:from:to :cc:subject:date:message-id:reply-to; bh=eY5AXIhQwzBnFen1qWEXXLCARoodf2ASS3P3+B0Bylg=; b=V3r+YlsIlhL1lnNpzm0fKIW/VYQ+1thT0rP3EQopk6zmIeV1WUztQpjl92J9HWWhel +CEg0kQWW/krWQuRx8rFktEwTJsScuVTZIz23HWvaITP0FBop48vD1r00JEG2aqtv1Ya aPHzbkbFHVdjkxs7P+WT/rN1xk/KcHdd92mVw= X-Google-DKIM-Signature: v=1; a=rsa-sha256; c=relaxed/relaxed; d=1e100.net; s=20230601; t=1752032699; x=1752637499; h=references:in-reply-to:cc:to:from:subject:message-id:date :x-gm-message-state:from:to:cc:subject:date:message-id:reply-to; bh=eY5AXIhQwzBnFen1qWEXXLCARoodf2ASS3P3+B0Bylg=; b=hz9SDOBRu7ngvsz+twH5ahZi5nHY1tgkk6ykVEYvuuWK1VPcvSfwfe2NDelFpa7EIs HSPyLL5Vg1JkQ8jK95//Yviy6fiNH/SAtnPu22Xu4Q6wLo4jP36hnxEAzim4Odw/phQe rotN21xqJumeHcj32YBmQGcwUbFaOctukubdVtpJ5Nx5zPrzrDgvLYydQs7Zi2Xr/129 0YmcQ0THb2ks2GAKQ0ZqjDe15KmeNQYlqlser5lrYY/vYkPg3keU2q0oMgL/rMb1SRas EluZybmr6CLiI/07y6jCPArQaXxyHoSWPylYSlv3rzY6HCnJKVJ75hIIwEMNpPKyeqIQ pnRg== X-Gm-Message-State: AOJu0YxXQpGG6obaObx7qeR2XSwcUSWrJdduFS9anIdHF+i7gUb0fLMR uDIBM7vcP6avcVa0nzad7h7pDJOinEknlt8BXkmKaoEflBXTbLp+yva0eLBR/w1zYeJIUVeas2O CCaBBglxVLb0trGSQO/73gaIDbUnEuEw2pxUTLIR+fPeF X-Gm-Gg: ASbGncsfQF7a7+zed2DMWZDW+ekQnQkOL3hNKdinpqA3njPB4ecFZwfA+6HbFY2vjGl dnwmSA2G5glAL+vkXAPFrqa1UpHQ5gyndDRfZua4dnszxfjkAQks9uBcZC+sm3lkLhchqLQ0GJK cMio55ApKzhTUEHcxNbTEjsu5swkeMHAQPHmv/Oz1GrdJwICBDiWxtezkVWo2YnNHQA3D3uyAs+ C/O7BSvF9dtqK6hYBgGbstuHeADs+AAja4T3EbfA8KgEUIZzq0OcuZRbJB0gPcLDRo/CCXwfWmo QSffk+awcQF9ufufqU0SB/cj0Oqybx0TWyEMODB8d2d5uC26Jyp2k16NcY5a18ILc0rZ9w== X-Google-Smtp-Source: AGHT+IH8/NjL6xsw63kmsJSbyhIAS8594biw48uaKQYXe/CXzn7nhwN4oLH3Y1+V0ZEhj44w6mOaqjqT1bxG X-Received: by 2002:a17:90b:4c04:b0:30c:540b:9ba with SMTP id 98e67ed59e1d1-31c2fce6adfmr1771171a91.10.1752032698679; Tue, 08 Jul 2025 20:44:58 -0700 (PDT) Received: from postal.iol.unh.edu (postal.iol.unh.edu. [132.177.123.84]) by smtp-relay.gmail.com with ESMTPS id d9443c01a7336-23c844e0dd8sm5771005ad.58.2025.07.08.20.44.58 (version=TLS1_2 cipher=ECDHE-ECDSA-AES128-GCM-SHA256 bits=128/128); Tue, 08 Jul 2025 20:44:58 -0700 (PDT) X-Relaying-Domain: iol.unh.edu Date: Tue, 08 Jul 2025 20:44:58 -0700 (PDT) Message-ID: <686de5ba.170a0220.1b8b54.0de0SMTPIN_ADDED_MISSING@mx.google.com> Received: from [172.21.0.7] (unknown [172.18.0.240]) by postal.iol.unh.edu (Postfix) with ESMTP id D0E7D6051830; Tue, 8 Jul 2025 23:44:57 -0400 (EDT) Subject: |WARNING| pw154976 [PATCH] net/iavf: fix VLAN offload strip flag From: dpdklab@iol.unh.edu To: Test Report Cc: dpdk-test-reports@iol.unh.edu In-Reply-To: <20250702181506.95192-1-amiyaranjan.mohakud@gmail.com> References: <20250702181506.95192-1-amiyaranjan.mohakud@gmail.com> Content-Type: text/plain X-BeenThere: test-report@dpdk.org X-Mailman-Version: 2.1.29 Precedence: list List-Id: automatic DPDK test reports List-Unsubscribe: , List-Archive: List-Post: List-Help: List-Subscribe: , Errors-To: test-report-bounces@dpdk.org Test-Label: iol-compile-amd64-testing Test-Status: WARNING http://dpdk.org/patch/154976 _Testing issues_ Submitter: Amiya Ranjan Mohakud Date: Wednesday, July 02 2025 18:15:06 DPDK git baseline: Repo:dpdk Branch: master CommitID:a6b10031d251fcc7dadede461f7e1d005024b139 154976 --> testing issues Upstream job id: Generic-DPDK-Compile-Meson#406887 Test environment and result as below: +-------------------------------+--------------------+-------------------+-------------------+------------------+-------------------------+ | Environment | dpdk_meson_compile | dpdk_msvc_compile | dpdk_compile_spdk | dpdk_compile_ovs | dpdk_llvm_clang_compile | +===============================+====================+===================+===================+==================+=========================+ | Ubuntu 20.04 | PASS | SKIPPED | SKIPPED | SKIPPED | SKIPPED | +-------------------------------+--------------------+-------------------+-------------------+------------------+-------------------------+ | FreeBSD 14.2 | PASS | SKIPPED | SKIPPED | SKIPPED | SKIPPED | +-------------------------------+--------------------+-------------------+-------------------+------------------+-------------------------+ | CentOS Stream 9 | PASS | SKIPPED | PASS | SKIPPED | SKIPPED | +-------------------------------+--------------------+-------------------+-------------------+------------------+-------------------------+ | CentOS Stream 10 | PASS | SKIPPED | SKIPPED | SKIPPED | SKIPPED | +-------------------------------+--------------------+-------------------+-------------------+------------------+-------------------------+ | Debian GNU/Linux 12 | PASS | SKIPPED | PASS | SKIPPED | SKIPPED | +-------------------------------+--------------------+-------------------+-------------------+------------------+-------------------------+ | Fedora Linux 40 | PASS | SKIPPED | PASS | SKIPPED | SKIPPED | +-------------------------------+--------------------+-------------------+-------------------+------------------+-------------------------+ | Fedora Linux 41 | PASS | SKIPPED | PASS | PASS | SKIPPED | +-------------------------------+--------------------+-------------------+-------------------+------------------+-------------------------+ | openSUSE Leap 15.6 | PASS | SKIPPED | SKIPPED | SKIPPED | SKIPPED | +-------------------------------+--------------------+-------------------+-------------------+------------------+-------------------------+ | Red Hat Enterprise Linux 8.10 | PASS | SKIPPED | SKIPPED | SKIPPED | SKIPPED | +-------------------------------+--------------------+-------------------+-------------------+------------------+-------------------------+ | Red Hat Enterprise Linux 9.5 | PASS | SKIPPED | SKIPPED | SKIPPED | SKIPPED | +-------------------------------+--------------------+-------------------+-------------------+------------------+-------------------------+ | Ubuntu 22.04 | PASS | SKIPPED | PASS | SKIPPED | SKIPPED | +-------------------------------+--------------------+-------------------+-------------------+------------------+-------------------------+ | Ubuntu 24.04 | PASS | SKIPPED | PASS | PASS | SKIPPED | +-------------------------------+--------------------+-------------------+-------------------+------------------+-------------------------+ | Alpine Linux 3.22.0 | PEND | SKIPPED | SKIPPED | SKIPPED | SKIPPED | +-------------------------------+--------------------+-------------------+-------------------+------------------+-------------------------+ | Windows Server 2022 | SKIPPED | PASS | SKIPPED | SKIPPED | PASS | +-------------------------------+--------------------+-------------------+-------------------+------------------+-------------------------+ Ubuntu 20.04 Kernel: 4.19 Compiler: gcc gcc (Ubuntu 9.4.0-1ubuntu1~20.04.2) 9.4.0 FreeBSD 14.2 Kernel: 14.2-RELEASE Compiler: clang 18.1.6 CentOS Stream 9 Kernel: 5.15 Compiler: gcc gcc (GCC) 11.5.0 20240719 (Red Hat 11.5.0-7) CentOS Stream 10 Kernel: 5.15 Compiler: gcc gcc (GCC) 14.2.1 20250110 (Red Hat 14.2.1-8) Debian GNU/Linux 12 Kernel: 5.15 Compiler: gcc gcc (Debian 12.2.0-14+deb12u1) 12.2.0 Fedora Linux 40 Kernel: 5.15 Compiler: clang gcc (GCC) 14.2.1 20240912 (Red Hat 14.2.1-3) Fedora Linux 41 Kernel: 5.15 Compiler: clang gcc (GCC) 14.3.1 20250523 (Red Hat 14.3.1-1) openSUSE Leap 15.6 Kernel: 5.15 Compiler: gcc gcc (SUSE Linux) 7.5.0 Red Hat Enterprise Linux 8.10 Kernel: 5.15 Compiler: gcc gcc (GCC) 8.5.0 20210514 (Red Hat 8.5.0-22) Red Hat Enterprise Linux 9.5 Kernel: 5.15 Compiler: gcc gcc (GCC) 11.5.0 20240719 (Red Hat 11.5.0-2) Ubuntu 22.04 Kernel: 5.15 Compiler: gcc gcc (Ubuntu 11.4.0-1ubuntu1~22.04) 11.4.0 Ubuntu 24.04 Kernel: 5.15 Compiler: gcc gcc (Ubuntu 13.3.0-6ubuntu2~24.04) 13.3.0 Alpine Linux 3.22.0 Kernel: 5.15 Compiler: gcc gcc (Alpine 14.2.0) 14.2.0 Windows Server 2022 Kernel: 10.0.20348.2031 Compiler: clang 15.0.7, gcc 14.1.0 (MinGW), and MSVC VS 19.39.33521 To view detailed results, visit: https://lab.dpdk.org/results/dashboard/patchsets/33573/ UNH-IOL DPDK Community Lab To manage your email subscriptions, visit: https://lab.dpdk.org/results/dashboard/preferences/subscriptions/