From mboxrd@z Thu Jan 1 00:00:00 1970 Return-Path: Received: from mails.dpdk.org (mails.dpdk.org [217.70.189.124]) by inbox.dpdk.org (Postfix) with ESMTP id DB13246AF1 for ; Wed, 9 Jul 2025 05:49:58 +0200 (CEST) Received: from mails.dpdk.org (localhost [127.0.0.1]) by mails.dpdk.org (Postfix) with ESMTP id B02774013F; Wed, 9 Jul 2025 05:49:58 +0200 (CEST) Received: from mail-qv1-f100.google.com (mail-qv1-f100.google.com [209.85.219.100]) by mails.dpdk.org (Postfix) with ESMTP id E37BB4013F for ; Wed, 9 Jul 2025 05:49:56 +0200 (CEST) Received: by mail-qv1-f100.google.com with SMTP id 6a1803df08f44-6fad4a1dc33so51860406d6.1 for ; Tue, 08 Jul 2025 20:49:56 -0700 (PDT) DKIM-Signature: v=1; a=rsa-sha256; c=relaxed/relaxed; d=iol.unh.edu; s=unh-iol; t=1752032996; x=1752637796; darn=dpdk.org; h=references:in-reply-to:cc:to:from:subject:message-id:date:from:to :cc:subject:date:message-id:reply-to; bh=X30nuF2iW/k/Ae97gKdWpECSMP3ATdSiud+kxuPJVn8=; b=deXrjoajSi+Dmuua0KZAYD0RqoMXu9Fu/ryJzoDqpr0fB+3y4/5ooCI3d2n3Qcp0yj MBo05TZWPal19GRJuG4TFSLffWDVkKNCT0sUj2Q5MTr0FmAYCIdgkj92rF/DulTLse5x mL6Ed1krpYuolY6f9BSbGGkVwMFzNWBZUvAbI= X-Google-DKIM-Signature: v=1; a=rsa-sha256; c=relaxed/relaxed; d=1e100.net; s=20230601; t=1752032996; x=1752637796; h=references:in-reply-to:cc:to:from:subject:message-id:date :x-gm-message-state:from:to:cc:subject:date:message-id:reply-to; bh=X30nuF2iW/k/Ae97gKdWpECSMP3ATdSiud+kxuPJVn8=; b=bZR/N3wc6vfzmoQnLit6ReoNV1VGApGVi1aqU0rjUPNYryhAvA1NBsuCVeBdLVKFeY rH7Ea23W5NL8yCqYgkBwUj/LyJ2Uy4eKAh2IGt/tQIAOvaMOs7xth1OdjBey2CZD+i35 ZBFLiPLEwRxLgSVFxET54ynKQwRMa5YV7JN9a4ZQUM887M9Gpyo4VDQlRsQ3K+cOZB1X p0yjoyCH731d/Rl/Tynk0eQKtv+Uu6kMa3+LkUH8EyYHwvUh/vCIdaccYiFdbnLmT+Ft 0M/90C7qtwAwCy1F1nUs8rkyte4xn5IK6uu9/+FFMWiqh+cqi1LnUCCWcZuyjU5DP5oB styA== X-Gm-Message-State: AOJu0YwdQwwffrBIyuFGsKiPdNgjTEXL5Bsj4HYIToShyO9MVHqXDdte wZHCjPs9wgOILhwilU37VxLIpVejVwYEtnpYvAb4KQh3VkwpCI2pVOdoPqhQ+g0w0PyA7yg1npA j2wzxzIDK2Q3HyXel362Ph+0ueEGEUB+wlB2HxQ/RaMsO6lwISyHFLJ8ivwp1 X-Gm-Gg: ASbGncu64E1KToWWHuYTJxDDl/vODxpTT6TymY7gHIyjTnXu40gYKTWYFa1avSkMYD5 KHkMHstHB3A8OPwqMqlXxBMOQGZ61nGlQiNi6RqtELVg5tiHULayrqMe7KtbgvLvuocyc3yZLA5 Arrc/7E5CM8HLVsqGbJCWohZMFP4JwMthLofTtLERM8elqSxRx4i7C8CdrNPNtni/D/1JA07L5H oynqj1QJfkcPWd7e8Rn+hTNgK09zLp3SOW5fWNdbPexKHOF9xoT4M+jNIC0QOKAw8S8x+wkf8/P S0QTo2GBXqP/q3sAWo0aZINXZrVNB//JMJ44aOs68nKqgU8= X-Google-Smtp-Source: AGHT+IF1ygB9AnB5lcwhxQ+xORXZqt4bWjkUqnE/cSoCb6+O7IpVp0jRCSAcrA2nGU8tVw7XXK3HT4zBAM/b X-Received: by 2002:a05:6214:5403:b0:6fa:fcb0:b88d with SMTP id 6a1803df08f44-7048b8dfc5bmr19973586d6.28.1752032996266; Tue, 08 Jul 2025 20:49:56 -0700 (PDT) Received: from postal.iol.unh.edu (postal.iol.unh.edu. [2606:4100:3880:1234::84]) by smtp-relay.gmail.com with ESMTPS id 6a1803df08f44-702c4c3ce5csm5893126d6.0.2025.07.08.20.49.56 (version=TLS1_2 cipher=ECDHE-ECDSA-AES128-GCM-SHA256 bits=128/128); Tue, 08 Jul 2025 20:49:56 -0700 (PDT) X-Relaying-Domain: iol.unh.edu Date: Tue, 08 Jul 2025 20:49:56 -0700 (PDT) Message-ID: <686de6e4.050a0220.3a7618.f3caSMTPIN_ADDED_MISSING@mx.google.com> Received: from [172.21.0.6] (unknown [172.18.0.240]) by postal.iol.unh.edu (Postfix) with ESMTP id 056C96051830; Tue, 8 Jul 2025 23:49:56 -0400 (EDT) Subject: |WARNING| pw154976 [PATCH] net/iavf: fix VLAN offload strip flag From: dpdklab@iol.unh.edu To: Test Report Cc: dpdk-test-reports@iol.unh.edu In-Reply-To: <20250702181506.95192-1-amiyaranjan.mohakud@gmail.com> References: <20250702181506.95192-1-amiyaranjan.mohakud@gmail.com> Content-Type: text/plain X-BeenThere: test-report@dpdk.org X-Mailman-Version: 2.1.29 Precedence: list List-Id: automatic DPDK test reports List-Unsubscribe: , List-Archive: List-Post: List-Help: List-Subscribe: , Errors-To: test-report-bounces@dpdk.org Test-Label: iol-compile-amd64-testing Test-Status: WARNING http://dpdk.org/patch/154976 _Testing issues_ Submitter: Amiya Ranjan Mohakud Date: Wednesday, July 02 2025 18:15:06 DPDK git baseline: Repo:dpdk Branch: master CommitID:a6b10031d251fcc7dadede461f7e1d005024b139 154976 --> testing issues Upstream job id: Generic-DPDK-Compile-Meson#406889 Test environment and result as below: +-------------------------------+--------------------+-------------------+-------------------+------------------+-------------------------+ | Environment | dpdk_meson_compile | dpdk_msvc_compile | dpdk_compile_spdk | dpdk_compile_ovs | dpdk_llvm_clang_compile | +===============================+====================+===================+===================+==================+=========================+ | Ubuntu 20.04 | PASS | SKIPPED | SKIPPED | SKIPPED | SKIPPED | +-------------------------------+--------------------+-------------------+-------------------+------------------+-------------------------+ | FreeBSD 14.2 | PASS | SKIPPED | SKIPPED | SKIPPED | SKIPPED | +-------------------------------+--------------------+-------------------+-------------------+------------------+-------------------------+ | CentOS Stream 9 | PASS | SKIPPED | PASS | SKIPPED | SKIPPED | +-------------------------------+--------------------+-------------------+-------------------+------------------+-------------------------+ | CentOS Stream 10 | PASS | SKIPPED | SKIPPED | SKIPPED | SKIPPED | +-------------------------------+--------------------+-------------------+-------------------+------------------+-------------------------+ | Debian GNU/Linux 12 | PASS | SKIPPED | PASS | SKIPPED | SKIPPED | +-------------------------------+--------------------+-------------------+-------------------+------------------+-------------------------+ | Fedora Linux 40 | PASS | SKIPPED | PASS | SKIPPED | SKIPPED | +-------------------------------+--------------------+-------------------+-------------------+------------------+-------------------------+ | Fedora Linux 41 | PASS | SKIPPED | PASS | PASS | SKIPPED | +-------------------------------+--------------------+-------------------+-------------------+------------------+-------------------------+ | openSUSE Leap 15.6 | PASS | SKIPPED | SKIPPED | SKIPPED | SKIPPED | +-------------------------------+--------------------+-------------------+-------------------+------------------+-------------------------+ | Red Hat Enterprise Linux 8.10 | PASS | SKIPPED | SKIPPED | SKIPPED | SKIPPED | +-------------------------------+--------------------+-------------------+-------------------+------------------+-------------------------+ | Red Hat Enterprise Linux 9.5 | PASS | SKIPPED | SKIPPED | SKIPPED | SKIPPED | +-------------------------------+--------------------+-------------------+-------------------+------------------+-------------------------+ | Ubuntu 22.04 | PASS | SKIPPED | PASS | SKIPPED | SKIPPED | +-------------------------------+--------------------+-------------------+-------------------+------------------+-------------------------+ | Ubuntu 24.04 | PASS | SKIPPED | PASS | PASS | SKIPPED | +-------------------------------+--------------------+-------------------+-------------------+------------------+-------------------------+ | Alpine Linux 3.22.0 | PASS | SKIPPED | SKIPPED | SKIPPED | SKIPPED | +-------------------------------+--------------------+-------------------+-------------------+------------------+-------------------------+ | Windows Server 2022 | SKIPPED | PASS | SKIPPED | SKIPPED | PASS | +-------------------------------+--------------------+-------------------+-------------------+------------------+-------------------------+ Ubuntu 20.04 Kernel: 4.19 Compiler: gcc gcc (Ubuntu 9.4.0-1ubuntu1~20.04.2) 9.4.0 FreeBSD 14.2 Kernel: 14.2-RELEASE Compiler: clang 18.1.6 CentOS Stream 9 Kernel: 5.15 Compiler: gcc gcc (GCC) 11.5.0 20240719 (Red Hat 11.5.0-7) CentOS Stream 10 Kernel: 5.15 Compiler: gcc gcc (GCC) 14.2.1 20250110 (Red Hat 14.2.1-8) Debian GNU/Linux 12 Kernel: 5.15 Compiler: gcc gcc (Debian 12.2.0-14+deb12u1) 12.2.0 Fedora Linux 40 Kernel: 5.15 Compiler: clang gcc (GCC) 14.2.1 20240912 (Red Hat 14.2.1-3) Fedora Linux 41 Kernel: 5.15 Compiler: clang gcc (GCC) 14.3.1 20250523 (Red Hat 14.3.1-1) openSUSE Leap 15.6 Kernel: 5.15 Compiler: gcc gcc (SUSE Linux) 7.5.0 Red Hat Enterprise Linux 8.10 Kernel: 5.15 Compiler: gcc gcc (GCC) 8.5.0 20210514 (Red Hat 8.5.0-22) Red Hat Enterprise Linux 9.5 Kernel: 5.15 Compiler: gcc gcc (GCC) 11.5.0 20240719 (Red Hat 11.5.0-2) Ubuntu 22.04 Kernel: 5.15 Compiler: gcc gcc (Ubuntu 11.4.0-1ubuntu1~22.04) 11.4.0 Ubuntu 24.04 Kernel: 5.15 Compiler: gcc gcc (Ubuntu 13.3.0-6ubuntu2~24.04) 13.3.0 Alpine Linux 3.22.0 Kernel: 5.15 Compiler: gcc gcc (Alpine 14.2.0) 14.2.0 Windows Server 2022 Kernel: 10.0.20348.2031 Compiler: clang 15.0.7, gcc 14.1.0 (MinGW), and MSVC VS 19.39.33521 To view detailed results, visit: https://lab.dpdk.org/results/dashboard/patchsets/33573/ UNH-IOL DPDK Community Lab To manage your email subscriptions, visit: https://lab.dpdk.org/results/dashboard/preferences/subscriptions/