From mboxrd@z Thu Jan 1 00:00:00 1970 Return-Path: Received: from mails.dpdk.org (mails.dpdk.org [217.70.189.124]) by inbox.dpdk.org (Postfix) with ESMTP id CBD2046AF1 for ; Wed, 9 Jul 2025 05:50:08 +0200 (CEST) Received: from mails.dpdk.org (localhost [127.0.0.1]) by mails.dpdk.org (Postfix) with ESMTP id C37374013F; Wed, 9 Jul 2025 05:50:08 +0200 (CEST) Received: from mail-oa1-f100.google.com (mail-oa1-f100.google.com [209.85.160.100]) by mails.dpdk.org (Postfix) with ESMTP id 6E8594013F for ; Wed, 9 Jul 2025 05:50:07 +0200 (CEST) Received: by mail-oa1-f100.google.com with SMTP id 586e51a60fabf-2ef60dbaefbso3603755fac.1 for ; Tue, 08 Jul 2025 20:50:07 -0700 (PDT) DKIM-Signature: v=1; a=rsa-sha256; c=relaxed/relaxed; d=iol.unh.edu; s=unh-iol; t=1752033006; x=1752637806; darn=dpdk.org; h=references:in-reply-to:cc:to:from:subject:message-id:date:from:to :cc:subject:date:message-id:reply-to; bh=roaFRkKaoUFtzz6TqyXpeCQVgpvhDcmO5mavwmJ7Jdk=; b=c/vYMzUlrtpZUZwb0g64iLsJSVeOrWQQVh2BaGu4RZTBWBhrO2Egdvc/PjsThVCLnn qjusW0qwQBdLTXzqF3TarObEyoo1h1zjSMRZsqp+DDZg8dZuEveJKE1GYfp1aqs+W8g3 8A2CWL76sZhfo29ZVbU//jFVDJ5r+tUT9LBTk= X-Google-DKIM-Signature: v=1; a=rsa-sha256; c=relaxed/relaxed; d=1e100.net; s=20230601; t=1752033006; x=1752637806; h=references:in-reply-to:cc:to:from:subject:message-id:date :x-gm-message-state:from:to:cc:subject:date:message-id:reply-to; bh=roaFRkKaoUFtzz6TqyXpeCQVgpvhDcmO5mavwmJ7Jdk=; b=cf60PEsAEOI9KJbGDVa3CDEujBSsyuAqh18bO3c97gaua0KvyWACpFTErM3yx8dNvG casA/bVN74pt1l2UNRU+60+o+qhxYOxOw/9svt6rPaEAG8hT9qkTAa5prODJVGkQXg2+ vMl0t5/qsGLlVixu6DvRh/tUo1L8/p4cAQjFWj4+8D79X+bQVfn3+2V3OL58nHpXVLYr ID7Su5h07GUtVpwrUco2qp4cyRRtuIin/A2IXhxkNNxxBRjWBj04lHe7SfmVhVFhTCkT pdpQHFX1TsXXEtW3ntoKkix3qUVaB0n9DMr9PC2fk7j8RpP+CMhVCEuDk6zUg1oE3iYt XD1g== X-Gm-Message-State: AOJu0Yw5ovme64AlpIw9a/+1jFKoaLK5B0T5JVa9P6y1FFO380k9CNiX WV1olU5g6pDRVLMcoXWjrj/HE0oJjB3PrlQr56dQ5zMOhJh15/FhKrB+cC1X5q3cfwcHPmhHc/b RXfnp0Q8JMjrUqsqNEPFsNk5lVRKPUEntrdpW7B1glk1g X-Gm-Gg: ASbGncsq6PJor72E/H0LjWC+ao7rqWIWj0pwstiz3ekE0OpWfRxbZzZRoPrFaSOtSNP ElGn42eMuZlVS02jeI4udBXI55DnOCHz1FZIvZxugThNDBjPepCAmAOLHlu+ZC2kSuHV0sD3b7Z SwkDd5aqg8r6Hb2MzPAy0WmW8FCUNhyyGJshqGVhBbQVQBKFDS0Vq3DJ54bJhNCyFIn2HIFj8f8 x0q/PHDKfEXgDk1qSsOrwp/F+VqKZfnl13LZS1o0/OLLsYhr2IiqJ9RJQDjI46yqC2pkKJ7sBRt oWip43bi2UOxB1mO3WrYvdgPztxcYT4qHk0na6VtCm0htQjTWeO40KAeJW5krItEiiK+jg== X-Google-Smtp-Source: AGHT+IG1VzjKSO4JvCAQ6xyT9X8VxO0YWxEPYcw5GySvrJW1irUpAdCd2iTh/umS3WjP5fv+HMh1fov1pOoC X-Received: by 2002:a05:6870:1f12:b0:2d4:ea06:b11 with SMTP id 586e51a60fabf-2fef84866d6mr614643fac.7.1752033006605; Tue, 08 Jul 2025 20:50:06 -0700 (PDT) Received: from postal.iol.unh.edu (postal.iol.unh.edu. [132.177.123.84]) by smtp-relay.gmail.com with ESMTPS id 586e51a60fabf-2f7900ac143sm763961fac.27.2025.07.08.20.50.06 (version=TLS1_2 cipher=ECDHE-ECDSA-AES128-GCM-SHA256 bits=128/128); Tue, 08 Jul 2025 20:50:06 -0700 (PDT) X-Relaying-Domain: iol.unh.edu Date: Tue, 08 Jul 2025 20:50:06 -0700 (PDT) Message-ID: <686de6ee.050a0220.a12f.7e75SMTPIN_ADDED_MISSING@mx.google.com> Received: from [172.21.0.5] (unknown [172.18.0.240]) by postal.iol.unh.edu (Postfix) with ESMTP id 1988E6051830; Tue, 8 Jul 2025 23:50:06 -0400 (EDT) Subject: |WARNING| pw154976 [PATCH] net/iavf: fix VLAN offload strip flag From: dpdklab@iol.unh.edu To: Test Report Cc: dpdk-test-reports@iol.unh.edu In-Reply-To: <20250702181506.95192-1-amiyaranjan.mohakud@gmail.com> References: <20250702181506.95192-1-amiyaranjan.mohakud@gmail.com> Content-Type: text/plain X-BeenThere: test-report@dpdk.org X-Mailman-Version: 2.1.29 Precedence: list List-Id: automatic DPDK test reports List-Unsubscribe: , List-Archive: List-Post: List-Help: List-Subscribe: , Errors-To: test-report-bounces@dpdk.org Test-Label: iol-compile-amd64-testing Test-Status: WARNING http://dpdk.org/patch/154976 _Testing issues_ Submitter: Amiya Ranjan Mohakud Date: Wednesday, July 02 2025 18:15:06 DPDK git baseline: Repo:dpdk Branch: master CommitID:a6b10031d251fcc7dadede461f7e1d005024b139 154976 --> testing issues Upstream job id: Generic-DPDK-Compile-Meson#406897 Test environment and result as below: +-------------------------------+--------------------+-------------------+-------------------+------------------+-------------------------+ | Environment | dpdk_meson_compile | dpdk_msvc_compile | dpdk_compile_spdk | dpdk_compile_ovs | dpdk_llvm_clang_compile | +===============================+====================+===================+===================+==================+=========================+ | Ubuntu 20.04 | PASS | SKIPPED | SKIPPED | SKIPPED | SKIPPED | +-------------------------------+--------------------+-------------------+-------------------+------------------+-------------------------+ | FreeBSD 14.2 | PASS | SKIPPED | SKIPPED | SKIPPED | SKIPPED | +-------------------------------+--------------------+-------------------+-------------------+------------------+-------------------------+ | CentOS Stream 9 | PASS | SKIPPED | PASS | SKIPPED | SKIPPED | +-------------------------------+--------------------+-------------------+-------------------+------------------+-------------------------+ | CentOS Stream 10 | PASS | SKIPPED | SKIPPED | SKIPPED | SKIPPED | +-------------------------------+--------------------+-------------------+-------------------+------------------+-------------------------+ | Debian GNU/Linux 12 | PASS | SKIPPED | PASS | SKIPPED | SKIPPED | +-------------------------------+--------------------+-------------------+-------------------+------------------+-------------------------+ | Fedora Linux 40 | PASS | SKIPPED | PASS | SKIPPED | SKIPPED | +-------------------------------+--------------------+-------------------+-------------------+------------------+-------------------------+ | Fedora Linux 41 | PASS | SKIPPED | PASS | PASS | SKIPPED | +-------------------------------+--------------------+-------------------+-------------------+------------------+-------------------------+ | openSUSE Leap 15.6 | PASS | SKIPPED | SKIPPED | SKIPPED | SKIPPED | +-------------------------------+--------------------+-------------------+-------------------+------------------+-------------------------+ | Red Hat Enterprise Linux 8.10 | PASS | SKIPPED | SKIPPED | SKIPPED | SKIPPED | +-------------------------------+--------------------+-------------------+-------------------+------------------+-------------------------+ | Red Hat Enterprise Linux 9.5 | PASS | SKIPPED | SKIPPED | SKIPPED | SKIPPED | +-------------------------------+--------------------+-------------------+-------------------+------------------+-------------------------+ | Ubuntu 22.04 | PASS | SKIPPED | PASS | SKIPPED | SKIPPED | +-------------------------------+--------------------+-------------------+-------------------+------------------+-------------------------+ | Ubuntu 24.04 | PASS | SKIPPED | PASS | PASS | SKIPPED | +-------------------------------+--------------------+-------------------+-------------------+------------------+-------------------------+ | Alpine Linux 3.22.0 | PASS | SKIPPED | SKIPPED | SKIPPED | SKIPPED | +-------------------------------+--------------------+-------------------+-------------------+------------------+-------------------------+ | Windows Server 2022 | SKIPPED | PASS | SKIPPED | SKIPPED | PASS | +-------------------------------+--------------------+-------------------+-------------------+------------------+-------------------------+ Ubuntu 20.04 Kernel: 4.19 Compiler: gcc gcc (Ubuntu 9.4.0-1ubuntu1~20.04.2) 9.4.0 FreeBSD 14.2 Kernel: 14.2-RELEASE Compiler: clang 18.1.6 CentOS Stream 9 Kernel: 5.15 Compiler: gcc gcc (GCC) 11.5.0 20240719 (Red Hat 11.5.0-7) CentOS Stream 10 Kernel: 5.15 Compiler: gcc gcc (GCC) 14.2.1 20250110 (Red Hat 14.2.1-8) Debian GNU/Linux 12 Kernel: 5.15 Compiler: gcc gcc (Debian 12.2.0-14+deb12u1) 12.2.0 Fedora Linux 40 Kernel: 5.15 Compiler: clang gcc (GCC) 14.2.1 20240912 (Red Hat 14.2.1-3) Fedora Linux 41 Kernel: 5.15 Compiler: clang gcc (GCC) 14.3.1 20250523 (Red Hat 14.3.1-1) openSUSE Leap 15.6 Kernel: 5.15 Compiler: gcc gcc (SUSE Linux) 7.5.0 Red Hat Enterprise Linux 8.10 Kernel: 5.15 Compiler: gcc gcc (GCC) 8.5.0 20210514 (Red Hat 8.5.0-22) Red Hat Enterprise Linux 9.5 Kernel: 5.15 Compiler: gcc gcc (GCC) 11.5.0 20240719 (Red Hat 11.5.0-2) Ubuntu 22.04 Kernel: 5.15 Compiler: gcc gcc (Ubuntu 11.4.0-1ubuntu1~22.04) 11.4.0 Ubuntu 24.04 Kernel: 5.15 Compiler: gcc gcc (Ubuntu 13.3.0-6ubuntu2~24.04) 13.3.0 Alpine Linux 3.22.0 Kernel: 5.15 Compiler: gcc gcc (Alpine 14.2.0) 14.2.0 Windows Server 2022 Kernel: 10.0.20348.2031 Compiler: clang 15.0.7, gcc 14.1.0 (MinGW), and MSVC VS 19.39.33521 To view detailed results, visit: https://lab.dpdk.org/results/dashboard/patchsets/33573/ UNH-IOL DPDK Community Lab To manage your email subscriptions, visit: https://lab.dpdk.org/results/dashboard/preferences/subscriptions/