From mboxrd@z Thu Jan 1 00:00:00 1970 Return-Path: Received: from mails.dpdk.org (mails.dpdk.org [217.70.189.124]) by inbox.dpdk.org (Postfix) with ESMTP id A0A4146AF1 for ; Wed, 9 Jul 2025 05:57:41 +0200 (CEST) Received: from mails.dpdk.org (localhost [127.0.0.1]) by mails.dpdk.org (Postfix) with ESMTP id 809DB4013F; Wed, 9 Jul 2025 05:57:41 +0200 (CEST) Received: from mail-qv1-f99.google.com (mail-qv1-f99.google.com [209.85.219.99]) by mails.dpdk.org (Postfix) with ESMTP id 595F84013F for ; Wed, 9 Jul 2025 05:57:40 +0200 (CEST) Received: by mail-qv1-f99.google.com with SMTP id 6a1803df08f44-6faf66905baso71313936d6.2 for ; Tue, 08 Jul 2025 20:57:40 -0700 (PDT) DKIM-Signature: v=1; a=rsa-sha256; c=relaxed/relaxed; d=iol.unh.edu; s=unh-iol; t=1752033459; x=1752638259; darn=dpdk.org; h=references:in-reply-to:cc:to:from:subject:message-id:date:from:to :cc:subject:date:message-id:reply-to; bh=b+F2VoFVlZeF3c2N01umGDyhM1t+Cn+mZUr1Y5P24Q4=; b=Zhw0jK1v0NB/fXlBp8b06qXra9IKaKoW57bdFbgnEcAwXfIasYvQADZDWy447x0mSb iiPFBfvvMGAvyI0meHcIsG5OCCelgOke/g13GKGG7hucV6l8uwlfrjf4SxlWdX+MhuTO 7yf7sfNEBT0bmW/XMZuWGCYkgtL1CUYsX5dts= X-Google-DKIM-Signature: v=1; a=rsa-sha256; c=relaxed/relaxed; d=1e100.net; s=20230601; t=1752033459; x=1752638259; h=references:in-reply-to:cc:to:from:subject:message-id:date :x-gm-message-state:from:to:cc:subject:date:message-id:reply-to; bh=b+F2VoFVlZeF3c2N01umGDyhM1t+Cn+mZUr1Y5P24Q4=; b=L8v+iMtA6JslI9fqMLxxDxpNwGAWm5WD6qOimzdNW86O1m8V/c7oqXp/+fwhJkxmRA RnuzORGjG9YxlIkZaiwHttqLbHAWmR+W7XFKRFlT8KXa81S4cnfJlBjojW8sVCsFmHcr azulD9IkzemLPbOaj6mq5YaSBQvyy4CvoQ07XxomBYHmRIFaNMOqxfo+z0SrewiZGfDa KvPw/gWvLYGJ2sOONZNq9iKzJj3DXhsRMOasKRwAFr6bLi/PbRs0sg1LXQmH6FxUcgE4 ZgajCuiopvBuYYRt2bnR6VfohYU/lJYWkIv3X30DgkuwruP20fjvorZvo+trTotYNfLY 6uTA== X-Gm-Message-State: AOJu0Yw11rQ8JN7gzb4GQwfS+nsQ/2wIFGqb0/oa2uQEMYgse9o9Wisg 4MUZi3N3gb9jkeuWU4xjKb/WDpdjZDoVjLMEb7QaM+u8502SokM/tNT+sm18HOBFj2tRgxH/2/M V4xMbz6umHNyui8owf5+7tVaCFFGs36DXLhEqLjeVgOCJ X-Gm-Gg: ASbGncux7hD0wMTH7nLqUNEi/+rSaDOgQLW2WnJTA2IF3HFn02016cqeiWhO3v31Jyg 6pYilAa5rUcJudEq9jR5TOhw86OtSzz5fN0nRThp0kMJWfMr4I409jXbsu2czwRJp9eVAz4yw8u DT2lN+gK33PcZnPRyecR4FzOee+/LVEbjLGc3vkOJsEHw9sK6Dl4z4PrmGtzTyZEmuuWsZY5ym8 A/k1ZpunMJCPa67JrXJ8zThIEyqbv2KTZWyEC6Y23916Hsl9coRhCTgdR4lDCle4qhI5xs3SVUd lIbRgcLnZx8eL0sol98jk3m+4MrvM+U7wPo6rsi1aFv9thzsWloRxX6guQvX0bgNMf1P7w== X-Google-Smtp-Source: AGHT+IGOppP7TdytbH42sbdMc1yREKQzy0ZWTFl1007/rKDpQ3S9nSvcjy5uEM09W9VOiS316OLjQ5pWogvk X-Received: by 2002:a05:6214:c6b:b0:701:a5d:7e37 with SMTP id 6a1803df08f44-7048b96a52dmr14320276d6.13.1752033459666; Tue, 08 Jul 2025 20:57:39 -0700 (PDT) Received: from postal.iol.unh.edu (postal.iol.unh.edu. [132.177.123.84]) by smtp-relay.gmail.com with ESMTPS id 6a1803df08f44-702c4d5b5eesm6190976d6.66.2025.07.08.20.57.39 (version=TLS1_2 cipher=ECDHE-ECDSA-AES128-GCM-SHA256 bits=128/128); Tue, 08 Jul 2025 20:57:39 -0700 (PDT) X-Relaying-Domain: iol.unh.edu Date: Tue, 08 Jul 2025 20:57:39 -0700 (PDT) Message-ID: <686de8b3.050a0220.33cd87.0eb8SMTPIN_ADDED_MISSING@mx.google.com> Received: from [172.21.0.5] (unknown [172.18.0.240]) by postal.iol.unh.edu (Postfix) with ESMTP id 63E946051830; Tue, 8 Jul 2025 23:57:39 -0400 (EDT) Subject: |SUCCESS| pw154945-154949 [PATCH] [v3,5/5] dts: add performance test From: dpdklab@iol.unh.edu To: Test Report Cc: dpdk-test-reports@iol.unh.edu In-Reply-To: <20250702052154.381690-5-probb@iol.unh.edu> References: <20250702052154.381690-5-probb@iol.unh.edu> Content-Type: text/plain X-BeenThere: test-report@dpdk.org X-Mailman-Version: 2.1.29 Precedence: list List-Id: automatic DPDK test reports List-Unsubscribe: , List-Archive: List-Post: List-Help: List-Subscribe: , Errors-To: test-report-bounces@dpdk.org Test-Label: iol-abi-testing Test-Status: SUCCESS http://dpdk.org/patch/154949 _Testing PASS_ Submitter: Patrick Robb Date: Wednesday, July 02 2025 05:21:54 DPDK git baseline: Repo:dpdk Branch: master CommitID:e90979eebbea093f6bab2d7c222fc5f5c9a85eff 154945-154949 --> testing pass Upstream job id: Generic-DPDK-Compile-ABI#133635 Test environment and result as below: +-------------------------------+----------+ | Environment | abi_test | +===============================+==========+ | CentOS Stream 9 | PASS | +-------------------------------+----------+ | CentOS Stream 10 | PASS | +-------------------------------+----------+ | Fedora Linux 40 | PASS | +-------------------------------+----------+ | Debian GNU/Linux 12 | PASS | +-------------------------------+----------+ | Fedora Linux 41 | PASS | +-------------------------------+----------+ | Red Hat Enterprise Linux 8.10 | PASS | +-------------------------------+----------+ | openSUSE Leap 15.6 | PASS | +-------------------------------+----------+ | Red Hat Enterprise Linux 9.5 | PASS | +-------------------------------+----------+ | Ubuntu 24.04 | PASS | +-------------------------------+----------+ | Ubuntu 22.04 | PASS | +-------------------------------+----------+ CentOS Stream 9 Kernel: 5.15 Compiler: gcc gcc (GCC) 11.5.0 20240719 (Red Hat 11.5.0-7) CentOS Stream 10 Kernel: 5.15 Compiler: gcc gcc (GCC) 14.2.1 20250110 (Red Hat 14.2.1-8) Fedora Linux 40 Kernel: 5.15 Compiler: clang gcc (GCC) 14.2.1 20240912 (Red Hat 14.2.1-3) Debian GNU/Linux 12 Kernel: 5.15 Compiler: gcc gcc (Debian 12.2.0-14+deb12u1) 12.2.0 Fedora Linux 41 Kernel: 5.15 Compiler: clang gcc (GCC) 14.3.1 20250523 (Red Hat 14.3.1-1) Red Hat Enterprise Linux 8.10 Kernel: 5.15 Compiler: gcc gcc (GCC) 8.5.0 20210514 (Red Hat 8.5.0-22) openSUSE Leap 15.6 Kernel: 5.15 Compiler: gcc gcc (SUSE Linux) 7.5.0 Red Hat Enterprise Linux 9.5 Kernel: 5.15 Compiler: gcc gcc (GCC) 11.5.0 20240719 (Red Hat 11.5.0-2) Ubuntu 24.04 Kernel: 5.15 Compiler: gcc gcc (Ubuntu 13.3.0-6ubuntu2~24.04) 13.3.0 Ubuntu 22.04 Kernel: 5.15 Compiler: gcc gcc (Ubuntu 11.4.0-1ubuntu1~22.04) 11.4.0 To view detailed results, visit: https://lab.dpdk.org/results/dashboard/patchsets/33562/ UNH-IOL DPDK Community Lab To manage your email subscriptions, visit: https://lab.dpdk.org/results/dashboard/preferences/subscriptions/