From mboxrd@z Thu Jan 1 00:00:00 1970 Return-Path: Received: from mails.dpdk.org (mails.dpdk.org [217.70.189.124]) by inbox.dpdk.org (Postfix) with ESMTP id 7F7A046AF3 for ; Wed, 9 Jul 2025 06:12:19 +0200 (CEST) Received: from mails.dpdk.org (localhost [127.0.0.1]) by mails.dpdk.org (Postfix) with ESMTP id 152E64013F; Wed, 9 Jul 2025 06:12:19 +0200 (CEST) Received: from mail-pf1-f227.google.com (mail-pf1-f227.google.com [209.85.210.227]) by mails.dpdk.org (Postfix) with ESMTP id 43BF44013F for ; Wed, 9 Jul 2025 06:12:17 +0200 (CEST) Received: by mail-pf1-f227.google.com with SMTP id d2e1a72fcca58-7425bd5a83aso4409660b3a.0 for ; Tue, 08 Jul 2025 21:12:17 -0700 (PDT) DKIM-Signature: v=1; a=rsa-sha256; c=relaxed/relaxed; d=iol.unh.edu; s=unh-iol; t=1752034336; x=1752639136; darn=dpdk.org; h=references:in-reply-to:cc:to:from:subject:message-id:date:from:to :cc:subject:date:message-id:reply-to; bh=NY+IM5VJZYyEEI/Fw8HuVjNRLEayVFrYRoaDnPUX6K4=; b=d63B0ICqx2AyBvBrOOgKaEmy0UrKc2twKSB8lj71U0cpFDPMZsrX6dt3l02k/ZwoV0 BeFHO1uikl2zaSjGWlbMIegjSsK6x9Q5KqvSZ8FmV9ZWDY4mgzTd8//Z8MMUPPR3otdN QS+pn5syAk0m0L6lI+T/jVfT5sgBCdU0TfNZA= X-Google-DKIM-Signature: v=1; a=rsa-sha256; c=relaxed/relaxed; d=1e100.net; s=20230601; t=1752034336; x=1752639136; h=references:in-reply-to:cc:to:from:subject:message-id:date :x-gm-message-state:from:to:cc:subject:date:message-id:reply-to; bh=NY+IM5VJZYyEEI/Fw8HuVjNRLEayVFrYRoaDnPUX6K4=; b=MGvZY8SWa0IuSoeukpEvN44lR0EoxHKoM6e+2g+k8BEfoWr96y6YSp0uFEPT2ndLDb pbNNjqLPcbjU7P3odh0MePydoJx5uPEy9cBQGZY08QP3ok7cib57flPWMJPFg+xTXqyl nz/CXkA4OWtyIOpuC5x4XAWnS12JMcnjWLV5ylb1RvcZ//vwEmlN7YNCPMO9xgXLQ1e+ yA7wRaqVeYKsDxXY6HSbYRavpzGT/yx7TgG3KB/vdcM8eSofMtD3QM5Cja62d18SOhRY Iomhl+3OxbI1mTB8KHXqPkmwKbST6OZhdbf6SOmdK2ovfSVDe7ObPfqZ2gXALRt+H2wm LUQA== X-Gm-Message-State: AOJu0YxBlYB7Ihpnb1JPXyAH/H9jsytN18Uu8/pOr4/n6cMAb7XRWbBL qKAeVXD1PoEV/qvEte9y6anza4xf2XkidchHFpC4R+act8+DwnpRPIcTcMYrPnwYRyxSE1XvoY8 VuLm33U5A8+5VOXKoCjMEKvxd9s2xjSJKdLWsg4MhxiDbdFRJeteMsVO6uuo3 X-Gm-Gg: ASbGnct478GKN7u9xmtPAnxLp9WpgMay6XO6aOQqoDrDSwh9X4bDqns9QHpLNI8agkQ rz13i7tvf8HgqMiF2Sp3P4PAJbwiBkAwuWAoBQghLoFSB7Trz9R5o2dAcvm9urWxazeeOt5hch6 P4eJ6nWKST2P2woStAuWC3gw9zGMiIyFrOFkpgoaeH8k+A7YCq5q87lbIswJgioYYALq+5UT6Mz 6sCgqszQ68qOYt8YJJF/ZvWIv8ufnYdK2PIkwrTe7UIySWoXdeGxbefcd4xZQQm/nsRs1WPRVK8 YgluunnpSl4Ckmcu5wNHaOrxGdG7/ezw0SOrH9t8DERzlT4= X-Google-Smtp-Source: AGHT+IFTyn8QYvfmFCx/5jRDMfiL1KdnHfwov5VSZ405l35eTA1ulDSOAc0KoWlRQsY62LOXJPzqKGC822rq X-Received: by 2002:a05:6a20:914e:b0:21f:5aa1:3124 with SMTP id adf61e73a8af0-22cd6caf29dmr1710344637.13.1752034336375; Tue, 08 Jul 2025 21:12:16 -0700 (PDT) Received: from postal.iol.unh.edu (postal.iol.unh.edu. [2606:4100:3880:1234::84]) by smtp-relay.gmail.com with ESMTPS id d2e1a72fcca58-74ce3e117cbsm682752b3a.22.2025.07.08.21.12.16 (version=TLS1_2 cipher=ECDHE-ECDSA-AES128-GCM-SHA256 bits=128/128); Tue, 08 Jul 2025 21:12:16 -0700 (PDT) X-Relaying-Domain: iol.unh.edu Date: Tue, 08 Jul 2025 21:12:16 -0700 (PDT) Message-ID: <686dec20.050a0220.1666d8.4b7eSMTPIN_ADDED_MISSING@mx.google.com> Received: from [172.21.0.6] (unknown [172.18.0.240]) by postal.iol.unh.edu (Postfix) with ESMTP id 7FFC86051830; Wed, 9 Jul 2025 00:12:15 -0400 (EDT) Subject: |SUCCESS| pw154925-154942 [PATCH] [V5,18/18] drivers/net: add hinic3 From: dpdklab@iol.unh.edu To: Test Report Cc: dpdk-test-reports@iol.unh.edu In-Reply-To: <20250702020953.599-19-wff_light@vip.163.com> References: <20250702020953.599-19-wff_light@vip.163.com> Content-Type: text/plain X-BeenThere: test-report@dpdk.org X-Mailman-Version: 2.1.29 Precedence: list List-Id: automatic DPDK test reports List-Unsubscribe: , List-Archive: List-Post: List-Help: List-Subscribe: , Errors-To: test-report-bounces@dpdk.org Test-Label: iol-abi-testing Test-Status: SUCCESS http://dpdk.org/patch/154942 _Testing PASS_ Submitter: Feifei Wang Date: Wednesday, July 02 2025 02:09:41 DPDK git baseline: Repo:dpdk Branch: master CommitID:ba982f9a1ca9b96ed0394b764f1523d482e963a2 154925-154942 --> testing pass Upstream job id: Generic-DPDK-Compile-ABI#133647 Test environment and result as below: +-------------------------------+----------+ | Environment | abi_test | +===============================+==========+ | Fedora Linux 40 | PASS | +-------------------------------+----------+ | Debian GNU/Linux 12 | PASS | +-------------------------------+----------+ | CentOS Stream 9 | PASS | +-------------------------------+----------+ | CentOS Stream 10 | PASS | +-------------------------------+----------+ | Fedora Linux 41 | PASS | +-------------------------------+----------+ | Ubuntu 24.04 | PASS | +-------------------------------+----------+ | Ubuntu 22.04 | PASS | +-------------------------------+----------+ | Red Hat Enterprise Linux 8.10 | PASS | +-------------------------------+----------+ | Red Hat Enterprise Linux 9.5 | PASS | +-------------------------------+----------+ | openSUSE Leap 15.6 | PASS | +-------------------------------+----------+ Fedora Linux 40 Kernel: 5.15 Compiler: clang gcc (GCC) 14.2.1 20240912 (Red Hat 14.2.1-3) Debian GNU/Linux 12 Kernel: 5.15 Compiler: gcc gcc (Debian 12.2.0-14+deb12u1) 12.2.0 CentOS Stream 9 Kernel: 5.15 Compiler: gcc gcc (GCC) 11.5.0 20240719 (Red Hat 11.5.0-7) CentOS Stream 10 Kernel: 5.15 Compiler: gcc gcc (GCC) 14.2.1 20250110 (Red Hat 14.2.1-8) Fedora Linux 41 Kernel: 5.15 Compiler: clang gcc (GCC) 14.3.1 20250523 (Red Hat 14.3.1-1) Ubuntu 24.04 Kernel: 5.15 Compiler: gcc gcc (Ubuntu 13.3.0-6ubuntu2~24.04) 13.3.0 Ubuntu 22.04 Kernel: 5.15 Compiler: gcc gcc (Ubuntu 11.4.0-1ubuntu1~22.04) 11.4.0 Red Hat Enterprise Linux 8.10 Kernel: 5.15 Compiler: gcc gcc (GCC) 8.5.0 20210514 (Red Hat 8.5.0-22) Red Hat Enterprise Linux 9.5 Kernel: 5.15 Compiler: gcc gcc (GCC) 11.5.0 20240719 (Red Hat 11.5.0-2) openSUSE Leap 15.6 Kernel: 5.15 Compiler: gcc gcc (SUSE Linux) 7.5.0 To view detailed results, visit: https://lab.dpdk.org/results/dashboard/patchsets/33560/ UNH-IOL DPDK Community Lab To manage your email subscriptions, visit: https://lab.dpdk.org/results/dashboard/preferences/subscriptions/