From mboxrd@z Thu Jan 1 00:00:00 1970 Return-Path: Received: from mails.dpdk.org (mails.dpdk.org [217.70.189.124]) by inbox.dpdk.org (Postfix) with ESMTP id C787B46AF3 for ; Wed, 9 Jul 2025 06:14:12 +0200 (CEST) Received: from mails.dpdk.org (localhost [127.0.0.1]) by mails.dpdk.org (Postfix) with ESMTP id C2B094013F; Wed, 9 Jul 2025 06:14:12 +0200 (CEST) Received: from mail-pj1-f100.google.com (mail-pj1-f100.google.com [209.85.216.100]) by mails.dpdk.org (Postfix) with ESMTP id 9816C4013F for ; Wed, 9 Jul 2025 06:14:11 +0200 (CEST) Received: by mail-pj1-f100.google.com with SMTP id 98e67ed59e1d1-315f6b20cf9so5268938a91.2 for ; Tue, 08 Jul 2025 21:14:11 -0700 (PDT) DKIM-Signature: v=1; a=rsa-sha256; c=relaxed/relaxed; d=iol.unh.edu; s=unh-iol; t=1752034451; x=1752639251; darn=dpdk.org; h=references:in-reply-to:cc:to:from:subject:message-id:date:from:to :cc:subject:date:message-id:reply-to; bh=S/HUghS1gb3HEwWnZHwdOO2J+LbuiFB54zgqrKNmuvE=; b=bfQsA6JfnENZnyKo6EuZFNIjnDjcEkEpTLH0FYUL8PQcioD2PkhJWPVPRsEEp66dxQ p4ppQtfmnumf2vNWDT4s8Yu36pIjHM8vjZrYFN9rkR0b74a5zzAEYFvfPqacsbPv8yOG ageNO3ujPTzguAA8yYTFAOkLCS1xpGonbyxrQ= X-Google-DKIM-Signature: v=1; a=rsa-sha256; c=relaxed/relaxed; d=1e100.net; s=20230601; t=1752034451; x=1752639251; h=references:in-reply-to:cc:to:from:subject:message-id:date :x-gm-message-state:from:to:cc:subject:date:message-id:reply-to; bh=S/HUghS1gb3HEwWnZHwdOO2J+LbuiFB54zgqrKNmuvE=; b=sML6JSwIztrFE3msEX+dKsy07QRMXMqeWkX+Tcj6D5raYNtAhSl7jckoqhkU2W5mPT lxCaajxi0bUeGh10CP1Ym4GG8/adUFLcHsbxPq22BSX07zZmcApPeIb50dEr8NCNC8sY xyy9xmcze6Cd+z5mrQVYVlk8234M4kz3L6UlzAUtw6AJgvPyFAVMnr91TKNBsR+prfhR w0p1WToj2pLInzx2inUDpHwx03povvNSnVskWg5trUsabGteBF/uz8by55rxGez+ncgh HSIjfIMH0jAbx4LSpZserfOrrKgD1DuFyB0yJfEXSOSeyWYYroWqRqQRFtb4FEXy8uz8 dT1w== X-Gm-Message-State: AOJu0YyQlKLseUQvyy2jUTGfGYQAHyuVVXtTwvelemJjDUP58ieC6B0b AtQnPOEt/ErS8qWfdUfaOnc8wKxEwQTytIKivJU77c94scIMjd2jUaSAKVCuvrQIaRSlhBEgkVG ubQzlMDZlR4zJKmZnEC/66E7fBQk7xGXhxzzy9j3N2JBx X-Gm-Gg: ASbGncuDgZK58f1ALZRsp9lbRtsLytLkTfdbWGWBtalSKPB3RKjgIRrr9gOYZxuKXVy tTMdf58GNZz9SYO7x0l9wI8UnL6HXHbBgDgOgZfVIQKcPYkCp/lBKBCdIFgDIBElm9MlIECDrOG JN2IS7VLG2RLPufwIQ80Asxp06F/bcB7S1KXTpVUCTwB5qFjYpSPZl+IUkv7yAY/rT71w0IntNr aWa4QSr7oRFVsdDYJ5irVCPNBvOvl2wx64xu4yeFSql+EUQwDeqkBQ7G2/sdv1ii4/efUJWJ1nh i31su6u11RORaQNzyyqrjb4Prd1aW+FgnzD1hY+DPDHsmxOVzIif5SH/yGCNj6aIDQ3AGg== X-Google-Smtp-Source: AGHT+IEaF9LfygqMgZ+TjK+wq0CKpehDM7aWYYPpcsoh8H+SD6bvs9uOAakbAUL08Mticlwhg+GUu/9tuWOT X-Received: by 2002:a17:90b:48cb:b0:312:639:a064 with SMTP id 98e67ed59e1d1-31c2fddc0b8mr1738690a91.28.1752034450716; Tue, 08 Jul 2025 21:14:10 -0700 (PDT) Received: from postal.iol.unh.edu (postal.iol.unh.edu. [132.177.123.84]) by smtp-relay.gmail.com with ESMTPS id d9443c01a7336-23c84507809sm6294245ad.86.2025.07.08.21.14.10 (version=TLS1_2 cipher=ECDHE-ECDSA-AES128-GCM-SHA256 bits=128/128); Tue, 08 Jul 2025 21:14:10 -0700 (PDT) X-Relaying-Domain: iol.unh.edu Date: Tue, 08 Jul 2025 21:14:10 -0700 (PDT) Message-ID: <686dec92.170a0220.222f2b.21c2SMTPIN_ADDED_MISSING@mx.google.com> Received: from [172.21.0.7] (unknown [172.18.0.240]) by postal.iol.unh.edu (Postfix) with ESMTP id E12BC6051830; Wed, 9 Jul 2025 00:14:09 -0400 (EDT) Subject: |SUCCESS| pw154925-154942 [PATCH] [V5,18/18] drivers/net: add hinic3 From: dpdklab@iol.unh.edu To: Test Report Cc: dpdk-test-reports@iol.unh.edu In-Reply-To: <20250702020953.599-19-wff_light@vip.163.com> References: <20250702020953.599-19-wff_light@vip.163.com> Content-Type: text/plain X-BeenThere: test-report@dpdk.org X-Mailman-Version: 2.1.29 Precedence: list List-Id: automatic DPDK test reports List-Unsubscribe: , List-Archive: List-Post: List-Help: List-Subscribe: , Errors-To: test-report-bounces@dpdk.org Test-Label: iol-abi-testing Test-Status: SUCCESS http://dpdk.org/patch/154942 _Testing PASS_ Submitter: Feifei Wang Date: Wednesday, July 02 2025 02:09:41 DPDK git baseline: Repo:dpdk Branch: master CommitID:ba982f9a1ca9b96ed0394b764f1523d482e963a2 154925-154942 --> testing pass Upstream job id: Generic-DPDK-Compile-ABI#133642 Test environment and result as below: +-------------------------------+----------+ | Environment | abi_test | +===============================+==========+ | Fedora Linux 40 | PASS | +-------------------------------+----------+ | Debian GNU/Linux 12 | PASS | +-------------------------------+----------+ | CentOS Stream 9 | PASS | +-------------------------------+----------+ | CentOS Stream 10 | PASS | +-------------------------------+----------+ | Fedora Linux 41 | PASS | +-------------------------------+----------+ | Ubuntu 24.04 | PASS | +-------------------------------+----------+ | Ubuntu 22.04 | PASS | +-------------------------------+----------+ | Red Hat Enterprise Linux 8.10 | PASS | +-------------------------------+----------+ | Red Hat Enterprise Linux 9.5 | PASS | +-------------------------------+----------+ | openSUSE Leap 15.6 | PASS | +-------------------------------+----------+ Fedora Linux 40 Kernel: 5.15 Compiler: clang gcc (GCC) 14.2.1 20240912 (Red Hat 14.2.1-3) Debian GNU/Linux 12 Kernel: 5.15 Compiler: gcc gcc (Debian 12.2.0-14+deb12u1) 12.2.0 CentOS Stream 9 Kernel: 5.15 Compiler: gcc gcc (GCC) 11.5.0 20240719 (Red Hat 11.5.0-7) CentOS Stream 10 Kernel: 5.15 Compiler: gcc gcc (GCC) 14.2.1 20250110 (Red Hat 14.2.1-8) Fedora Linux 41 Kernel: 5.15 Compiler: clang gcc (GCC) 14.3.1 20250523 (Red Hat 14.3.1-1) Ubuntu 24.04 Kernel: 5.15 Compiler: gcc gcc (Ubuntu 13.3.0-6ubuntu2~24.04) 13.3.0 Ubuntu 22.04 Kernel: 5.15 Compiler: gcc gcc (Ubuntu 11.4.0-1ubuntu1~22.04) 11.4.0 Red Hat Enterprise Linux 8.10 Kernel: 5.15 Compiler: gcc gcc (GCC) 8.5.0 20210514 (Red Hat 8.5.0-22) Red Hat Enterprise Linux 9.5 Kernel: 5.15 Compiler: gcc gcc (GCC) 11.5.0 20240719 (Red Hat 11.5.0-2) openSUSE Leap 15.6 Kernel: 5.15 Compiler: gcc gcc (SUSE Linux) 7.5.0 To view detailed results, visit: https://lab.dpdk.org/results/dashboard/patchsets/33560/ UNH-IOL DPDK Community Lab To manage your email subscriptions, visit: https://lab.dpdk.org/results/dashboard/preferences/subscriptions/