From mboxrd@z Thu Jan 1 00:00:00 1970 Return-Path: Received: from mails.dpdk.org (mails.dpdk.org [217.70.189.124]) by inbox.dpdk.org (Postfix) with ESMTP id DC01646AF3 for ; Wed, 9 Jul 2025 06:14:47 +0200 (CEST) Received: from mails.dpdk.org (localhost [127.0.0.1]) by mails.dpdk.org (Postfix) with ESMTP id D46444013F; Wed, 9 Jul 2025 06:14:47 +0200 (CEST) Received: from mail-il1-f225.google.com (mail-il1-f225.google.com [209.85.166.225]) by mails.dpdk.org (Postfix) with ESMTP id 6ED7F4013F for ; Wed, 9 Jul 2025 06:14:46 +0200 (CEST) Received: by mail-il1-f225.google.com with SMTP id e9e14a558f8ab-3de252f75d7so51660145ab.3 for ; Tue, 08 Jul 2025 21:14:46 -0700 (PDT) DKIM-Signature: v=1; a=rsa-sha256; c=relaxed/relaxed; d=iol.unh.edu; s=unh-iol; t=1752034486; x=1752639286; darn=dpdk.org; h=references:in-reply-to:cc:to:from:subject:message-id:date:from:to :cc:subject:date:message-id:reply-to; bh=k58xTuv3SPyxjKxZkhhiSsAUNXBdt5vkZBK3Cflquhw=; b=gtrT5sWDAyxyuwmreveyz4cCzJvb0BO8ttLkEh5Tl/FIIeMe9dJQVPHGn2UDgO5lvG un4atEfycBeCXCM/5Bep4sRXebALPs3iOnPY6r3/kMT+ZlNo/dZ4IPDiPh3OnGzBXT1z pq/vIWEuVEsw9mVWnsSiOaIdbsGgp3ke6AMQI= X-Google-DKIM-Signature: v=1; a=rsa-sha256; c=relaxed/relaxed; d=1e100.net; s=20230601; t=1752034486; x=1752639286; h=references:in-reply-to:cc:to:from:subject:message-id:date :x-gm-message-state:from:to:cc:subject:date:message-id:reply-to; bh=k58xTuv3SPyxjKxZkhhiSsAUNXBdt5vkZBK3Cflquhw=; b=dcIcNQ65UaXsVKRBknldpEKpyYp199cYgIFtUANNwSTo13ex5zvab0uIH0qcnUCVsJ LLTVTuo90DMYza3zj9LKOYnTY0Ob7yyDwXhAIZ5wovo5W+ZDflWoMm59L3VAJn5oQgP1 m7SBOtVfgYIKS4aKFQEI/XWeKMVnVvQ0QhLtAXBIv4TN2YZsN9O7lf3s1UzztQqBa10n PDe7LE0OlyAFAphByfh9OPjWFjdBaCUr725Fw7Pyn4STJNN2k0SPkptft7ew/AGXfnsv u0KcDaoVgGTvSeTorfhi/NJEnMD+pzkcuNvPV44BLv6EDvsWLyPjvS2dKNkKBYZpn+Kb PtJg== X-Gm-Message-State: AOJu0YyTgeHXd9StpsrGQqbTSgOp5D5PnCQaiaJqzBwcbN29j0WLMVvW 0uQdTsuY8V40HBAAH7PFERkDs+TxBQHPbtGCqBk9ZaXj8YoemxsOUYmgAu29opzJNbBSbVCSwwF aEasoiQ89Pt0eafS3APWpPzaIjmkpJgSqulIU6ZacKwwjLlCmto4G7kitD3Jt X-Gm-Gg: ASbGncu8a8LgQPgud8KcDE8yO4piEiayrOKnrlyifmUZrqZIpGwvWPdw1lODFuP0hTQ yJwfdxoJLqanqvfaTyUIFDagSqG/FdwF8VArg4ih2+RqHofC3eGX039oKF9sumyW8BrTWiV1AlE bF0Q+vGyuNrQ/+i8DCXX4krxvS8XD3UcJXOB8aSJEdvz6QukBcK6sSPZOemCz3oo2gJwcg9ex6V dfS2+LwGv75sKQYG2dqk0wXbr20DZ6Ng08v5MiA3XCcr/We/jrAeub8H46w+Gph936gZt7S3nwV lssYBVC3M4Yny+ezkTtJIjO47mfavuz1oI4g9S+g6Hn2xOo= X-Google-Smtp-Source: AGHT+IFbz7MHHCBgevbKw/iDh0wb9Jy9uK8mT7NDUBVmanRuVbBsdrD7gnEL80/IC1uQCp/yDWzkO6svN3/r X-Received: by 2002:a05:6e02:32c9:b0:3e0:ec1e:18fe with SMTP id e9e14a558f8ab-3e1670d5693mr12782285ab.15.1752034485783; Tue, 08 Jul 2025 21:14:45 -0700 (PDT) Received: from postal.iol.unh.edu (postal.iol.unh.edu. [2606:4100:3880:1234::84]) by smtp-relay.gmail.com with ESMTPS id e9e14a558f8ab-3e15b199f69sm963325ab.13.2025.07.08.21.14.45 (version=TLS1_2 cipher=ECDHE-ECDSA-AES128-GCM-SHA256 bits=128/128); Tue, 08 Jul 2025 21:14:45 -0700 (PDT) X-Relaying-Domain: iol.unh.edu Date: Tue, 08 Jul 2025 21:14:45 -0700 (PDT) Message-ID: <686decb5.050a0220.32d5aa.5de2SMTPIN_ADDED_MISSING@mx.google.com> Received: from [172.21.0.5] (unknown [172.18.0.240]) by postal.iol.unh.edu (Postfix) with ESMTP id 523446051830; Wed, 9 Jul 2025 00:14:45 -0400 (EDT) Subject: |SUCCESS| pw154925-154942 [PATCH] [V5,18/18] drivers/net: add hinic3 From: dpdklab@iol.unh.edu To: Test Report Cc: dpdk-test-reports@iol.unh.edu In-Reply-To: <20250702020953.599-19-wff_light@vip.163.com> References: <20250702020953.599-19-wff_light@vip.163.com> Content-Type: text/plain X-BeenThere: test-report@dpdk.org X-Mailman-Version: 2.1.29 Precedence: list List-Id: automatic DPDK test reports List-Unsubscribe: , List-Archive: List-Post: List-Help: List-Subscribe: , Errors-To: test-report-bounces@dpdk.org Test-Label: iol-abi-testing Test-Status: SUCCESS http://dpdk.org/patch/154942 _Testing PASS_ Submitter: Feifei Wang Date: Wednesday, July 02 2025 02:09:41 DPDK git baseline: Repo:dpdk Branch: master CommitID:ba982f9a1ca9b96ed0394b764f1523d482e963a2 154925-154942 --> testing pass Upstream job id: Generic-DPDK-Compile-ABI#133638 Test environment and result as below: +-------------------------------+----------+ | Environment | abi_test | +===============================+==========+ | Fedora Linux 40 | PASS | +-------------------------------+----------+ | Debian GNU/Linux 12 | PASS | +-------------------------------+----------+ | CentOS Stream 9 | PASS | +-------------------------------+----------+ | CentOS Stream 10 | PASS | +-------------------------------+----------+ | Fedora Linux 41 | PASS | +-------------------------------+----------+ | Ubuntu 24.04 | PASS | +-------------------------------+----------+ | Ubuntu 22.04 | PASS | +-------------------------------+----------+ | Red Hat Enterprise Linux 8.10 | PASS | +-------------------------------+----------+ | Red Hat Enterprise Linux 9.5 | PASS | +-------------------------------+----------+ | openSUSE Leap 15.6 | PASS | +-------------------------------+----------+ Fedora Linux 40 Kernel: 5.15 Compiler: clang gcc (GCC) 14.2.1 20240912 (Red Hat 14.2.1-3) Debian GNU/Linux 12 Kernel: 5.15 Compiler: gcc gcc (Debian 12.2.0-14+deb12u1) 12.2.0 CentOS Stream 9 Kernel: 5.15 Compiler: gcc gcc (GCC) 11.5.0 20240719 (Red Hat 11.5.0-7) CentOS Stream 10 Kernel: 5.15 Compiler: gcc gcc (GCC) 14.2.1 20250110 (Red Hat 14.2.1-8) Fedora Linux 41 Kernel: 5.15 Compiler: clang gcc (GCC) 14.3.1 20250523 (Red Hat 14.3.1-1) Ubuntu 24.04 Kernel: 5.15 Compiler: gcc gcc (Ubuntu 13.3.0-6ubuntu2~24.04) 13.3.0 Ubuntu 22.04 Kernel: 5.15 Compiler: gcc gcc (Ubuntu 11.4.0-1ubuntu1~22.04) 11.4.0 Red Hat Enterprise Linux 8.10 Kernel: 5.15 Compiler: gcc gcc (GCC) 8.5.0 20210514 (Red Hat 8.5.0-22) Red Hat Enterprise Linux 9.5 Kernel: 5.15 Compiler: gcc gcc (GCC) 11.5.0 20240719 (Red Hat 11.5.0-2) openSUSE Leap 15.6 Kernel: 5.15 Compiler: gcc gcc (SUSE Linux) 7.5.0 To view detailed results, visit: https://lab.dpdk.org/results/dashboard/patchsets/33560/ UNH-IOL DPDK Community Lab To manage your email subscriptions, visit: https://lab.dpdk.org/results/dashboard/preferences/subscriptions/