From mboxrd@z Thu Jan 1 00:00:00 1970 Return-Path: Received: from mails.dpdk.org (mails.dpdk.org [217.70.189.124]) by inbox.dpdk.org (Postfix) with ESMTP id 541BE46AF3 for ; Wed, 9 Jul 2025 06:17:43 +0200 (CEST) Received: from mails.dpdk.org (localhost [127.0.0.1]) by mails.dpdk.org (Postfix) with ESMTP id 2E9944013F; Wed, 9 Jul 2025 06:17:43 +0200 (CEST) Received: from mail-io1-f99.google.com (mail-io1-f99.google.com [209.85.166.99]) by mails.dpdk.org (Postfix) with ESMTP id 21B664013F for ; Wed, 9 Jul 2025 06:17:42 +0200 (CEST) Received: by mail-io1-f99.google.com with SMTP id ca18e2360f4ac-874a68f6516so489021439f.2 for ; Tue, 08 Jul 2025 21:17:42 -0700 (PDT) DKIM-Signature: v=1; a=rsa-sha256; c=relaxed/relaxed; d=iol.unh.edu; s=unh-iol; t=1752034661; x=1752639461; darn=dpdk.org; h=references:in-reply-to:cc:to:from:subject:message-id:date:from:to :cc:subject:date:message-id:reply-to; bh=phlaO6c90jGWsOfFtbamteSrUtQPhpkYMXLOPCdZjwE=; b=gs/nSx06auyc9lteFj5J5Kh6cmpT5M4122XkjJwx+g6ZGVQQ99eS65AGiVufQ/F2lN /9S4QIa+WmfKc/PFGjcQDOaXWG0hLlNZKU5dpI/fXV+16VDthiROBAaYPAz0LEKKA4wD IVoeaEzBhUJYUmaqMzGdcuABxIJmGOsqvcfDQ= X-Google-DKIM-Signature: v=1; a=rsa-sha256; c=relaxed/relaxed; d=1e100.net; s=20230601; t=1752034661; x=1752639461; h=references:in-reply-to:cc:to:from:subject:message-id:date :x-gm-message-state:from:to:cc:subject:date:message-id:reply-to; bh=phlaO6c90jGWsOfFtbamteSrUtQPhpkYMXLOPCdZjwE=; b=sYFDV8aIg8q6d+zNrIyXXn4wMNqnVAMBNfMZ3SpgzsdRw9KHIPLFhVjOb34F3UH4tY aT1gJaWJpxvKPgbcKavl1dNl2gnq5EkFqmHXG2kMVeQuBrcGHbeJ5g6S+WNTvpcac4Ez XySFoeJiGkBdXPP/E59XKBZ4mdT3bwUL44jUkAge3RsZGjvO9RTH5UZXjbNDoPqZHUa3 C/0ugZfdV/W4HXNt8RlO8g8N5U4SSuehZaHyvRc8t9eTUlL2+wfw4nJe5AxylbgnxN8E +3HpGJy7w/bayhLu/8g3tweutqq1TA3Wjt0eM1KFcaR3uFb36G/X+cH7WfZ16Ntublb2 EC8Q== X-Gm-Message-State: AOJu0YyibRctQP7snuviRDkkelmSJH210fhc5KwPJIOdg8fVaMXF0CFR vysOT/10eGCKWUu8zxsvXwgc+ZNq6HLk4PajyhmzV+v6IOKicLVG/BMSosi1ZY9fXL7DX8N9l48 J9XW0dOfwwBFtOLWEtlKd4+YTOR4j5Ief1DuhXdgqijmX X-Gm-Gg: ASbGncsgBi82F434JQd0RxXRFG56tRtxcMa2MxvTNFO7sPlV1coI5gm8ibVJOhd9ilN kHj9qK/GysUGIIknSr59ZyMEHOHpQNunqwE9obYMQLxnACyvQuPzsm4QQHu4+gKWHPcg0xTRiUv RARpLL+Ij0ufy6bTD7S3ti1JBui2l2vWtXLH9oQbiRgzvy4P31p1r8o/lF0Fcx3k1VqVRNdXcCb NtC2cWIjsTfVZ8CMECBavqG5OgGfqT80ZQaZJwAEEImAWwDRUZtQ+MJP/jFzk2qKXoL0M50Uoo9 SLdjmNil/4M46XYTrNhvK2hh2BkLIHMou8YktPjmS0YwzvK96FYBKSxybCnGsihRlXqcZw== X-Google-Smtp-Source: AGHT+IHdpRyjGXw2N7aoUI7Rja4nxw+cvcFJ1yDpYdu+Cgu6mejosKtIXy2TYd7OPfSfEiG9qYz3lnWFId5K X-Received: by 2002:a05:6e02:194c:b0:3de:25cb:42cc with SMTP id e9e14a558f8ab-3e1670abf90mr10960495ab.10.1752034661405; Tue, 08 Jul 2025 21:17:41 -0700 (PDT) Received: from postal.iol.unh.edu (postal.iol.unh.edu. [132.177.123.84]) by smtp-relay.gmail.com with ESMTPS id e9e14a558f8ab-3e0f34346f8sm7406905ab.10.2025.07.08.21.17.41 (version=TLS1_2 cipher=ECDHE-ECDSA-AES128-GCM-SHA256 bits=128/128); Tue, 08 Jul 2025 21:17:41 -0700 (PDT) X-Relaying-Domain: iol.unh.edu Date: Tue, 08 Jul 2025 21:17:41 -0700 (PDT) Message-ID: <686ded65.050a0220.40a31.7262SMTPIN_ADDED_MISSING@mx.google.com> Received: from [172.21.0.7] (unknown [172.18.0.240]) by postal.iol.unh.edu (Postfix) with ESMTP id E6B776050A61; Wed, 9 Jul 2025 00:17:40 -0400 (EDT) Subject: |SUCCESS| pw154996 [PATCH] [v1] net/iavf: fix VLAN strip disabling f From: dpdklab@iol.unh.edu To: Test Report Cc: dpdk-test-reports@iol.unh.edu In-Reply-To: <20250703084234.8037-1-amiyaranjan.mohakud@gmail.com> References: <20250703084234.8037-1-amiyaranjan.mohakud@gmail.com> Content-Type: text/plain X-BeenThere: test-report@dpdk.org X-Mailman-Version: 2.1.29 Precedence: list List-Id: automatic DPDK test reports List-Unsubscribe: , List-Archive: List-Post: List-Help: List-Subscribe: , Errors-To: test-report-bounces@dpdk.org Test-Label: iol-unit-amd64-testing Test-Status: SUCCESS http://dpdk.org/patch/154996 _Testing PASS_ Submitter: Amiya Ranjan Mohakud Date: Thursday, July 03 2025 08:42:34 DPDK git baseline: Repo:dpdk Branch: master CommitID:a6b10031d251fcc7dadede461f7e1d005024b139 154996 --> testing pass Upstream job id: Generic-VM-Unit-Test-DPDK#29815 Test environment and result as below: +-------------------------------+----------------+ | Environment | dpdk_unit_test | +===============================+================+ | CentOS Stream 10 | PASS | +-------------------------------+----------------+ | CentOS Stream 9 | PASS | +-------------------------------+----------------+ | Debian GNU/Linux 12 | PASS | +-------------------------------+----------------+ | Fedora Linux 40 | PASS | +-------------------------------+----------------+ | Fedora Linux 41 | PASS | +-------------------------------+----------------+ | Red Hat Enterprise Linux 9.5 | PASS | +-------------------------------+----------------+ | Red Hat Enterprise Linux 8.10 | PASS | +-------------------------------+----------------+ | Ubuntu 24.04 | PASS | +-------------------------------+----------------+ | Ubuntu 22.04 | PASS | +-------------------------------+----------------+ | Ubuntu 20.04 | PASS | +-------------------------------+----------------+ | Windows Server 2022 | PASS | +-------------------------------+----------------+ CentOS Stream 10 Kernel: 5.15 Compiler: gcc gcc (GCC) 14.2.1 20250110 (Red Hat 14.2.1-8) CentOS Stream 9 Kernel: 5.15 Compiler: gcc gcc (GCC) 11.5.0 20240719 (Red Hat 11.5.0-7) Debian GNU/Linux 12 Kernel: 5.15 Compiler: gcc gcc (Debian 12.2.0-14+deb12u1) 12.2.0 Fedora Linux 40 Kernel: 5.15 Compiler: gcc gcc (GCC) 14.2.1 20240912 (Red Hat 14.2.1-3) Fedora Linux 41 Kernel: 5.15 Compiler: gcc gcc (GCC) 14.3.1 20250523 (Red Hat 14.3.1-1) Red Hat Enterprise Linux 9.5 Kernel: 5.15 Compiler: gcc gcc (GCC) 11.5.0 20240719 (Red Hat 11.5.0-2) Red Hat Enterprise Linux 8.10 Kernel: 5.15 Compiler: gcc gcc (GCC) 8.5.0 20210514 (Red Hat 8.5.0-22) Ubuntu 24.04 Kernel: 5.15 Compiler: gcc gcc (Ubuntu 13.3.0-6ubuntu2~24.04) 13.3.0 Ubuntu 22.04 Kernel: 5.15 Compiler: gcc gcc (Ubuntu 11.4.0-1ubuntu1~22.04) 11.4.0 Ubuntu 20.04 Kernel: 5.15 Compiler: gcc gcc (Ubuntu 9.4.0-1ubuntu1~20.04.2) 9.4.0 Windows Server 2022 Kernel: 10.0.20348.2031 Compiler: clang 15.0.7, gcc 14.1.0 (MinGW), and MSVC VS 19.39.33521 To view detailed results, visit: https://lab.dpdk.org/results/dashboard/patchsets/33579/ UNH-IOL DPDK Community Lab To manage your email subscriptions, visit: https://lab.dpdk.org/results/dashboard/preferences/subscriptions/