From mboxrd@z Thu Jan 1 00:00:00 1970 Return-Path: Received: from mails.dpdk.org (mails.dpdk.org [217.70.189.124]) by inbox.dpdk.org (Postfix) with ESMTP id 1AAC646AF3 for ; Wed, 9 Jul 2025 06:24:28 +0200 (CEST) Received: from mails.dpdk.org (localhost [127.0.0.1]) by mails.dpdk.org (Postfix) with ESMTP id E7A804013F; Wed, 9 Jul 2025 06:24:27 +0200 (CEST) Received: from mail-io1-f98.google.com (mail-io1-f98.google.com [209.85.166.98]) by mails.dpdk.org (Postfix) with ESMTP id 5320D4013F for ; Wed, 9 Jul 2025 06:24:26 +0200 (CEST) Received: by mail-io1-f98.google.com with SMTP id ca18e2360f4ac-873501d2ca1so102101739f.2 for ; Tue, 08 Jul 2025 21:24:26 -0700 (PDT) DKIM-Signature: v=1; a=rsa-sha256; c=relaxed/relaxed; d=iol.unh.edu; s=unh-iol; t=1752035065; x=1752639865; darn=dpdk.org; h=references:in-reply-to:cc:to:from:subject:message-id:date:from:to :cc:subject:date:message-id:reply-to; bh=41i0Djr61yrDrmeWFlssHJmoQ50kqOziZ91Q0lEzYXI=; b=O6Pwn9GL+0D3sbkGyEQ43o0vJl4UpbafybxE6E+m8HCdMVKRAltEGfuVXh4aNglbso qdRD2qH6RVRFoetaYyFAX+rgKHFdlVqRCJFGgXcW/ZDFnYo2LDstnVczEE98wWKRM9Sf Dimb+fjtKddYZooD82KM7JrMmO1SiGlJ/+630= X-Google-DKIM-Signature: v=1; a=rsa-sha256; c=relaxed/relaxed; d=1e100.net; s=20230601; t=1752035065; x=1752639865; h=references:in-reply-to:cc:to:from:subject:message-id:date :x-gm-message-state:from:to:cc:subject:date:message-id:reply-to; bh=41i0Djr61yrDrmeWFlssHJmoQ50kqOziZ91Q0lEzYXI=; b=YBDkd21vcgJr6X1Bvzk1n2m530GoGtkiOeFOfuFLfxfzt9l/Nvzdh48+cv4DrWa4iw gZXmQ91P6nQe2dzcBJQ0H2cg4dFO77TajhTzw4r61kgDUBCV9O+Wix+p4eV75aEW3YFq 58iQQkwjfM5Q5VmLzEU4jIaUTw/oRdxBCfHihPZ5iTiZZfwHREvjak2U+LlUqusKqUd2 rJyQkd0y6X4Xy5G2kZ50uCNAKtEVGwN+sN52aFzpvkhUcFM+26bZlN+DNltGkYP8jwGG b2SxJkfny/msPdtVVArXnPqZaXHzjwMzw82kmTrbpAs0qecy1ND5i3mRWIuq+AU3dp+o P4JA== X-Gm-Message-State: AOJu0YyT9kbR0j2GehL3RNDN+EKgdIz9SctwCh2lGQQVxU1fQNeMEXKg fQ9QNbN/G2M+qshAJ2SqzPZeXqKCC9xU8On/FF3bXLHK7cuJYC0rL7xUdhVYIXs6ENRaciHgeCT ZG9AfLBt4SP3AUu70y550PKcO5FeXHBKb7iyMIjloW+fCwYDzO9mPLAWMi5lD X-Gm-Gg: ASbGncvp2InMSdO4qUTgKGQHfQtQTGT6ELNIgVCM9UpkLyqdwOcKeZrQ9dzR3rfgNoc IO9ZVkjtIhnQ4jZTEMvQW1EoGv0brFeIzDnjrUzh7K8RRXk3my9iyto190fh2LnKK0hrIuzCKc3 l/uWOqsumq2QWgUCRDeD/VOAk47ZxwaKLNJhKe/fr2+Kh7nJyTUsCmWdwgQLSf1psD2ad0tigw4 S2oKLdHi1LU0L2woRReoapgIhkdx/aTscv6dlexVK5tnDWypmzczZnmfnc+jlOF752PsE8yMxaf S/BL13lbhjtOOAJTT6MWwPDyCmTosLxygB1mEm9OTNnt0S4= X-Google-Smtp-Source: AGHT+IFLLa0xGSehFSP0n2NaYQiXLZMxYo3F1aDPpJdCVyLEiNeJDMz71mS6GVqAiERPfPcUi0laWorfPqD0 X-Received: by 2002:a92:cd81:0:b0:3dc:7240:94c7 with SMTP id e9e14a558f8ab-3e167020ca0mr10903165ab.6.1752035065608; Tue, 08 Jul 2025 21:24:25 -0700 (PDT) Received: from postal.iol.unh.edu (postal.iol.unh.edu. [2606:4100:3880:1234::84]) by smtp-relay.gmail.com with ESMTPS id e9e14a558f8ab-3e0f9b74569sm7094775ab.23.2025.07.08.21.24.25 (version=TLS1_2 cipher=ECDHE-ECDSA-AES128-GCM-SHA256 bits=128/128); Tue, 08 Jul 2025 21:24:25 -0700 (PDT) X-Relaying-Domain: iol.unh.edu Date: Tue, 08 Jul 2025 21:24:25 -0700 (PDT) Message-ID: <686deef9.050a0220.396275.4a5fSMTPIN_ADDED_MISSING@mx.google.com> Received: from [172.21.0.6] (unknown [172.18.0.240]) by postal.iol.unh.edu (Postfix) with ESMTP id 35F296050A61; Wed, 9 Jul 2025 00:24:25 -0400 (EDT) Subject: |WARNING| pw154976 [PATCH] net/iavf: fix VLAN offload strip flag From: dpdklab@iol.unh.edu To: Test Report Cc: dpdk-test-reports@iol.unh.edu In-Reply-To: <20250702181506.95192-1-amiyaranjan.mohakud@gmail.com> References: <20250702181506.95192-1-amiyaranjan.mohakud@gmail.com> Content-Type: text/plain X-BeenThere: test-report@dpdk.org X-Mailman-Version: 2.1.29 Precedence: list List-Id: automatic DPDK test reports List-Unsubscribe: , List-Archive: List-Post: List-Help: List-Subscribe: , Errors-To: test-report-bounces@dpdk.org Test-Label: iol-compile-amd64-testing Test-Status: WARNING http://dpdk.org/patch/154976 _Testing issues_ Submitter: Amiya Ranjan Mohakud Date: Wednesday, July 02 2025 18:15:06 DPDK git baseline: Repo:dpdk Branch: master CommitID:a6b10031d251fcc7dadede461f7e1d005024b139 154976 --> testing issues Upstream job id: Windows-Compile-DPDK-Native#29665 Test environment and result as below: +-------------------------------+--------------------+-------------------+-------------------+------------------+-------------------------+----------------------+ | Environment | dpdk_meson_compile | dpdk_msvc_compile | dpdk_compile_spdk | dpdk_compile_ovs | dpdk_llvm_clang_compile | dpdk_mingw64_compile | +===============================+====================+===================+===================+==================+=========================+======================+ | Ubuntu 20.04 | PASS | SKIPPED | SKIPPED | SKIPPED | SKIPPED | SKIPPED | +-------------------------------+--------------------+-------------------+-------------------+------------------+-------------------------+----------------------+ | FreeBSD 14.2 | PASS | SKIPPED | SKIPPED | SKIPPED | SKIPPED | SKIPPED | +-------------------------------+--------------------+-------------------+-------------------+------------------+-------------------------+----------------------+ | CentOS Stream 9 | PASS | SKIPPED | PASS | SKIPPED | SKIPPED | SKIPPED | +-------------------------------+--------------------+-------------------+-------------------+------------------+-------------------------+----------------------+ | CentOS Stream 10 | PASS | SKIPPED | SKIPPED | SKIPPED | SKIPPED | SKIPPED | +-------------------------------+--------------------+-------------------+-------------------+------------------+-------------------------+----------------------+ | Debian GNU/Linux 12 | PASS | SKIPPED | PASS | SKIPPED | SKIPPED | SKIPPED | +-------------------------------+--------------------+-------------------+-------------------+------------------+-------------------------+----------------------+ | Fedora Linux 40 | PASS | SKIPPED | PASS | SKIPPED | SKIPPED | SKIPPED | +-------------------------------+--------------------+-------------------+-------------------+------------------+-------------------------+----------------------+ | Fedora Linux 41 | PASS | SKIPPED | PASS | PASS | SKIPPED | SKIPPED | +-------------------------------+--------------------+-------------------+-------------------+------------------+-------------------------+----------------------+ | openSUSE Leap 15.6 | PASS | SKIPPED | SKIPPED | SKIPPED | SKIPPED | SKIPPED | +-------------------------------+--------------------+-------------------+-------------------+------------------+-------------------------+----------------------+ | Red Hat Enterprise Linux 8.10 | PASS | SKIPPED | SKIPPED | SKIPPED | SKIPPED | SKIPPED | +-------------------------------+--------------------+-------------------+-------------------+------------------+-------------------------+----------------------+ | Red Hat Enterprise Linux 9.5 | PASS | SKIPPED | SKIPPED | SKIPPED | SKIPPED | SKIPPED | +-------------------------------+--------------------+-------------------+-------------------+------------------+-------------------------+----------------------+ | Ubuntu 22.04 | PASS | SKIPPED | PASS | SKIPPED | SKIPPED | SKIPPED | +-------------------------------+--------------------+-------------------+-------------------+------------------+-------------------------+----------------------+ | Ubuntu 24.04 | PASS | SKIPPED | PASS | PASS | SKIPPED | SKIPPED | +-------------------------------+--------------------+-------------------+-------------------+------------------+-------------------------+----------------------+ | Alpine Linux 3.22.0 | PASS | SKIPPED | SKIPPED | SKIPPED | SKIPPED | SKIPPED | +-------------------------------+--------------------+-------------------+-------------------+------------------+-------------------------+----------------------+ | Windows Server 2022 | SKIPPED | PASS | SKIPPED | SKIPPED | PASS | PASS | +-------------------------------+--------------------+-------------------+-------------------+------------------+-------------------------+----------------------+ Ubuntu 20.04 Kernel: 4.19 Compiler: gcc gcc (Ubuntu 9.4.0-1ubuntu1~20.04.2) 9.4.0 FreeBSD 14.2 Kernel: 14.2-RELEASE Compiler: clang 18.1.6 CentOS Stream 9 Kernel: 5.15 Compiler: gcc gcc (GCC) 11.5.0 20240719 (Red Hat 11.5.0-7) CentOS Stream 10 Kernel: 5.15 Compiler: gcc gcc (GCC) 14.2.1 20250110 (Red Hat 14.2.1-8) Debian GNU/Linux 12 Kernel: 5.15 Compiler: gcc gcc (Debian 12.2.0-14+deb12u1) 12.2.0 Fedora Linux 40 Kernel: 5.15 Compiler: clang gcc (GCC) 14.2.1 20240912 (Red Hat 14.2.1-3) Fedora Linux 41 Kernel: 5.15 Compiler: clang gcc (GCC) 14.3.1 20250523 (Red Hat 14.3.1-1) openSUSE Leap 15.6 Kernel: 5.15 Compiler: gcc gcc (SUSE Linux) 7.5.0 Red Hat Enterprise Linux 8.10 Kernel: 5.15 Compiler: gcc gcc (GCC) 8.5.0 20210514 (Red Hat 8.5.0-22) Red Hat Enterprise Linux 9.5 Kernel: 5.15 Compiler: gcc gcc (GCC) 11.5.0 20240719 (Red Hat 11.5.0-2) Ubuntu 22.04 Kernel: 5.15 Compiler: gcc gcc (Ubuntu 11.4.0-1ubuntu1~22.04) 11.4.0 Ubuntu 24.04 Kernel: 5.15 Compiler: gcc gcc (Ubuntu 13.3.0-6ubuntu2~24.04) 13.3.0 Alpine Linux 3.22.0 Kernel: 5.15 Compiler: gcc gcc (Alpine 14.2.0) 14.2.0 Windows Server 2022 Kernel: 10.0.20348.2031 Compiler: clang 15.0.7, gcc 14.1.0 (MinGW), and MSVC VS 19.39.33521 To view detailed results, visit: https://lab.dpdk.org/results/dashboard/patchsets/33573/ UNH-IOL DPDK Community Lab To manage your email subscriptions, visit: https://lab.dpdk.org/results/dashboard/preferences/subscriptions/