From mboxrd@z Thu Jan 1 00:00:00 1970 Return-Path: Received: from mails.dpdk.org (mails.dpdk.org [217.70.189.124]) by inbox.dpdk.org (Postfix) with ESMTP id A5AAF46A45 for ; Wed, 9 Jul 2025 06:41:09 +0200 (CEST) Received: from mails.dpdk.org (localhost [127.0.0.1]) by mails.dpdk.org (Postfix) with ESMTP id 810BE4013F; Wed, 9 Jul 2025 06:41:09 +0200 (CEST) Received: from mail-il1-f227.google.com (mail-il1-f227.google.com [209.85.166.227]) by mails.dpdk.org (Postfix) with ESMTP id 647AC4013F for ; Wed, 9 Jul 2025 06:41:08 +0200 (CEST) Received: by mail-il1-f227.google.com with SMTP id e9e14a558f8ab-3df2d8cb8d2so18728955ab.2 for ; Tue, 08 Jul 2025 21:41:08 -0700 (PDT) DKIM-Signature: v=1; a=rsa-sha256; c=relaxed/relaxed; d=iol.unh.edu; s=unh-iol; t=1752036067; x=1752640867; darn=dpdk.org; h=references:in-reply-to:cc:to:from:subject:message-id:date:from:to :cc:subject:date:message-id:reply-to; bh=qw/eavV6WVdV2xFhtQzHi4Bu93Wkq163k2OsAqdUdNA=; b=GuYWaoul4zcBzSvwewdJ8AP0q3Fv+RW8a5obuXpwpVk9oRtsKl0/6hzZBP7efALx4D p/URF14m4VlhuWnEpPCJBlmRrkfHQ/SR2RJADgP37FqYEYZY/Fm9LJ7S2mCq4NflA799 pc0XQqr29hvQhAMws8Bx3TA9mIZvT7Wn+3aoI= X-Google-DKIM-Signature: v=1; a=rsa-sha256; c=relaxed/relaxed; d=1e100.net; s=20230601; t=1752036067; x=1752640867; h=references:in-reply-to:cc:to:from:subject:message-id:date :x-gm-message-state:from:to:cc:subject:date:message-id:reply-to; bh=qw/eavV6WVdV2xFhtQzHi4Bu93Wkq163k2OsAqdUdNA=; b=qSxqnrFiFx01KLblSYpyysd5l2WcOXBBsODYmY7Lw6eQVApC9rJbdQ2XSlP7n31xDL z4y74i381LfoAMHiCNlpV0frVPZGsgrDDstpVBNJxJDuDTfn/4LC7zQOa3jPcARYqgU1 AVRGmYRQG3FbhUznE9MuCeJWA5OJIln9poEKroD1r4qUxMbG7oF39EA5uls8fvw4CPQJ 0Vb3SL7WCLhJLf80FrahgxXJv4Tn5dejlfx0HEwbdLghtT477fuxsO+Qwn1h0oDmX2kH W2S/74fJaM36bKdt2+6Holr+DUxnD/KI1jigpLMIwcFVh7dGvrT4cg3L1TLs1F/5Olnk eR3g== X-Gm-Message-State: AOJu0YzIqfMWQPzGf7KQm+VD407+/MAJImyg5ghTLpPJfAOR6O/AQYlm dRr2+XcghSBOlikdc7fZhq7r0YQIfzeDgO3p++3/eXxTI/vpWUJXk12p9C7RkpyurcAKOPTSfGJ uZykNNj2I48ilJvOM6TO7V2vcAVC0EetIEeTamAfvanwZ X-Gm-Gg: ASbGncv05xIvx4uwbPL6fsHzTcnqsEORFbD+6ZHoSVaCl42oUENprsnVvGwQUWkiPH2 xTUZ/VLNamguHOhFwc99nCEwgRV523Yb1WZETBX2k+HVSWK73th7oeI/a3nk+ErC/aFcFde4A5L SqoxAqPr4xqNg2cIQwDRaEr1kPLywcesclNmPBYm/PvQ62a4Ju6YVrifoAJaQnqX3rkjLz+0ety ET3mTi8PYwAP4CNFHWPdcUAMTfYUyQt0S+EQBvlOCyMxV7/ojZpYawOG1cLuxNGeXSrHXgtNf0e bv2yJ3mlzmhmaoo6W0dpnyIhW/u+XqqGMzVqv8bQVUvBBXfXpghCsYJwqFxYsTMWOOv7sA== X-Google-Smtp-Source: AGHT+IHBalC4Z7bdPmnduvoCFzhC8X4HAZhIH0gAF8BwMc0m3YJcyhYIstjgX2O6KT7u3coJHnKLv9nbsBpO X-Received: by 2002:a05:6e02:2491:b0:3df:4723:7031 with SMTP id e9e14a558f8ab-3e1670aa397mr9692685ab.10.1752036067609; Tue, 08 Jul 2025 21:41:07 -0700 (PDT) Received: from postal.iol.unh.edu (postal.iol.unh.edu. [132.177.123.84]) by smtp-relay.gmail.com with ESMTPS id e9e14a558f8ab-3e0f3434961sm7340795ab.6.2025.07.08.21.41.07 (version=TLS1_2 cipher=ECDHE-ECDSA-AES128-GCM-SHA256 bits=128/128); Tue, 08 Jul 2025 21:41:07 -0700 (PDT) X-Relaying-Domain: iol.unh.edu Date: Tue, 08 Jul 2025 21:41:07 -0700 (PDT) Message-ID: <686df2e3.050a0220.1e55eb.6696SMTPIN_ADDED_MISSING@mx.google.com> Received: from [172.21.0.5] (unknown [172.18.0.240]) by postal.iol.unh.edu (Postfix) with ESMTP id 147346051830; Wed, 9 Jul 2025 00:41:07 -0400 (EDT) Subject: |WARNING| pw154945-154949 [PATCH] [v3,5/5] dts: add performance test From: dpdklab@iol.unh.edu To: Test Report Cc: dpdk-test-reports@iol.unh.edu In-Reply-To: <20250702052154.381690-5-probb@iol.unh.edu> References: <20250702052154.381690-5-probb@iol.unh.edu> Content-Type: text/plain X-BeenThere: test-report@dpdk.org X-Mailman-Version: 2.1.29 Precedence: list List-Id: automatic DPDK test reports List-Unsubscribe: , List-Archive: List-Post: List-Help: List-Subscribe: , Errors-To: test-report-bounces@dpdk.org Test-Label: iol-compile-amd64-testing Test-Status: WARNING http://dpdk.org/patch/154949 _Testing issues_ Submitter: Patrick Robb Date: Wednesday, July 02 2025 05:21:54 DPDK git baseline: Repo:dpdk Branch: master CommitID:e90979eebbea093f6bab2d7c222fc5f5c9a85eff 154945-154949 --> testing issues Upstream job id: Generic-DPDK-Compile-Meson#406902 Test environment and result as below: +-------------------------------+--------------------+-------------------+------------------+-------------------+ | Environment | dpdk_meson_compile | dpdk_compile_spdk | dpdk_compile_ovs | dpdk_msvc_compile | +===============================+====================+===================+==================+===================+ | CentOS Stream 9 | PASS | PASS | SKIPPED | SKIPPED | +-------------------------------+--------------------+-------------------+------------------+-------------------+ | CentOS Stream 10 | PASS | SKIPPED | SKIPPED | SKIPPED | +-------------------------------+--------------------+-------------------+------------------+-------------------+ | Debian GNU/Linux 12 | PASS | PASS | SKIPPED | SKIPPED | +-------------------------------+--------------------+-------------------+------------------+-------------------+ | Fedora Linux 40 | PASS | PASS | SKIPPED | SKIPPED | +-------------------------------+--------------------+-------------------+------------------+-------------------+ | Fedora Linux 41 | PEND | PEND | PEND | SKIPPED | +-------------------------------+--------------------+-------------------+------------------+-------------------+ | openSUSE Leap 15.6 | PASS | SKIPPED | SKIPPED | SKIPPED | +-------------------------------+--------------------+-------------------+------------------+-------------------+ | Red Hat Enterprise Linux 8.10 | PASS | SKIPPED | SKIPPED | SKIPPED | +-------------------------------+--------------------+-------------------+------------------+-------------------+ | Red Hat Enterprise Linux 9.5 | PASS | SKIPPED | SKIPPED | SKIPPED | +-------------------------------+--------------------+-------------------+------------------+-------------------+ | Ubuntu 20.04 | PASS | SKIPPED | SKIPPED | SKIPPED | +-------------------------------+--------------------+-------------------+------------------+-------------------+ | FreeBSD 14.2 | PASS | SKIPPED | SKIPPED | SKIPPED | +-------------------------------+--------------------+-------------------+------------------+-------------------+ | Ubuntu 22.04 | PASS | PASS | SKIPPED | SKIPPED | +-------------------------------+--------------------+-------------------+------------------+-------------------+ | Ubuntu 24.04 | PASS | PASS | PASS | SKIPPED | +-------------------------------+--------------------+-------------------+------------------+-------------------+ | Alpine Linux 3.22.0 | PASS | SKIPPED | SKIPPED | SKIPPED | +-------------------------------+--------------------+-------------------+------------------+-------------------+ | Windows Server 2022 | SKIPPED | SKIPPED | SKIPPED | PASS | +-------------------------------+--------------------+-------------------+------------------+-------------------+ CentOS Stream 9 Kernel: 5.15 Compiler: gcc gcc (GCC) 11.5.0 20240719 (Red Hat 11.5.0-7) CentOS Stream 10 Kernel: 5.15 Compiler: gcc gcc (GCC) 14.2.1 20250110 (Red Hat 14.2.1-8) Debian GNU/Linux 12 Kernel: 5.15 Compiler: gcc gcc (Debian 12.2.0-14+deb12u1) 12.2.0 Fedora Linux 40 Kernel: 5.15 Compiler: clang gcc (GCC) 14.2.1 20240912 (Red Hat 14.2.1-3) Fedora Linux 41 Kernel: 5.15 Compiler: gcc gcc (GCC) 14.3.1 20250523 (Red Hat 14.3.1-1) openSUSE Leap 15.6 Kernel: 5.15 Compiler: gcc gcc (SUSE Linux) 7.5.0 Red Hat Enterprise Linux 8.10 Kernel: 5.15 Compiler: gcc gcc (GCC) 8.5.0 20210514 (Red Hat 8.5.0-22) Red Hat Enterprise Linux 9.5 Kernel: 5.15 Compiler: gcc gcc (GCC) 11.5.0 20240719 (Red Hat 11.5.0-2) Ubuntu 20.04 Kernel: 5.15 Compiler: gcc gcc (Ubuntu 9.4.0-1ubuntu1~20.04.2) 9.4.0 FreeBSD 14.2 Kernel: 14.2-RELEASE Compiler: clang 18.1.6 Ubuntu 22.04 Kernel: 5.15 Compiler: gcc gcc (Ubuntu 11.4.0-1ubuntu1~22.04) 11.4.0 Ubuntu 24.04 Kernel: 5.15 Compiler: gcc gcc (Ubuntu 13.3.0-6ubuntu2~24.04) 13.3.0 Alpine Linux 3.22.0 Kernel: 5.15 Compiler: gcc gcc (Alpine 14.2.0) 14.2.0 Windows Server 2022 Kernel: 10.0.20348.2031 Compiler: clang 15.0.7, gcc 14.1.0 (MinGW), and MSVC VS 19.39.33521 To view detailed results, visit: https://lab.dpdk.org/results/dashboard/patchsets/33562/ UNH-IOL DPDK Community Lab To manage your email subscriptions, visit: https://lab.dpdk.org/results/dashboard/preferences/subscriptions/