From mboxrd@z Thu Jan 1 00:00:00 1970 Return-Path: Received: from mails.dpdk.org (mails.dpdk.org [217.70.189.124]) by inbox.dpdk.org (Postfix) with ESMTP id 299AE46A45 for ; Wed, 9 Jul 2025 06:42:05 +0200 (CEST) Received: from mails.dpdk.org (localhost [127.0.0.1]) by mails.dpdk.org (Postfix) with ESMTP id 25EB14013F; Wed, 9 Jul 2025 06:42:05 +0200 (CEST) Received: from mail-qv1-f97.google.com (mail-qv1-f97.google.com [209.85.219.97]) by mails.dpdk.org (Postfix) with ESMTP id CD07E4013F for ; Wed, 9 Jul 2025 06:42:04 +0200 (CEST) Received: by mail-qv1-f97.google.com with SMTP id 6a1803df08f44-6fabe9446a0so47782476d6.2 for ; Tue, 08 Jul 2025 21:42:04 -0700 (PDT) DKIM-Signature: v=1; a=rsa-sha256; c=relaxed/relaxed; d=iol.unh.edu; s=unh-iol; t=1752036124; x=1752640924; darn=dpdk.org; h=references:in-reply-to:cc:to:from:subject:message-id:date:from:to :cc:subject:date:message-id:reply-to; bh=FWp/zJlp2KinIDqZ+fmhdHsdE2cnNKfMFfs2WoDY7zI=; b=NZKvx8qCEaZI+gjvnEHJqaEMds8ZJRfQ/O8KGMCh2POHh8lYGgrtNWjU0VyB4coHl+ qsS8tFkZ7h8Ze7St70Gv6SCJZ1t/lxsrBKNIjpTKpJxYz8gc81+GjSnvnWrNkf1WQnlb N/oGfQ+Ghsqphm0fBfVAoZn+JUvgAJux7z7tI= X-Google-DKIM-Signature: v=1; a=rsa-sha256; c=relaxed/relaxed; d=1e100.net; s=20230601; t=1752036124; x=1752640924; h=references:in-reply-to:cc:to:from:subject:message-id:date :x-gm-message-state:from:to:cc:subject:date:message-id:reply-to; bh=FWp/zJlp2KinIDqZ+fmhdHsdE2cnNKfMFfs2WoDY7zI=; b=E4Nvyofe3sSILU2IodCn7Cbo8BGPdlWdY3zgeaVdSHjBaY6+/rbIwFnCalyKtK7lsj cnZbAaC6ft+vQFOrq5TY5DOiPvtXEvZfvifqri7Y7p/PywSEwxmdb75wQavx5ENOokEB FWgyNEgKIDhabgC73vzKAcyXRuShQDmv5KLWX/d6mn4IpRK7X+YfbHTTSPOF9wl9aIug YcoKZJSehw3lH0BhC+J78AsHCdNUweY6RHRAx89taz2UDkwhka0JaniVEcflbt8fAG1+ utL2eRxsbYwjohEBAL/z3GTODvkenhggfcPh3PnVb4E4sv7bhs0oT17sQ3PSGCuawnr/ EFjA== X-Gm-Message-State: AOJu0YyNnsbPhH2WIF29ud5mvy4JorpmnpJwM8zWtZ5o0PE958GfG4wn plVae3dqukJd7w8wa8MtbgsDxRmKZ4TV1JLwXLwM8RP1AU+rSf+e30epbtB10ahC0GKdauTxEYV wMM6Q0if+Qq/L1o6xPMjOU63FVWBojGbFW5QQFyM8EBmR X-Gm-Gg: ASbGncuB1WjEW/jc24bjUIO5kQdtkVKgN6a96zJ2Hp4xgEzFPy0R06KJ0DG45DT/wEW pl3UFo5ska3ZL6tGBIk+YH7Rpa7HVv1shjSj2EwkxTBZIcJkAZ1xHiKRh5AyJk36uOBX3N3TDxX hZvShWkLEf8jhM5orJroD7a1EqJiqjh9AqD1H/KJzkqzACq/2cZkA+mITWdH+Sctm/sKK11ET/t ZN5YPP6S+OWTNrshgaxvL/cFtTSMGuW5G4hdHOeixziiMEChyfLfUSzxD+MkOD/OLI7kD2tSu9E Z43qq1kM9xcrI5sAcFuSXX5J4fAUuzicY6vFTsflOsUNnUlq6v4R4Lgdv9vXTF6mNIn9zw== X-Google-Smtp-Source: AGHT+IF7M0RYLeGlvuyQzMBQROk/YgNoIx1Ly3MfNUZA1BYm47kVSShNWhjEVUPCnRegbLI09fT6uqgaXAni X-Received: by 2002:a05:6214:3107:b0:704:7d7a:7874 with SMTP id 6a1803df08f44-7048b7bffe2mr17492116d6.0.1752036124183; Tue, 08 Jul 2025 21:42:04 -0700 (PDT) Received: from postal.iol.unh.edu (postal.iol.unh.edu. [132.177.123.84]) by smtp-relay.gmail.com with ESMTPS id 6a1803df08f44-702c4d547aasm5865076d6.59.2025.07.08.21.42.04 (version=TLS1_2 cipher=ECDHE-ECDSA-AES128-GCM-SHA256 bits=128/128); Tue, 08 Jul 2025 21:42:04 -0700 (PDT) X-Relaying-Domain: iol.unh.edu Date: Tue, 08 Jul 2025 21:42:04 -0700 (PDT) Message-ID: <686df31c.d40a0220.391864.edbfSMTPIN_ADDED_MISSING@mx.google.com> Received: from [172.21.0.5] (unknown [172.18.0.240]) by postal.iol.unh.edu (Postfix) with ESMTP id E6AED6051830; Wed, 9 Jul 2025 00:42:03 -0400 (EDT) Subject: |WARNING| pw154945-154949 [PATCH] [v3,5/5] dts: add performance test From: dpdklab@iol.unh.edu To: Test Report Cc: dpdk-test-reports@iol.unh.edu In-Reply-To: <20250702052154.381690-5-probb@iol.unh.edu> References: <20250702052154.381690-5-probb@iol.unh.edu> Content-Type: text/plain X-BeenThere: test-report@dpdk.org X-Mailman-Version: 2.1.29 Precedence: list List-Id: automatic DPDK test reports List-Unsubscribe: , List-Archive: List-Post: List-Help: List-Subscribe: , Errors-To: test-report-bounces@dpdk.org Test-Label: iol-compile-amd64-testing Test-Status: WARNING http://dpdk.org/patch/154949 _Testing issues_ Submitter: Patrick Robb Date: Wednesday, July 02 2025 05:21:54 DPDK git baseline: Repo:dpdk Branch: master CommitID:e90979eebbea093f6bab2d7c222fc5f5c9a85eff 154945-154949 --> testing issues Upstream job id: Generic-DPDK-Compile-Meson#406913 Test environment and result as below: +-------------------------------+--------------------+-------------------+------------------+-------------------+ | Environment | dpdk_meson_compile | dpdk_compile_spdk | dpdk_compile_ovs | dpdk_msvc_compile | +===============================+====================+===================+==================+===================+ | CentOS Stream 9 | PASS | PASS | SKIPPED | SKIPPED | +-------------------------------+--------------------+-------------------+------------------+-------------------+ | CentOS Stream 10 | PASS | SKIPPED | SKIPPED | SKIPPED | +-------------------------------+--------------------+-------------------+------------------+-------------------+ | Debian GNU/Linux 12 | PASS | PASS | SKIPPED | SKIPPED | +-------------------------------+--------------------+-------------------+------------------+-------------------+ | Fedora Linux 40 | PASS | PASS | SKIPPED | SKIPPED | +-------------------------------+--------------------+-------------------+------------------+-------------------+ | Fedora Linux 41 | PEND | PEND | PEND | SKIPPED | +-------------------------------+--------------------+-------------------+------------------+-------------------+ | openSUSE Leap 15.6 | PASS | SKIPPED | SKIPPED | SKIPPED | +-------------------------------+--------------------+-------------------+------------------+-------------------+ | Red Hat Enterprise Linux 8.10 | PASS | SKIPPED | SKIPPED | SKIPPED | +-------------------------------+--------------------+-------------------+------------------+-------------------+ | Red Hat Enterprise Linux 9.5 | PASS | SKIPPED | SKIPPED | SKIPPED | +-------------------------------+--------------------+-------------------+------------------+-------------------+ | Ubuntu 20.04 | PASS | SKIPPED | SKIPPED | SKIPPED | +-------------------------------+--------------------+-------------------+------------------+-------------------+ | FreeBSD 14.2 | PASS | SKIPPED | SKIPPED | SKIPPED | +-------------------------------+--------------------+-------------------+------------------+-------------------+ | Ubuntu 22.04 | PASS | PASS | SKIPPED | SKIPPED | +-------------------------------+--------------------+-------------------+------------------+-------------------+ | Ubuntu 24.04 | PASS | PASS | PASS | SKIPPED | +-------------------------------+--------------------+-------------------+------------------+-------------------+ | Alpine Linux 3.22.0 | PASS | SKIPPED | SKIPPED | SKIPPED | +-------------------------------+--------------------+-------------------+------------------+-------------------+ | Windows Server 2022 | SKIPPED | SKIPPED | SKIPPED | PASS | +-------------------------------+--------------------+-------------------+------------------+-------------------+ CentOS Stream 9 Kernel: 5.15 Compiler: gcc gcc (GCC) 11.5.0 20240719 (Red Hat 11.5.0-7) CentOS Stream 10 Kernel: 5.15 Compiler: gcc gcc (GCC) 14.2.1 20250110 (Red Hat 14.2.1-8) Debian GNU/Linux 12 Kernel: 5.15 Compiler: gcc gcc (Debian 12.2.0-14+deb12u1) 12.2.0 Fedora Linux 40 Kernel: 5.15 Compiler: clang gcc (GCC) 14.2.1 20240912 (Red Hat 14.2.1-3) Fedora Linux 41 Kernel: 5.15 Compiler: gcc gcc (GCC) 14.3.1 20250523 (Red Hat 14.3.1-1) openSUSE Leap 15.6 Kernel: 5.15 Compiler: gcc gcc (SUSE Linux) 7.5.0 Red Hat Enterprise Linux 8.10 Kernel: 5.15 Compiler: gcc gcc (GCC) 8.5.0 20210514 (Red Hat 8.5.0-22) Red Hat Enterprise Linux 9.5 Kernel: 5.15 Compiler: gcc gcc (GCC) 11.5.0 20240719 (Red Hat 11.5.0-2) Ubuntu 20.04 Kernel: 5.15 Compiler: gcc gcc (Ubuntu 9.4.0-1ubuntu1~20.04.2) 9.4.0 FreeBSD 14.2 Kernel: 14.2-RELEASE Compiler: clang 18.1.6 Ubuntu 22.04 Kernel: 5.15 Compiler: gcc gcc (Ubuntu 11.4.0-1ubuntu1~22.04) 11.4.0 Ubuntu 24.04 Kernel: 5.15 Compiler: gcc gcc (Ubuntu 13.3.0-6ubuntu2~24.04) 13.3.0 Alpine Linux 3.22.0 Kernel: 5.15 Compiler: gcc gcc (Alpine 14.2.0) 14.2.0 Windows Server 2022 Kernel: 10.0.20348.2031 Compiler: clang 15.0.7, gcc 14.1.0 (MinGW), and MSVC VS 19.39.33521 To view detailed results, visit: https://lab.dpdk.org/results/dashboard/patchsets/33562/ UNH-IOL DPDK Community Lab To manage your email subscriptions, visit: https://lab.dpdk.org/results/dashboard/preferences/subscriptions/