From mboxrd@z Thu Jan 1 00:00:00 1970 Return-Path: Received: from mails.dpdk.org (mails.dpdk.org [217.70.189.124]) by inbox.dpdk.org (Postfix) with ESMTP id 1806346A87 for ; Wed, 9 Jul 2025 06:49:20 +0200 (CEST) Received: from mails.dpdk.org (localhost [127.0.0.1]) by mails.dpdk.org (Postfix) with ESMTP id DDF674013F; Wed, 9 Jul 2025 06:49:19 +0200 (CEST) Received: from mail-il1-f228.google.com (mail-il1-f228.google.com [209.85.166.228]) by mails.dpdk.org (Postfix) with ESMTP id 19C024013F for ; Wed, 9 Jul 2025 06:49:18 +0200 (CEST) Received: by mail-il1-f228.google.com with SMTP id e9e14a558f8ab-3da73df6c4eso46008435ab.0 for ; Tue, 08 Jul 2025 21:49:18 -0700 (PDT) DKIM-Signature: v=1; a=rsa-sha256; c=relaxed/relaxed; d=iol.unh.edu; s=unh-iol; t=1752036557; x=1752641357; darn=dpdk.org; h=references:in-reply-to:cc:to:from:subject:message-id:date:from:to :cc:subject:date:message-id:reply-to; bh=75O1cXBUkgjDJ4LwkB/lVrtfV9DoDsR5vkEY42Ba6A4=; b=VUO3CVM5BEXJ5YcFBIJ7kVANkRZv/H8ZsqOlAvIYbUd4j5irtcgzIx+9341B1aB5a5 4Zn71hlirZGhVXF+so06rw3KqHqMR3R4KRzViKGfLtxNA+d4OSWePdZjDHC6UiOOKC+A 3xUXHVloeJjZmcC9To41mFAhkjCjWdncROgU4= X-Google-DKIM-Signature: v=1; a=rsa-sha256; c=relaxed/relaxed; d=1e100.net; s=20230601; t=1752036557; x=1752641357; h=references:in-reply-to:cc:to:from:subject:message-id:date :x-gm-message-state:from:to:cc:subject:date:message-id:reply-to; bh=75O1cXBUkgjDJ4LwkB/lVrtfV9DoDsR5vkEY42Ba6A4=; b=B0Knwc9e2id2TOXGaq6OCljhmBRWxZAHHSp3xDSsjKn/zN2/CqQ54yBbZrctTMPE62 gd8se+hSyey/YQ7ckbxLYouL8/t5IFgHEYGQqFhIsMrE9uio9bwlvS1DqDxuhRheJGNX 7s5EW+qHjk/L/yNfAls4D14xelFsqptdQr5Y2KrRr1Yu7mQmwsDWJYi2GIs3Dqoh8E+Q 7pDzxjT0mI0Ddhka498aPMebtj1Sbka7DndvtnOCxTIlT4Mh+wapPbYc2uc3ZIKMbROo BCaaiH2qI5byWvfjtxkPRPujVNGYc+LpmtzCbjIf18sdNVvZaUzjml1qoG8ByFjs5G9j jLGw== X-Gm-Message-State: AOJu0YyEBpghqt5xiPhKMlObIiLrg3leomrrd/zifJQs3w4heDQbn4YV /PgVraxB0noqQLx9jprBFqxX9qpB6jEu26Krg33K5kROfRON3/QyGF77MZ0GcYnPsiYAwolAUGG Gc31Nj0K7y1OF3AJbzpE7oxIpp6hpDTvfKYI/d4s9+7UKoXIIReKlFr+qJZKy X-Gm-Gg: ASbGncs+Ienp2O8KzE1Kb0YPIr3JoQF4S684VoeqRAk4yUbB/cixJRPv/kSAbW1hgct zPtaTV1rwuivnTnd1kwVRa8CPvJgw4c2/mou8oyguFDWhwrSy/H3zWT4XV0/pBDkdLQcTO4Z9B5 iKvvUGcgyJ9/Kw0W3nxuDaHPt3URZpRgHtVPY90XyeVItW+iQcSswuv2/Ub8o5dvRaXXaQr4dX3 J5le2QcUXIyp1aG7s/QbpgMQwBUEno3lAc66FjmLopaRWEHx4+Wejvxa6PJEUTSOFGQDNxPaH1s uijp7ek3EB0SkU+7Aw3PJXaw4LJ2ogTbT7EudKiGDxOoFfs= X-Google-Smtp-Source: AGHT+IGibUe1HiCBfpNHbsIyzJpcL+47YrvmHpfJbM1SsbZcvm97ReX23ETN59pnfh3Q694oekWxyrSQcX4q X-Received: by 2002:a05:6e02:5:b0:3dd:f813:64c5 with SMTP id e9e14a558f8ab-3e16713220fmr13510935ab.22.1752036557362; Tue, 08 Jul 2025 21:49:17 -0700 (PDT) Received: from postal.iol.unh.edu (postal.iol.unh.edu. [2606:4100:3880:1234::84]) by smtp-relay.gmail.com with ESMTPS id e9e14a558f8ab-3e0f9b7fe9esm7179045ab.30.2025.07.08.21.49.17 (version=TLS1_2 cipher=ECDHE-ECDSA-AES128-GCM-SHA256 bits=128/128); Tue, 08 Jul 2025 21:49:17 -0700 (PDT) X-Relaying-Domain: iol.unh.edu Date: Tue, 08 Jul 2025 21:49:17 -0700 (PDT) Message-ID: <686df4cd.920a0220.eb27a.4ff6SMTPIN_ADDED_MISSING@mx.google.com> Received: from [172.21.0.8] (unknown [172.18.0.240]) by postal.iol.unh.edu (Postfix) with ESMTP id D0A786051830; Wed, 9 Jul 2025 00:49:16 -0400 (EDT) Subject: |WARNING| pw154925-154942 [PATCH] [V5,18/18] drivers/net: add hinic3 From: dpdklab@iol.unh.edu To: Test Report Cc: dpdk-test-reports@iol.unh.edu In-Reply-To: <20250702020953.599-19-wff_light@vip.163.com> References: <20250702020953.599-19-wff_light@vip.163.com> Content-Type: text/plain X-BeenThere: test-report@dpdk.org X-Mailman-Version: 2.1.29 Precedence: list List-Id: automatic DPDK test reports List-Unsubscribe: , List-Archive: List-Post: List-Help: List-Subscribe: , Errors-To: test-report-bounces@dpdk.org Test-Label: iol-compile-amd64-testing Test-Status: WARNING http://dpdk.org/patch/154942 _Testing issues_ Submitter: Feifei Wang Date: Wednesday, July 02 2025 02:09:41 DPDK git baseline: Repo:dpdk Branch: master CommitID:ba982f9a1ca9b96ed0394b764f1523d482e963a2 154925-154942 --> testing issues Upstream job id: Generic-DPDK-Compile-Meson#406950 Test environment and result as below: +-------------------------------+--------------------+-------------------+------------------+-------------------+ | Environment | dpdk_meson_compile | dpdk_compile_spdk | dpdk_compile_ovs | dpdk_msvc_compile | +===============================+====================+===================+==================+===================+ | CentOS Stream 9 | PASS | PASS | SKIPPED | SKIPPED | +-------------------------------+--------------------+-------------------+------------------+-------------------+ | Debian GNU/Linux 12 | PASS | PASS | SKIPPED | SKIPPED | +-------------------------------+--------------------+-------------------+------------------+-------------------+ | CentOS Stream 10 | PASS | SKIPPED | SKIPPED | SKIPPED | +-------------------------------+--------------------+-------------------+------------------+-------------------+ | openSUSE Leap 15.6 | PASS | SKIPPED | SKIPPED | SKIPPED | +-------------------------------+--------------------+-------------------+------------------+-------------------+ | Fedora Linux 41 | PEND | PEND | PEND | SKIPPED | +-------------------------------+--------------------+-------------------+------------------+-------------------+ | Fedora Linux 40 | PASS | PASS | SKIPPED | SKIPPED | +-------------------------------+--------------------+-------------------+------------------+-------------------+ | Red Hat Enterprise Linux 9.5 | PASS | SKIPPED | SKIPPED | SKIPPED | +-------------------------------+--------------------+-------------------+------------------+-------------------+ | Red Hat Enterprise Linux 8.10 | PASS | SKIPPED | SKIPPED | SKIPPED | +-------------------------------+--------------------+-------------------+------------------+-------------------+ | Ubuntu 22.04 | PASS | PASS | SKIPPED | SKIPPED | +-------------------------------+--------------------+-------------------+------------------+-------------------+ | Ubuntu 20.04 | PASS | SKIPPED | SKIPPED | SKIPPED | +-------------------------------+--------------------+-------------------+------------------+-------------------+ | Ubuntu 24.04 | PEND | PEND | PEND | SKIPPED | +-------------------------------+--------------------+-------------------+------------------+-------------------+ | Alpine Linux 3.22.0 | PASS | SKIPPED | SKIPPED | SKIPPED | +-------------------------------+--------------------+-------------------+------------------+-------------------+ | FreeBSD 14.2 | PASS | SKIPPED | SKIPPED | SKIPPED | +-------------------------------+--------------------+-------------------+------------------+-------------------+ | Windows Server 2022 | SKIPPED | SKIPPED | SKIPPED | PASS | +-------------------------------+--------------------+-------------------+------------------+-------------------+ CentOS Stream 9 Kernel: 5.15 Compiler: gcc gcc (GCC) 11.5.0 20240719 (Red Hat 11.5.0-7) Debian GNU/Linux 12 Kernel: 5.15 Compiler: gcc gcc (Debian 12.2.0-14+deb12u1) 12.2.0 CentOS Stream 10 Kernel: 5.15 Compiler: gcc gcc (GCC) 14.2.1 20250110 (Red Hat 14.2.1-8) openSUSE Leap 15.6 Kernel: 5.15 Compiler: gcc gcc (SUSE Linux) 7.5.0 Fedora Linux 41 Kernel: 5.15 Compiler: gcc gcc (GCC) 14.3.1 20250523 (Red Hat 14.3.1-1) Fedora Linux 40 Kernel: 5.15 Compiler: clang gcc (GCC) 14.2.1 20240912 (Red Hat 14.2.1-3) Red Hat Enterprise Linux 9.5 Kernel: 5.15 Compiler: gcc gcc (GCC) 11.5.0 20240719 (Red Hat 11.5.0-2) Red Hat Enterprise Linux 8.10 Kernel: 5.15 Compiler: gcc gcc (GCC) 8.5.0 20210514 (Red Hat 8.5.0-22) Ubuntu 22.04 Kernel: 5.15 Compiler: gcc gcc (Ubuntu 11.4.0-1ubuntu1~22.04) 11.4.0 Ubuntu 20.04 Kernel: 4.19 Compiler: gcc gcc (Ubuntu 9.4.0-1ubuntu1~20.04.2) 9.4.0 Ubuntu 24.04 Kernel: 5.15 Compiler: gcc gcc (Ubuntu 13.3.0-6ubuntu2~24.04) 13.3.0 Alpine Linux 3.22.0 Kernel: 5.15 Compiler: gcc gcc (Alpine 14.2.0) 14.2.0 FreeBSD 14.2 Kernel: 14.2-RELEASE Compiler: clang 18.1.6 Windows Server 2022 Kernel: 10.0.20348.2031 Compiler: clang 15.0.7, gcc 14.1.0 (MinGW), and MSVC VS 19.39.33521 To view detailed results, visit: https://lab.dpdk.org/results/dashboard/patchsets/33560/ UNH-IOL DPDK Community Lab To manage your email subscriptions, visit: https://lab.dpdk.org/results/dashboard/preferences/subscriptions/