automatic DPDK test reports
 help / color / mirror / Atom feed
From: dpdklab@iol.unh.edu
To: Test Report <test-report@dpdk.org>
Cc: dpdk-test-reports@iol.unh.edu
Subject: |WARNING| pw154925-154942 [PATCH] [V5,18/18] drivers/net: add hinic3
Date: Tue, 08 Jul 2025 21:49:44 -0700 (PDT)	[thread overview]
Message-ID: <686df4e8.630a0220.15e1c0.1e40SMTPIN_ADDED_MISSING@mx.google.com> (raw)
In-Reply-To: <20250702020953.599-19-wff_light@vip.163.com>

Test-Label: iol-compile-amd64-testing
Test-Status: WARNING
http://dpdk.org/patch/154942

_Testing issues_

Submitter: Feifei Wang <wff_light@vip.163.com>
Date: Wednesday, July 02 2025 02:09:41 
DPDK git baseline: Repo:dpdk
  Branch: master
  CommitID:ba982f9a1ca9b96ed0394b764f1523d482e963a2

154925-154942 --> testing issues

Upstream job id: Generic-DPDK-Compile-Meson#406957

Test environment and result as below:

+-------------------------------+--------------------+-------------------+------------------+-------------------+
|          Environment          | dpdk_meson_compile | dpdk_compile_spdk | dpdk_compile_ovs | dpdk_msvc_compile |
+===============================+====================+===================+==================+===================+
| CentOS Stream 9               | PASS               | PASS              | SKIPPED          | SKIPPED           |
+-------------------------------+--------------------+-------------------+------------------+-------------------+
| Debian GNU/Linux 12           | PASS               | PASS              | SKIPPED          | SKIPPED           |
+-------------------------------+--------------------+-------------------+------------------+-------------------+
| CentOS Stream 10              | PASS               | SKIPPED           | SKIPPED          | SKIPPED           |
+-------------------------------+--------------------+-------------------+------------------+-------------------+
| openSUSE Leap 15.6            | PASS               | SKIPPED           | SKIPPED          | SKIPPED           |
+-------------------------------+--------------------+-------------------+------------------+-------------------+
| Fedora Linux 41               | PEND               | PEND              | PEND             | SKIPPED           |
+-------------------------------+--------------------+-------------------+------------------+-------------------+
| Fedora Linux 40               | PASS               | PASS              | SKIPPED          | SKIPPED           |
+-------------------------------+--------------------+-------------------+------------------+-------------------+
| Red Hat Enterprise Linux 9.5  | PASS               | SKIPPED           | SKIPPED          | SKIPPED           |
+-------------------------------+--------------------+-------------------+------------------+-------------------+
| Red Hat Enterprise Linux 8.10 | PASS               | SKIPPED           | SKIPPED          | SKIPPED           |
+-------------------------------+--------------------+-------------------+------------------+-------------------+
| Ubuntu 22.04                  | PASS               | PASS              | SKIPPED          | SKIPPED           |
+-------------------------------+--------------------+-------------------+------------------+-------------------+
| Ubuntu 20.04                  | PASS               | SKIPPED           | SKIPPED          | SKIPPED           |
+-------------------------------+--------------------+-------------------+------------------+-------------------+
| Ubuntu 24.04                  | PEND               | PEND              | PEND             | SKIPPED           |
+-------------------------------+--------------------+-------------------+------------------+-------------------+
| Alpine Linux 3.22.0           | PASS               | SKIPPED           | SKIPPED          | SKIPPED           |
+-------------------------------+--------------------+-------------------+------------------+-------------------+
| FreeBSD 14.2                  | PASS               | SKIPPED           | SKIPPED          | SKIPPED           |
+-------------------------------+--------------------+-------------------+------------------+-------------------+
| Windows Server 2022           | SKIPPED            | SKIPPED           | SKIPPED          | PASS              |
+-------------------------------+--------------------+-------------------+------------------+-------------------+


CentOS Stream 9
	Kernel: 5.15
	Compiler: gcc gcc (GCC) 11.5.0 20240719 (Red Hat 11.5.0-7)

Debian GNU/Linux 12
	Kernel: 5.15
	Compiler: gcc gcc (Debian 12.2.0-14+deb12u1) 12.2.0

CentOS Stream 10
	Kernel: 5.15
	Compiler: gcc gcc (GCC) 14.2.1 20250110 (Red Hat 14.2.1-8)

openSUSE Leap 15.6
	Kernel: 5.15
	Compiler: gcc gcc (SUSE Linux) 7.5.0

Fedora Linux 41
	Kernel: 5.15
	Compiler: gcc gcc (GCC) 14.3.1 20250523 (Red Hat 14.3.1-1)

Fedora Linux 40
	Kernel: 5.15
	Compiler: clang gcc (GCC) 14.2.1 20240912 (Red Hat 14.2.1-3)

Red Hat Enterprise Linux 9.5
	Kernel: 5.15
	Compiler: gcc gcc (GCC) 11.5.0 20240719 (Red Hat 11.5.0-2)

Red Hat Enterprise Linux 8.10
	Kernel: 5.15
	Compiler: gcc gcc (GCC) 8.5.0 20210514 (Red Hat 8.5.0-22)

Ubuntu 22.04
	Kernel: 5.15
	Compiler: gcc gcc (Ubuntu 11.4.0-1ubuntu1~22.04) 11.4.0

Ubuntu 20.04
	Kernel: 4.19
	Compiler: gcc gcc (Ubuntu 9.4.0-1ubuntu1~20.04.2) 9.4.0

Ubuntu 24.04
	Kernel: 5.15
	Compiler: gcc gcc (Ubuntu 13.3.0-6ubuntu2~24.04) 13.3.0

Alpine Linux 3.22.0
	Kernel: 5.15
	Compiler: gcc gcc (Alpine 14.2.0) 14.2.0

FreeBSD 14.2
	Kernel: 14.2-RELEASE
	Compiler: clang 18.1.6

Windows Server 2022
	Kernel: 10.0.20348.2031
	Compiler: clang 15.0.7, gcc 14.1.0 (MinGW), and MSVC VS 19.39.33521

To view detailed results, visit:
https://lab.dpdk.org/results/dashboard/patchsets/33560/

UNH-IOL DPDK Community Lab

To manage your email subscriptions, visit: 
https://lab.dpdk.org/results/dashboard/preferences/subscriptions/

  parent reply	other threads:[~2025-07-09  4:49 UTC|newest]

Thread overview: 28+ messages / expand[flat|nested]  mbox.gz  Atom feed  top
     [not found] <20250702020953.599-19-wff_light@vip.163.com>
2025-07-02  1:40 ` |SUCCESS| pw154925-154942 [V5 18/18] drivers/net: add hinic3 PMD build and doc files qemudev
2025-07-02  1:44 ` qemudev
2025-07-02  2:14 ` |SUCCESS| pw154942 " checkpatch
2025-07-02  3:23 ` 0-day Robot
2025-07-09  1:31 ` |SUCCESS| pw154925-154942 [PATCH] [V5,18/18] drivers/net: add hinic3 dpdklab
2025-07-09  1:31 ` dpdklab
2025-07-09  1:59 ` dpdklab
2025-07-09  2:38 ` dpdklab
2025-07-09  2:46 ` |PENDING| " dpdklab
2025-07-09  2:46 ` dpdklab
2025-07-09  3:12 ` |SUCCESS| " dpdklab
2025-07-09  3:17 ` |PENDING| " dpdklab
2025-07-09  3:37 ` dpdklab
2025-07-09  3:42 ` dpdklab
2025-07-09  4:12 ` |SUCCESS| " dpdklab
2025-07-09  4:14 ` dpdklab
2025-07-09  4:14 ` dpdklab
2025-07-09  4:49 ` |WARNING| " dpdklab
2025-07-09  4:49 ` dpdklab [this message]
2025-07-09  4:50 ` dpdklab
2025-07-09  4:50 ` dpdklab
2025-07-09  5:16 ` |SUCCESS| " dpdklab
2025-07-09  5:44 ` |WARNING| " dpdklab
2025-07-09  6:09 ` |SUCCESS| " dpdklab
2025-07-09  9:05 ` |WARNING| " dpdklab
2025-07-09  9:39 ` dpdklab
2025-07-09 16:02 ` |SUCCESS| " dpdklab
2025-07-09 17:04 ` dpdklab

Reply instructions:

You may reply publicly to this message via plain-text email
using any one of the following methods:

* Save the following mbox file, import it into your mail client,
  and reply-to-all from there: mbox

  Avoid top-posting and favor interleaved quoting:
  https://en.wikipedia.org/wiki/Posting_style#Interleaved_style

* Reply using the --to, --cc, and --in-reply-to
  switches of git-send-email(1):

  git send-email \
    --in-reply-to=686df4e8.630a0220.15e1c0.1e40SMTPIN_ADDED_MISSING@mx.google.com \
    --to=dpdklab@iol.unh.edu \
    --cc=dpdk-test-reports@iol.unh.edu \
    --cc=test-report@dpdk.org \
    /path/to/YOUR_REPLY

  https://kernel.org/pub/software/scm/git/docs/git-send-email.html

* If your mail client supports setting the In-Reply-To header
  via mailto: links, try the mailto: link
Be sure your reply has a Subject: header at the top and a blank line before the message body.
This is a public inbox, see mirroring instructions
for how to clone and mirror all data and code used for this inbox;
as well as URLs for NNTP newsgroup(s).