From mboxrd@z Thu Jan 1 00:00:00 1970 Return-Path: Received: from mails.dpdk.org (mails.dpdk.org [217.70.189.124]) by inbox.dpdk.org (Postfix) with ESMTP id 135FB46A87 for ; Wed, 9 Jul 2025 06:49:47 +0200 (CEST) Received: from mails.dpdk.org (localhost [127.0.0.1]) by mails.dpdk.org (Postfix) with ESMTP id 0F52A4013F; Wed, 9 Jul 2025 06:49:47 +0200 (CEST) Received: from mail-pf1-f228.google.com (mail-pf1-f228.google.com [209.85.210.228]) by mails.dpdk.org (Postfix) with ESMTP id C31A14013F for ; Wed, 9 Jul 2025 06:49:45 +0200 (CEST) Received: by mail-pf1-f228.google.com with SMTP id d2e1a72fcca58-748e378ba4fso6135422b3a.1 for ; Tue, 08 Jul 2025 21:49:45 -0700 (PDT) DKIM-Signature: v=1; a=rsa-sha256; c=relaxed/relaxed; d=iol.unh.edu; s=unh-iol; t=1752036585; x=1752641385; darn=dpdk.org; h=references:in-reply-to:cc:to:from:subject:message-id:date:from:to :cc:subject:date:message-id:reply-to; bh=l/g0PiFA4zD3UQDSBnVtlohsuXLtJO+luxn42DIGvdM=; b=FInca/dsJMbkN133zAIMkbsqeFiEyP3ioiiYygnFNUnhwKhNj2/YrtSZt61scEStYp HrkRh8pJTJBkcWs37pfH8Sd8siFVUZH5MzIbmGZeIGVqEu1Yy63ZqQcN4kxwQ3eptALq ubfRV6739RjBERzqzdiKUDA4dgTqoox5GTLTM= X-Google-DKIM-Signature: v=1; a=rsa-sha256; c=relaxed/relaxed; d=1e100.net; s=20230601; t=1752036585; x=1752641385; h=references:in-reply-to:cc:to:from:subject:message-id:date :x-gm-message-state:from:to:cc:subject:date:message-id:reply-to; bh=l/g0PiFA4zD3UQDSBnVtlohsuXLtJO+luxn42DIGvdM=; b=WWRGBGODcgFAgXbEEPPGsZIue0H68NttRovUdkSiIrf1nzXdkc4T1Mdm9DJ+VSiOED ElCy3Kl51D02PLO+drhelCUQrHd9MAS2D6XzcAcntndmjYd9xZp/RYtX6Uzn0dwkUy5r nl6bvL0Hx6twIITOL6jOAmOZi64UpUZoGLkXCJ/xQ7vzFAgaTPztxNt25rw2fIO10m+z JDjCQ0bpPSCfebeMo/QNXRDCyqgWvzrbRsnjEU/FhiKcv/OI0vdysPxK92gYN6uae3Cc kWr2K6k8UesYp8yzt2ssjOkC6PbUet+zU1Zp4Bu0KhTu6OPTbbfPiw/dCzM6b9BaEZr3 r5ww== X-Gm-Message-State: AOJu0YxMivYDKTAPAZMSPmgfkAYJMgsLLqGe81Kzi3/Kx9+NiAthB310 Fhr8BigMsCDdcMU4Gnaos/fR1lpLTNX/X6jT8Thf23dNUIQ1b9xNsxesIxmDxyAsoNLCj/LDMf/ IpOIT+g2KH+kPbB8ekzOvsTP49SPDiPE5ICWt6ecGb74esvbtQCvkfNvSft98 X-Gm-Gg: ASbGncs0wCNFxPYzcq5ncZmg14x1rDoEDgsuGRrkWlVlqKzcKnWYLZod/Bdd/Wf4oBE 1ceGoVTbE9MrEo6a/0AIaMgYD5mm4GQIy/DdHB17IXzKateWJEa+SgWA+/8tVASj5pD8mJe/0QB u70bn5XB2Wm/KdLLamfYWSvVAqYfIgIRldsbURnC1OtmHk98SjM1SEcV06s4x81x5LPX7WRxGfz e45n7IRUCAFXjChok/XUQ30RRpu0m8PirNc1seKyl1RtZw7u7QIYkVgMRzW3lLcogU13w3oMoAv I6eWF0veTNBwnWQJRNPX6Av8bZZe7BKvQFdKRun/U99zlJM= X-Google-Smtp-Source: AGHT+IG/mVfA81qKZbJmtH233tHqu740Ht1HtG5og3b4LCHc5yiSGCrEGr3TLCG4XOaXR73RCIKEDolw8Bte X-Received: by 2002:a05:6a20:7285:b0:1f5:80a3:b008 with SMTP id adf61e73a8af0-22cd8a3fa9cmr1963776637.32.1752036584802; Tue, 08 Jul 2025 21:49:44 -0700 (PDT) Received: from postal.iol.unh.edu (postal.iol.unh.edu. [2606:4100:3880:1234::84]) by smtp-relay.gmail.com with ESMTPS id 41be03b00d2f7-b38ee4ec884sm645519a12.25.2025.07.08.21.49.44 (version=TLS1_2 cipher=ECDHE-ECDSA-AES128-GCM-SHA256 bits=128/128); Tue, 08 Jul 2025 21:49:44 -0700 (PDT) X-Relaying-Domain: iol.unh.edu Date: Tue, 08 Jul 2025 21:49:44 -0700 (PDT) Message-ID: <686df4e8.630a0220.15e1c0.1e40SMTPIN_ADDED_MISSING@mx.google.com> Received: from [172.21.0.8] (unknown [172.18.0.240]) by postal.iol.unh.edu (Postfix) with ESMTP id 1595C6051830; Wed, 9 Jul 2025 00:49:44 -0400 (EDT) Subject: |WARNING| pw154925-154942 [PATCH] [V5,18/18] drivers/net: add hinic3 From: dpdklab@iol.unh.edu To: Test Report Cc: dpdk-test-reports@iol.unh.edu In-Reply-To: <20250702020953.599-19-wff_light@vip.163.com> References: <20250702020953.599-19-wff_light@vip.163.com> Content-Type: text/plain X-BeenThere: test-report@dpdk.org X-Mailman-Version: 2.1.29 Precedence: list List-Id: automatic DPDK test reports List-Unsubscribe: , List-Archive: List-Post: List-Help: List-Subscribe: , Errors-To: test-report-bounces@dpdk.org Test-Label: iol-compile-amd64-testing Test-Status: WARNING http://dpdk.org/patch/154942 _Testing issues_ Submitter: Feifei Wang Date: Wednesday, July 02 2025 02:09:41 DPDK git baseline: Repo:dpdk Branch: master CommitID:ba982f9a1ca9b96ed0394b764f1523d482e963a2 154925-154942 --> testing issues Upstream job id: Generic-DPDK-Compile-Meson#406957 Test environment and result as below: +-------------------------------+--------------------+-------------------+------------------+-------------------+ | Environment | dpdk_meson_compile | dpdk_compile_spdk | dpdk_compile_ovs | dpdk_msvc_compile | +===============================+====================+===================+==================+===================+ | CentOS Stream 9 | PASS | PASS | SKIPPED | SKIPPED | +-------------------------------+--------------------+-------------------+------------------+-------------------+ | Debian GNU/Linux 12 | PASS | PASS | SKIPPED | SKIPPED | +-------------------------------+--------------------+-------------------+------------------+-------------------+ | CentOS Stream 10 | PASS | SKIPPED | SKIPPED | SKIPPED | +-------------------------------+--------------------+-------------------+------------------+-------------------+ | openSUSE Leap 15.6 | PASS | SKIPPED | SKIPPED | SKIPPED | +-------------------------------+--------------------+-------------------+------------------+-------------------+ | Fedora Linux 41 | PEND | PEND | PEND | SKIPPED | +-------------------------------+--------------------+-------------------+------------------+-------------------+ | Fedora Linux 40 | PASS | PASS | SKIPPED | SKIPPED | +-------------------------------+--------------------+-------------------+------------------+-------------------+ | Red Hat Enterprise Linux 9.5 | PASS | SKIPPED | SKIPPED | SKIPPED | +-------------------------------+--------------------+-------------------+------------------+-------------------+ | Red Hat Enterprise Linux 8.10 | PASS | SKIPPED | SKIPPED | SKIPPED | +-------------------------------+--------------------+-------------------+------------------+-------------------+ | Ubuntu 22.04 | PASS | PASS | SKIPPED | SKIPPED | +-------------------------------+--------------------+-------------------+------------------+-------------------+ | Ubuntu 20.04 | PASS | SKIPPED | SKIPPED | SKIPPED | +-------------------------------+--------------------+-------------------+------------------+-------------------+ | Ubuntu 24.04 | PEND | PEND | PEND | SKIPPED | +-------------------------------+--------------------+-------------------+------------------+-------------------+ | Alpine Linux 3.22.0 | PASS | SKIPPED | SKIPPED | SKIPPED | +-------------------------------+--------------------+-------------------+------------------+-------------------+ | FreeBSD 14.2 | PASS | SKIPPED | SKIPPED | SKIPPED | +-------------------------------+--------------------+-------------------+------------------+-------------------+ | Windows Server 2022 | SKIPPED | SKIPPED | SKIPPED | PASS | +-------------------------------+--------------------+-------------------+------------------+-------------------+ CentOS Stream 9 Kernel: 5.15 Compiler: gcc gcc (GCC) 11.5.0 20240719 (Red Hat 11.5.0-7) Debian GNU/Linux 12 Kernel: 5.15 Compiler: gcc gcc (Debian 12.2.0-14+deb12u1) 12.2.0 CentOS Stream 10 Kernel: 5.15 Compiler: gcc gcc (GCC) 14.2.1 20250110 (Red Hat 14.2.1-8) openSUSE Leap 15.6 Kernel: 5.15 Compiler: gcc gcc (SUSE Linux) 7.5.0 Fedora Linux 41 Kernel: 5.15 Compiler: gcc gcc (GCC) 14.3.1 20250523 (Red Hat 14.3.1-1) Fedora Linux 40 Kernel: 5.15 Compiler: clang gcc (GCC) 14.2.1 20240912 (Red Hat 14.2.1-3) Red Hat Enterprise Linux 9.5 Kernel: 5.15 Compiler: gcc gcc (GCC) 11.5.0 20240719 (Red Hat 11.5.0-2) Red Hat Enterprise Linux 8.10 Kernel: 5.15 Compiler: gcc gcc (GCC) 8.5.0 20210514 (Red Hat 8.5.0-22) Ubuntu 22.04 Kernel: 5.15 Compiler: gcc gcc (Ubuntu 11.4.0-1ubuntu1~22.04) 11.4.0 Ubuntu 20.04 Kernel: 4.19 Compiler: gcc gcc (Ubuntu 9.4.0-1ubuntu1~20.04.2) 9.4.0 Ubuntu 24.04 Kernel: 5.15 Compiler: gcc gcc (Ubuntu 13.3.0-6ubuntu2~24.04) 13.3.0 Alpine Linux 3.22.0 Kernel: 5.15 Compiler: gcc gcc (Alpine 14.2.0) 14.2.0 FreeBSD 14.2 Kernel: 14.2-RELEASE Compiler: clang 18.1.6 Windows Server 2022 Kernel: 10.0.20348.2031 Compiler: clang 15.0.7, gcc 14.1.0 (MinGW), and MSVC VS 19.39.33521 To view detailed results, visit: https://lab.dpdk.org/results/dashboard/patchsets/33560/ UNH-IOL DPDK Community Lab To manage your email subscriptions, visit: https://lab.dpdk.org/results/dashboard/preferences/subscriptions/