From mboxrd@z Thu Jan 1 00:00:00 1970 Return-Path: Received: from mails.dpdk.org (mails.dpdk.org [217.70.189.124]) by inbox.dpdk.org (Postfix) with ESMTP id 2EE9046A87 for ; Wed, 9 Jul 2025 06:50:17 +0200 (CEST) Received: from mails.dpdk.org (localhost [127.0.0.1]) by mails.dpdk.org (Postfix) with ESMTP id 28AC64013F; Wed, 9 Jul 2025 06:50:17 +0200 (CEST) Received: from mail-yw1-f227.google.com (mail-yw1-f227.google.com [209.85.128.227]) by mails.dpdk.org (Postfix) with ESMTP id 156234013F for ; Wed, 9 Jul 2025 06:50:15 +0200 (CEST) Received: by mail-yw1-f227.google.com with SMTP id 00721157ae682-70f94fe1e40so6556937b3.1 for ; Tue, 08 Jul 2025 21:50:15 -0700 (PDT) DKIM-Signature: v=1; a=rsa-sha256; c=relaxed/relaxed; d=iol.unh.edu; s=unh-iol; t=1752036614; x=1752641414; darn=dpdk.org; h=references:in-reply-to:cc:to:from:subject:message-id:date:from:to :cc:subject:date:message-id:reply-to; bh=qgP47NBiRn5ftI8hQsC2OzLFDGmoj/wt6ed1mfLGIOQ=; b=WJ28KBdGkUAO+pvxmhRQqfqeiEVyY72DBi/m/ST0UWSdOYZB8+e+y5Q+E9TT0jNsWc vLZqiCkerLmCneeycAfX9cTZE8SRIaQk/e7BDiCstimGrsOAxQzq28ihsM/RZy/zdRCu T2QKYdzjzUHu0uXf+N6Dn4pkMT7CrfDPc0j5k= X-Google-DKIM-Signature: v=1; a=rsa-sha256; c=relaxed/relaxed; d=1e100.net; s=20230601; t=1752036614; x=1752641414; h=references:in-reply-to:cc:to:from:subject:message-id:date :x-gm-message-state:from:to:cc:subject:date:message-id:reply-to; bh=qgP47NBiRn5ftI8hQsC2OzLFDGmoj/wt6ed1mfLGIOQ=; b=jG6U+6+FzhusFnIdsMGgo4Dfc8aLt8s89PQpU7h2DLe8G1j8KzFR2ddeK3vgtT+w+4 k9r0R53m1lH2xPTI9R1s8nHzxeefzx1bjOUSCJ5lz3AlepbZ6iHU/JxSsDp+abFDbjIm aLBi1R7RXsBCORY47RSrLOHjJ+g17QKiO61BMhipEywOGJK1xgloMQF73m/tPKB4u2df bp1d0Vo2tB3tRiHTOkf0eiqtu7JCOAOLVbOl8y0lzRJkPRpn6ox8qmMzDKBML0NKIch1 InIe5KlCtKQ0u7gxReRBwiqYKZaxvqiCkFTSEpL7lPgkgDGqGjX6cF3GU/ZzuaENgkDM Ud8A== X-Gm-Message-State: AOJu0Yzmnbxlg/u0NOi0iGNZsUA8ZSTbwcSkOfvjJYzMKerh77c0tF6x pBcNTnV8PhMMivWYgvvqcYErliQiKIib1C7xhvWOhnWvnzgbCtnxkkdwGysAqkEj7wJMxqWL6vq EWcq9ALpEqAWoEeHTd+V3j//+99YoKNdyLhHHKPM5qdm8 X-Gm-Gg: ASbGncsEkDN40fqTLzd9w7DCqB4IjYYpKav+lspCjNeQSAmlbcMTXnIRt6WuAxGcgAA 0WnMp6OYpzqadFnPNJqgJeOw+NsxVmzIBLXpqRPN9ucJXhsgHid0kZvUNCFTurZOAjjNB5KH0NA EtO7reNm5pb7bp2WRp4DvabXWVeexGsfnrV0J+8VI2eQrff4AJAUs36I/QetgMbwhDPvjfoVaAy xmu7gSO3eP+h9FfjtdsnqBtfmYdWaCEoIi/CH9UAHDyjXtpLS/nI5xVuvrG7IOxE6mhoeBHZ/m7 sMAkifloeqPbCzizEUjj6Kam5bIZHx45v/dDHCrlxTy47V+Cd9TfhLegRnFeT230Ffk+rg== X-Google-Smtp-Source: AGHT+IHaOgY3w8v9xm00BoFdBvn0khIDFMsVtV66zgtdtvXK3SF4zKIBLZlsiWk7AmH/XmmjIY3CDJJIPR8F X-Received: by 2002:a05:690c:6d01:b0:711:6ea1:8d12 with SMTP id 00721157ae682-717b2ce0332mr12344647b3.1.1752036614295; Tue, 08 Jul 2025 21:50:14 -0700 (PDT) Received: from postal.iol.unh.edu (postal.iol.unh.edu. [132.177.123.84]) by smtp-relay.gmail.com with ESMTPS id 00721157ae682-716659d0cc1sm3597577b3.26.2025.07.08.21.50.14 (version=TLS1_2 cipher=ECDHE-ECDSA-AES128-GCM-SHA256 bits=128/128); Tue, 08 Jul 2025 21:50:14 -0700 (PDT) X-Relaying-Domain: iol.unh.edu Date: Tue, 08 Jul 2025 21:50:14 -0700 (PDT) Message-ID: <686df506.050a0220.103066.3691SMTPIN_ADDED_MISSING@mx.google.com> Received: from [172.21.0.6] (unknown [172.18.0.240]) by postal.iol.unh.edu (Postfix) with ESMTP id 01BC06051830; Wed, 9 Jul 2025 00:50:14 -0400 (EDT) Subject: |WARNING| pw154925-154942 [PATCH] [V5,18/18] drivers/net: add hinic3 From: dpdklab@iol.unh.edu To: Test Report Cc: dpdk-test-reports@iol.unh.edu In-Reply-To: <20250702020953.599-19-wff_light@vip.163.com> References: <20250702020953.599-19-wff_light@vip.163.com> Content-Type: text/plain X-BeenThere: test-report@dpdk.org X-Mailman-Version: 2.1.29 Precedence: list List-Id: automatic DPDK test reports List-Unsubscribe: , List-Archive: List-Post: List-Help: List-Subscribe: , Errors-To: test-report-bounces@dpdk.org Test-Label: iol-compile-amd64-testing Test-Status: WARNING http://dpdk.org/patch/154942 _Testing issues_ Submitter: Feifei Wang Date: Wednesday, July 02 2025 02:09:41 DPDK git baseline: Repo:dpdk Branch: master CommitID:ba982f9a1ca9b96ed0394b764f1523d482e963a2 154925-154942 --> testing issues Upstream job id: Generic-DPDK-Compile-Meson#406959 Test environment and result as below: +-------------------------------+--------------------+-------------------+------------------+-------------------+ | Environment | dpdk_meson_compile | dpdk_compile_spdk | dpdk_compile_ovs | dpdk_msvc_compile | +===============================+====================+===================+==================+===================+ | CentOS Stream 9 | PASS | PASS | SKIPPED | SKIPPED | +-------------------------------+--------------------+-------------------+------------------+-------------------+ | Debian GNU/Linux 12 | PASS | PASS | SKIPPED | SKIPPED | +-------------------------------+--------------------+-------------------+------------------+-------------------+ | CentOS Stream 10 | PASS | SKIPPED | SKIPPED | SKIPPED | +-------------------------------+--------------------+-------------------+------------------+-------------------+ | openSUSE Leap 15.6 | PASS | SKIPPED | SKIPPED | SKIPPED | +-------------------------------+--------------------+-------------------+------------------+-------------------+ | Fedora Linux 41 | PEND | PEND | PEND | SKIPPED | +-------------------------------+--------------------+-------------------+------------------+-------------------+ | Fedora Linux 40 | PASS | PASS | SKIPPED | SKIPPED | +-------------------------------+--------------------+-------------------+------------------+-------------------+ | Red Hat Enterprise Linux 9.5 | PASS | SKIPPED | SKIPPED | SKIPPED | +-------------------------------+--------------------+-------------------+------------------+-------------------+ | Red Hat Enterprise Linux 8.10 | PASS | SKIPPED | SKIPPED | SKIPPED | +-------------------------------+--------------------+-------------------+------------------+-------------------+ | Ubuntu 22.04 | PASS | PASS | SKIPPED | SKIPPED | +-------------------------------+--------------------+-------------------+------------------+-------------------+ | Ubuntu 20.04 | PASS | SKIPPED | SKIPPED | SKIPPED | +-------------------------------+--------------------+-------------------+------------------+-------------------+ | Ubuntu 24.04 | PEND | PEND | PEND | SKIPPED | +-------------------------------+--------------------+-------------------+------------------+-------------------+ | Alpine Linux 3.22.0 | PASS | SKIPPED | SKIPPED | SKIPPED | +-------------------------------+--------------------+-------------------+------------------+-------------------+ | FreeBSD 14.2 | PASS | SKIPPED | SKIPPED | SKIPPED | +-------------------------------+--------------------+-------------------+------------------+-------------------+ | Windows Server 2022 | SKIPPED | SKIPPED | SKIPPED | PASS | +-------------------------------+--------------------+-------------------+------------------+-------------------+ CentOS Stream 9 Kernel: 5.15 Compiler: gcc gcc (GCC) 11.5.0 20240719 (Red Hat 11.5.0-7) Debian GNU/Linux 12 Kernel: 5.15 Compiler: gcc gcc (Debian 12.2.0-14+deb12u1) 12.2.0 CentOS Stream 10 Kernel: 5.15 Compiler: gcc gcc (GCC) 14.2.1 20250110 (Red Hat 14.2.1-8) openSUSE Leap 15.6 Kernel: 5.15 Compiler: gcc gcc (SUSE Linux) 7.5.0 Fedora Linux 41 Kernel: 5.15 Compiler: gcc gcc (GCC) 14.3.1 20250523 (Red Hat 14.3.1-1) Fedora Linux 40 Kernel: 5.15 Compiler: clang gcc (GCC) 14.2.1 20240912 (Red Hat 14.2.1-3) Red Hat Enterprise Linux 9.5 Kernel: 5.15 Compiler: gcc gcc (GCC) 11.5.0 20240719 (Red Hat 11.5.0-2) Red Hat Enterprise Linux 8.10 Kernel: 5.15 Compiler: gcc gcc (GCC) 8.5.0 20210514 (Red Hat 8.5.0-22) Ubuntu 22.04 Kernel: 5.15 Compiler: gcc gcc (Ubuntu 11.4.0-1ubuntu1~22.04) 11.4.0 Ubuntu 20.04 Kernel: 4.19 Compiler: gcc gcc (Ubuntu 9.4.0-1ubuntu1~20.04.2) 9.4.0 Ubuntu 24.04 Kernel: 5.15 Compiler: gcc gcc (Ubuntu 13.3.0-6ubuntu2~24.04) 13.3.0 Alpine Linux 3.22.0 Kernel: 5.15 Compiler: gcc gcc (Alpine 14.2.0) 14.2.0 FreeBSD 14.2 Kernel: 14.2-RELEASE Compiler: clang 18.1.6 Windows Server 2022 Kernel: 10.0.20348.2031 Compiler: clang 15.0.7, gcc 14.1.0 (MinGW), and MSVC VS 19.39.33521 To view detailed results, visit: https://lab.dpdk.org/results/dashboard/patchsets/33560/ UNH-IOL DPDK Community Lab To manage your email subscriptions, visit: https://lab.dpdk.org/results/dashboard/preferences/subscriptions/