From mboxrd@z Thu Jan 1 00:00:00 1970 Return-Path: Received: from mails.dpdk.org (mails.dpdk.org [217.70.189.124]) by inbox.dpdk.org (Postfix) with ESMTP id 4507D46A87 for ; Wed, 9 Jul 2025 06:50:40 +0200 (CEST) Received: from mails.dpdk.org (localhost [127.0.0.1]) by mails.dpdk.org (Postfix) with ESMTP id 3F61D4013F; Wed, 9 Jul 2025 06:50:40 +0200 (CEST) Received: from mail-oo1-f97.google.com (mail-oo1-f97.google.com [209.85.161.97]) by mails.dpdk.org (Postfix) with ESMTP id 39A444013F for ; Wed, 9 Jul 2025 06:50:38 +0200 (CEST) Received: by mail-oo1-f97.google.com with SMTP id 006d021491bc7-611998766c0so2588561eaf.1 for ; Tue, 08 Jul 2025 21:50:38 -0700 (PDT) DKIM-Signature: v=1; a=rsa-sha256; c=relaxed/relaxed; d=iol.unh.edu; s=unh-iol; t=1752036637; x=1752641437; darn=dpdk.org; h=references:in-reply-to:cc:to:from:subject:message-id:date:from:to :cc:subject:date:message-id:reply-to; bh=mdoBbWqsz+pw3AQt22Nd5ZZFUWAKrDrFuxgkuPP3tfw=; b=GdExZNSL5/cyuARmGz98YEOlxIoNr9x5nEWQFRDw08dyOwPMW/jQBzvu9UM3W/901N ihIy0lLJe3jpmzUzHdYjzOVsLqwB3oLWbsE3aS6suNjYNDFa7XASlXuQpNatrQ+rwkTf Yddh2ya66xtTwT+r9+sKqjAaW3MCIgnQD+8fQ= X-Google-DKIM-Signature: v=1; a=rsa-sha256; c=relaxed/relaxed; d=1e100.net; s=20230601; t=1752036637; x=1752641437; h=references:in-reply-to:cc:to:from:subject:message-id:date :x-gm-message-state:from:to:cc:subject:date:message-id:reply-to; bh=mdoBbWqsz+pw3AQt22Nd5ZZFUWAKrDrFuxgkuPP3tfw=; b=qofX0FTXE8X1wJ4woWO4MDMqDhtdB9IxJv+ysc/oCdIDQ/HQX9lKRghNiNBLiyhJ2s 3EKRcn4MaNrKutS/MSL0u5V1E11okVe58u6lxB+6qWnP8Gj0wgxHEhJiEUll4CxMBNj/ tXaR92QZhJrKmFg5w6vI/DZ7qxwiB3d2tUQSGs1PbcgMqZ/JfEVgwE4HMiBbtWbfWwn0 pt/l+rYcE1Cj8lblT2Ae72Wz4IaCCYPHXfbDqXRstmE+p7b8XMCgxK7cYfBmtrf64xtB M+tqIRYn6Crz9/j5hkhH7dHHPFvlaV5shY/uIZpc8OficqS6UH4pw5d8ej2iA92pWPfb vHfQ== X-Gm-Message-State: AOJu0YzDrlnvM/xxyfWjTmiqJCEn+5NpcnSrCWs5xoNYCGKoL3E9ut+T OHg2V5H7omKWCkaGuJn+fXoSecy30eFgYae0ENjh9m4EqM9e4xuFMx9Ax+guMv++1gINgHUJxrf Qrn+qH/vUw84PVbp+f9WrlOZibbp/EAvKdoaWY1+FodQp X-Gm-Gg: ASbGncthWttJ3c0a4kmk0fFJ+oXvFD2Yxp7NND7ZoNyECY6/HvkyJBz8szTs8ruZBwc 91AUTZkRLWfLQR0iY0Lf/7dy1He8yNTLIcOyI1IJI6tuBA6vGUGKDNcc7ltxrz1WuuHdENZmUDR xe0QoSIHILDCiCUS+L7huAa44BVfXLXD5bgE3o+CMup51sdI1Z4iHITbhrQ0+rZWDWIZK6fn3z3 sYAoOYyBdLMnA0zONuP08prrjpTZcI/0Z8JDLszLOeR/n65HJ+xLyjTVEBvC8CxH5tu0uVrc0T1 DR9/YyTKSWrHADvm8nrriByOKRTjeUIodANasq5L2lf1jRX1znpu6yywHjIfBw6eXcMyLg== X-Google-Smtp-Source: AGHT+IF3bfsJKqWPMENiTutt9Jkgcb55MpMkPiVObK57a34B67sIUQxS1QdR41Ntj8Mu+Ct8cnR+GB1QD+MM X-Received: by 2002:a05:6820:1785:b0:611:befc:38e5 with SMTP id 006d021491bc7-613cce5b606mr732898eaf.4.1752036637478; Tue, 08 Jul 2025 21:50:37 -0700 (PDT) Received: from postal.iol.unh.edu (postal.iol.unh.edu. [132.177.123.84]) by smtp-relay.gmail.com with ESMTPS id 006d021491bc7-6138e475535sm287525eaf.5.2025.07.08.21.50.37 (version=TLS1_2 cipher=ECDHE-ECDSA-AES128-GCM-SHA256 bits=128/128); Tue, 08 Jul 2025 21:50:37 -0700 (PDT) X-Relaying-Domain: iol.unh.edu Date: Tue, 08 Jul 2025 21:50:37 -0700 (PDT) Message-ID: <686df51d.050a0220.39de41.f0dbSMTPIN_ADDED_MISSING@mx.google.com> Received: from [172.21.0.6] (unknown [172.18.0.240]) by postal.iol.unh.edu (Postfix) with ESMTP id E7CF96051830; Wed, 9 Jul 2025 00:50:36 -0400 (EDT) Subject: |WARNING| pw154925-154942 [PATCH] [V5,18/18] drivers/net: add hinic3 From: dpdklab@iol.unh.edu To: Test Report Cc: dpdk-test-reports@iol.unh.edu In-Reply-To: <20250702020953.599-19-wff_light@vip.163.com> References: <20250702020953.599-19-wff_light@vip.163.com> Content-Type: text/plain X-BeenThere: test-report@dpdk.org X-Mailman-Version: 2.1.29 Precedence: list List-Id: automatic DPDK test reports List-Unsubscribe: , List-Archive: List-Post: List-Help: List-Subscribe: , Errors-To: test-report-bounces@dpdk.org Test-Label: iol-compile-amd64-testing Test-Status: WARNING http://dpdk.org/patch/154942 _Testing issues_ Submitter: Feifei Wang Date: Wednesday, July 02 2025 02:09:41 DPDK git baseline: Repo:dpdk Branch: master CommitID:ba982f9a1ca9b96ed0394b764f1523d482e963a2 154925-154942 --> testing issues Upstream job id: Generic-DPDK-Compile-Meson#406949 Test environment and result as below: +-------------------------------+--------------------+-------------------+------------------+-------------------+ | Environment | dpdk_meson_compile | dpdk_compile_spdk | dpdk_compile_ovs | dpdk_msvc_compile | +===============================+====================+===================+==================+===================+ | CentOS Stream 9 | PASS | PASS | SKIPPED | SKIPPED | +-------------------------------+--------------------+-------------------+------------------+-------------------+ | Debian GNU/Linux 12 | PASS | PASS | SKIPPED | SKIPPED | +-------------------------------+--------------------+-------------------+------------------+-------------------+ | CentOS Stream 10 | PASS | SKIPPED | SKIPPED | SKIPPED | +-------------------------------+--------------------+-------------------+------------------+-------------------+ | openSUSE Leap 15.6 | PASS | SKIPPED | SKIPPED | SKIPPED | +-------------------------------+--------------------+-------------------+------------------+-------------------+ | Fedora Linux 41 | PEND | PEND | PEND | SKIPPED | +-------------------------------+--------------------+-------------------+------------------+-------------------+ | Fedora Linux 40 | PASS | PASS | SKIPPED | SKIPPED | +-------------------------------+--------------------+-------------------+------------------+-------------------+ | Red Hat Enterprise Linux 9.5 | PASS | SKIPPED | SKIPPED | SKIPPED | +-------------------------------+--------------------+-------------------+------------------+-------------------+ | Red Hat Enterprise Linux 8.10 | PASS | SKIPPED | SKIPPED | SKIPPED | +-------------------------------+--------------------+-------------------+------------------+-------------------+ | Ubuntu 22.04 | PASS | PASS | SKIPPED | SKIPPED | +-------------------------------+--------------------+-------------------+------------------+-------------------+ | Ubuntu 20.04 | PASS | SKIPPED | SKIPPED | SKIPPED | +-------------------------------+--------------------+-------------------+------------------+-------------------+ | Ubuntu 24.04 | PEND | PEND | PEND | SKIPPED | +-------------------------------+--------------------+-------------------+------------------+-------------------+ | Alpine Linux 3.22.0 | PASS | SKIPPED | SKIPPED | SKIPPED | +-------------------------------+--------------------+-------------------+------------------+-------------------+ | FreeBSD 14.2 | PASS | SKIPPED | SKIPPED | SKIPPED | +-------------------------------+--------------------+-------------------+------------------+-------------------+ | Windows Server 2022 | SKIPPED | SKIPPED | SKIPPED | PASS | +-------------------------------+--------------------+-------------------+------------------+-------------------+ CentOS Stream 9 Kernel: 5.15 Compiler: gcc gcc (GCC) 11.5.0 20240719 (Red Hat 11.5.0-7) Debian GNU/Linux 12 Kernel: 5.15 Compiler: gcc gcc (Debian 12.2.0-14+deb12u1) 12.2.0 CentOS Stream 10 Kernel: 5.15 Compiler: gcc gcc (GCC) 14.2.1 20250110 (Red Hat 14.2.1-8) openSUSE Leap 15.6 Kernel: 5.15 Compiler: gcc gcc (SUSE Linux) 7.5.0 Fedora Linux 41 Kernel: 5.15 Compiler: gcc gcc (GCC) 14.3.1 20250523 (Red Hat 14.3.1-1) Fedora Linux 40 Kernel: 5.15 Compiler: clang gcc (GCC) 14.2.1 20240912 (Red Hat 14.2.1-3) Red Hat Enterprise Linux 9.5 Kernel: 5.15 Compiler: gcc gcc (GCC) 11.5.0 20240719 (Red Hat 11.5.0-2) Red Hat Enterprise Linux 8.10 Kernel: 5.15 Compiler: gcc gcc (GCC) 8.5.0 20210514 (Red Hat 8.5.0-22) Ubuntu 22.04 Kernel: 5.15 Compiler: gcc gcc (Ubuntu 11.4.0-1ubuntu1~22.04) 11.4.0 Ubuntu 20.04 Kernel: 4.19 Compiler: gcc gcc (Ubuntu 9.4.0-1ubuntu1~20.04.2) 9.4.0 Ubuntu 24.04 Kernel: 5.15 Compiler: gcc gcc (Ubuntu 13.3.0-6ubuntu2~24.04) 13.3.0 Alpine Linux 3.22.0 Kernel: 5.15 Compiler: gcc gcc (Alpine 14.2.0) 14.2.0 FreeBSD 14.2 Kernel: 14.2-RELEASE Compiler: clang 18.1.6 Windows Server 2022 Kernel: 10.0.20348.2031 Compiler: clang 15.0.7, gcc 14.1.0 (MinGW), and MSVC VS 19.39.33521 To view detailed results, visit: https://lab.dpdk.org/results/dashboard/patchsets/33560/ UNH-IOL DPDK Community Lab To manage your email subscriptions, visit: https://lab.dpdk.org/results/dashboard/preferences/subscriptions/