From mboxrd@z Thu Jan 1 00:00:00 1970 Return-Path: Received: from mails.dpdk.org (mails.dpdk.org [217.70.189.124]) by inbox.dpdk.org (Postfix) with ESMTP id A5D1446A87 for ; Wed, 9 Jul 2025 06:54:43 +0200 (CEST) Received: from mails.dpdk.org (localhost [127.0.0.1]) by mails.dpdk.org (Postfix) with ESMTP id 92CA84013F; Wed, 9 Jul 2025 06:54:43 +0200 (CEST) Received: from mail-qt1-f226.google.com (mail-qt1-f226.google.com [209.85.160.226]) by mails.dpdk.org (Postfix) with ESMTP id 32B6D4013F for ; Wed, 9 Jul 2025 06:54:42 +0200 (CEST) Received: by mail-qt1-f226.google.com with SMTP id d75a77b69052e-4a52d82adcaso77527461cf.0 for ; Tue, 08 Jul 2025 21:54:42 -0700 (PDT) DKIM-Signature: v=1; a=rsa-sha256; c=relaxed/relaxed; d=iol.unh.edu; s=unh-iol; t=1752036881; x=1752641681; darn=dpdk.org; h=references:in-reply-to:cc:to:from:subject:message-id:date:from:to :cc:subject:date:message-id:reply-to; bh=tVLRKAZflQwqnsBbQDKuyD/QsUzp5NnA9wqP+eEvJ6E=; b=H252jU33d12sjnYcb1aXNXI5ywh7mOcApTims7/94sO2sk6975iEpQJM4svnP+Rqn4 C7pAbj7YPd0ysYspTpCvQAr6UcOGk+kCRCGqNpgXalLJvM/C/cs8ENreDtWboEXmoUEw XipGGU8wxWL/hMOm9/pEL9The4tzXr4KEXtdU= X-Google-DKIM-Signature: v=1; a=rsa-sha256; c=relaxed/relaxed; d=1e100.net; s=20230601; t=1752036881; x=1752641681; h=references:in-reply-to:cc:to:from:subject:message-id:date :x-gm-message-state:from:to:cc:subject:date:message-id:reply-to; bh=tVLRKAZflQwqnsBbQDKuyD/QsUzp5NnA9wqP+eEvJ6E=; b=OuglXwwxOSXfML75W/teut7bytwoWWxpdLTRd18X5hvWrzrtdBgd3KjNFmqMBlMDH4 HWTqezLLFyW2EUkpJK8i7cvI67i0gA+AOcq219BUL1DIIHtY1igo+Vvubgcwkj4yeBsC 0qQbM4HAjGdDh2Gsv2Gy0xMgkEOySgi8CgHJJ0XtfiA8r97eaqM943xlTi/R0wfCVCeb peH6aCULNQ3mXL3h/wZ99FT8K2srZkErw2U7Rp3KZuMqy7ypzIzm0xSxcHb95haeL6kr OZ0zYQa5KB1oKI2ShSaXWmDJvHJjTQ3BBNB2M8KRA5w3x0GdUhUMoTPx9vIOwnhjbsPX gg6g== X-Gm-Message-State: AOJu0YxA9PIGiQhhCbZO2GoszE3ZN4LOc+PUbBxpjHJrP6F1JcHD4NbO i+y+bd2y9jY9goMo4Bef04x4aoPs3dPDJXifWXF49CBmkp/U+EJsF+dDeq//k3ugUUuAqSRBfYq 5sC3FAY7uZE11NFo1bqHndLaPi8Jq15E5BoF8gUbL4u2EVCY/kK1Dz1wA/u2x X-Gm-Gg: ASbGncult03aG78E/O8tejExUTy53+FNNXylkv5kfqCfzTopFoJjqrYKmjZWrhQ5cGa u8PaevMLw98jrBRnQkZlG/gmG8kZD99kBCagBzG1CAZ8vQ9f4xszOabjZNu5Dmr90nY3pIg+7WO ufk5ZxTptLFJr6WRi2efPwaXQ3bJtFoJ09DAmK5rcq2OQfqGmwUhkzvwxkib4TT1IRR640hMcKv o7TXtpy4i0HWN6Nlm1rplXEc2TazWzZOT9qBoHLhCWcF7V7+WUhrUI7b7gHw0pncof0dzaZ0pMS +ZIisASSUUQEzjy0nC4xswiBDBNKX3taZ3k/ULDNdGjlKVw= X-Google-Smtp-Source: AGHT+IE2MJG5s8YWnhoUHjEF+ozgBZt0A5H3HaXQQtEyx5UlNLkj2PoeWUFrEPHTMxuWRKKzwcFJbb6rH+aY X-Received: by 2002:ac8:5a83:0:b0:4a7:adba:975c with SMTP id d75a77b69052e-4a9ded006eamr16244421cf.27.1752036881603; Tue, 08 Jul 2025 21:54:41 -0700 (PDT) Received: from postal.iol.unh.edu (postal.iol.unh.edu. [2606:4100:3880:1234::84]) by smtp-relay.gmail.com with ESMTPS id d75a77b69052e-4a994a70ceesm3136871cf.12.2025.07.08.21.54.41 (version=TLS1_2 cipher=ECDHE-ECDSA-AES128-GCM-SHA256 bits=128/128); Tue, 08 Jul 2025 21:54:41 -0700 (PDT) X-Relaying-Domain: iol.unh.edu Date: Tue, 08 Jul 2025 21:54:41 -0700 (PDT) Message-ID: <686df611.050a0220.1f47a5.0445SMTPIN_ADDED_MISSING@mx.google.com> Received: from [172.21.0.5] (unknown [172.18.0.240]) by postal.iol.unh.edu (Postfix) with ESMTP id 4EB906051830; Wed, 9 Jul 2025 00:54:41 -0400 (EDT) Subject: |SUCCESS| pw155085 [PATCH] [v3] pcapng: allow any protocol link type From: dpdklab@iol.unh.edu To: Test Report Cc: dpdk-test-reports@iol.unh.edu In-Reply-To: <20250708210245.3967578-1-schneide@qti.qualcomm.com> References: <20250708210245.3967578-1-schneide@qti.qualcomm.com> Content-Type: text/plain X-BeenThere: test-report@dpdk.org X-Mailman-Version: 2.1.29 Precedence: list List-Id: automatic DPDK test reports List-Unsubscribe: , List-Archive: List-Post: List-Help: List-Subscribe: , Errors-To: test-report-bounces@dpdk.org Test-Label: iol-unit-amd64-testing Test-Status: SUCCESS http://dpdk.org/patch/155085 _Testing PASS_ Submitter: Schneide Date: Tuesday, July 08 2025 21:02:45 DPDK git baseline: Repo:dpdk Branch: master CommitID:e90979eebbea093f6bab2d7c222fc5f5c9a85eff 155085 --> testing pass Upstream job id: Generic-Unit-Test-DPDK#353938 Test environment and result as below: +-------------------------------+----------------+ | Environment | dpdk_unit_test | +===============================+================+ | CentOS Stream 10 | PASS | +-------------------------------+----------------+ | CentOS Stream 9 | PASS | +-------------------------------+----------------+ | Fedora Linux 40 | PASS | +-------------------------------+----------------+ | Fedora Linux 41 | PASS | +-------------------------------+----------------+ | Debian GNU/Linux 12 | PASS | +-------------------------------+----------------+ | Ubuntu 20.04 | PASS | +-------------------------------+----------------+ | Red Hat Enterprise Linux 9.5 | PASS | +-------------------------------+----------------+ | Red Hat Enterprise Linux 8.10 | PASS | +-------------------------------+----------------+ | Ubuntu 22.04 | PASS | +-------------------------------+----------------+ | Ubuntu 24.04 | PASS | +-------------------------------+----------------+ CentOS Stream 10 Kernel: 5.15 Compiler: gcc gcc (GCC) 14.2.1 20250110 (Red Hat 14.2.1-8) CentOS Stream 9 Kernel: 5.15 Compiler: gcc gcc (GCC) 11.5.0 20240719 (Red Hat 11.5.0-7) Fedora Linux 40 Kernel: 5.15 Compiler: clang gcc (GCC) 14.2.1 20240912 (Red Hat 14.2.1-3) Fedora Linux 41 Kernel: 5.15 Compiler: clang gcc (GCC) 14.3.1 20250523 (Red Hat 14.3.1-1) Debian GNU/Linux 12 Kernel: 5.15 Compiler: gcc gcc (Debian 12.2.0-14+deb12u1) 12.2.0 Ubuntu 20.04 Kernel: 5.15 Compiler: gcc gcc (Ubuntu 9.4.0-1ubuntu1~20.04.2) 9.4.0 Red Hat Enterprise Linux 9.5 Kernel: 5.15 Compiler: gcc gcc (GCC) 11.5.0 20240719 (Red Hat 11.5.0-2) Red Hat Enterprise Linux 8.10 Kernel: 5.15 Compiler: gcc gcc (GCC) 8.5.0 20210514 (Red Hat 8.5.0-22) Ubuntu 22.04 Kernel: 5.15 Compiler: gcc gcc (Ubuntu 11.4.0-1ubuntu1~22.04) 11.4.0 Ubuntu 24.04 Kernel: 5.15 Compiler: gcc gcc (Ubuntu 13.3.0-6ubuntu2~24.04) 13.3.0 To view detailed results, visit: https://lab.dpdk.org/results/dashboard/patchsets/33618/ UNH-IOL DPDK Community Lab To manage your email subscriptions, visit: https://lab.dpdk.org/results/dashboard/preferences/subscriptions/