From mboxrd@z Thu Jan 1 00:00:00 1970 Return-Path: Received: from mails.dpdk.org (mails.dpdk.org [217.70.189.124]) by inbox.dpdk.org (Postfix) with ESMTP id CC19446A87 for ; Wed, 9 Jul 2025 07:15:03 +0200 (CEST) Received: from mails.dpdk.org (localhost [127.0.0.1]) by mails.dpdk.org (Postfix) with ESMTP id C85B84013F; Wed, 9 Jul 2025 07:15:03 +0200 (CEST) Received: from mail-pj1-f97.google.com (mail-pj1-f97.google.com [209.85.216.97]) by mails.dpdk.org (Postfix) with ESMTP id 00F934013F for ; Wed, 9 Jul 2025 07:15:03 +0200 (CEST) Received: by mail-pj1-f97.google.com with SMTP id 98e67ed59e1d1-3121aed2435so4949615a91.2 for ; Tue, 08 Jul 2025 22:15:02 -0700 (PDT) DKIM-Signature: v=1; a=rsa-sha256; c=relaxed/relaxed; d=iol.unh.edu; s=unh-iol; t=1752038102; x=1752642902; darn=dpdk.org; h=references:in-reply-to:cc:to:from:subject:message-id:date:from:to :cc:subject:date:message-id:reply-to; bh=FWxleOh5dB9aUFtTlg4IWBNbdKgbZv5qVX7P8Hec7H4=; b=U9ZjJ/glopseytLJj8hTUpIDvlwpgOE5+LzIQiSj+iTKE70svy+p9/Wt2waIT+oTbU j5CCdpkwqjnbqm9GPg4d80a3fp3pdYGMeESGvPsm/AevIbPzw2Xq6poEWoxwbEmQEMpX 4aVADYqstyhfNJMTO4ltZ9uZz03gljzNQfZ64= X-Google-DKIM-Signature: v=1; a=rsa-sha256; c=relaxed/relaxed; d=1e100.net; s=20230601; t=1752038102; x=1752642902; h=references:in-reply-to:cc:to:from:subject:message-id:date :x-gm-message-state:from:to:cc:subject:date:message-id:reply-to; bh=FWxleOh5dB9aUFtTlg4IWBNbdKgbZv5qVX7P8Hec7H4=; b=Lg4ZYiak2WKQW7AkZOT4dkzqZadyLnre4t8W2JORnPBHpN11HJQLJf5h9dtHT6fJfT /ODwwUOptuBNkS3IZ2unUHed/746FlLlwgRrec7DyznGibYpeL+c5EAM/BssLiqqXea9 tFF7EeRd49szVZO+MgmXX/XuqEvz9hIyHWVJEi5ExOmgoIvHrlHMnw+1OOSvP/aUUPnz dsyPbNPzcGQWEV9iJzZMkbn1HeZUcdDVWaM321AhdBzuj2YWKtKIYF0tt/Erjic5bjNQ BJTXRa1IwOMS7DMCobqXrj7TVg2Zerg9l8egXYC60PKxmqhrmHsGd90khXFBH7UVjy0M wW3A== X-Gm-Message-State: AOJu0YxzZdsnHsdLQBGW+xDf4rd8ATV6FoBfOYhiybCklPZU81duCsaQ 6oLlTNkYa76Y5UOdImTcGsFNlPF/0M4/Lk4rMtg2JQPJyWECvmiHm5U03DKGNE2cHVnlNACUFNz q5KR1wi5Ne+hJ+5f1d59NFA1aU14Nm2goEw7N532DivTDXG7/Dbu4hOe5UuCA X-Gm-Gg: ASbGncuLLfvZ+XVQqv/XuBZdPmFRekOtyFJ+FZPkg0Ra5tXyzSIzfdHnjaFU8ouK/vW +IOhgV7MFhLnDLfGRLb1alURwd4iAFRclgd3bCWFy8bwUmZN2TBAQoQpsin9TRSX9rB1umL+pO5 rZcbGMedtyn7VEzzYsymXCycpwlML2co5KGltqw1JuIBr7/j9kkVlDF/y96J07pQfo10GcGjztG 9iZcN24RHEVCEDe//WQgfD3BMnlTOpncoeI/3gPK1EMAwsnRmHAfDF7GrAHLLGw6qd0Hfx1bWlp 4qs2xvfrhOBuQpK5vFiPTGJ5j6E4bJVYDc0fzdHi3N14T6c= X-Google-Smtp-Source: AGHT+IH/yGenMlh3Gxam2AU/jhuCXwNQu4LywxAxArJxU/DoPvZSYLZGSXMszvaDdAHZ0xyfLxxkxSnhn38S X-Received: by 2002:a17:90b:3802:b0:313:279d:665c with SMTP id 98e67ed59e1d1-31c2fcc33bamr1916015a91.7.1752038101839; Tue, 08 Jul 2025 22:15:01 -0700 (PDT) Received: from postal.iol.unh.edu (postal.iol.unh.edu. [2606:4100:3880:1234::84]) by smtp-relay.gmail.com with ESMTPS id 98e67ed59e1d1-31c300b52f9sm57315a91.6.2025.07.08.22.15.01 (version=TLS1_2 cipher=ECDHE-ECDSA-AES128-GCM-SHA256 bits=128/128); Tue, 08 Jul 2025 22:15:01 -0700 (PDT) X-Relaying-Domain: iol.unh.edu Date: Tue, 08 Jul 2025 22:15:01 -0700 (PDT) Message-ID: <686dfad5.170a0220.27d023.3986SMTPIN_ADDED_MISSING@mx.google.com> Received: from [172.21.0.5] (unknown [172.18.0.240]) by postal.iol.unh.edu (Postfix) with ESMTP id 21C116051830; Wed, 9 Jul 2025 01:15:01 -0400 (EDT) Subject: |SUCCESS| pw155084 [PATCH] [RFC] add hints to CLAUDE From: dpdklab@iol.unh.edu To: Test Report Cc: dpdk-test-reports@iol.unh.edu In-Reply-To: <20250708190957.10108-1-stephen@networkplumber.org> References: <20250708190957.10108-1-stephen@networkplumber.org> Content-Type: text/plain X-BeenThere: test-report@dpdk.org X-Mailman-Version: 2.1.29 Precedence: list List-Id: automatic DPDK test reports List-Unsubscribe: , List-Archive: List-Post: List-Help: List-Subscribe: , Errors-To: test-report-bounces@dpdk.org Test-Label: iol-unit-amd64-testing Test-Status: SUCCESS http://dpdk.org/patch/155084 _Testing PASS_ Submitter: Stephen Hemminger Date: Tuesday, July 08 2025 19:09:41 DPDK git baseline: Repo:dpdk Branch: master CommitID:e90979eebbea093f6bab2d7c222fc5f5c9a85eff 155084 --> testing pass Upstream job id: Generic-Unit-Test-DPDK#353969 Test environment and result as below: +-------------------------------+----------------+ | Environment | dpdk_unit_test | +===============================+================+ | CentOS Stream 9 | PASS | +-------------------------------+----------------+ | Fedora Linux 41 | PASS | +-------------------------------+----------------+ | CentOS Stream 10 | PASS | +-------------------------------+----------------+ | Fedora Linux 40 | PASS | +-------------------------------+----------------+ | Ubuntu 20.04 | PASS | +-------------------------------+----------------+ | Ubuntu 22.04 | PASS | +-------------------------------+----------------+ | Ubuntu 24.04 | PASS | +-------------------------------+----------------+ | Red Hat Enterprise Linux 9.5 | PASS | +-------------------------------+----------------+ | Debian GNU/Linux 12 | PASS | +-------------------------------+----------------+ | Red Hat Enterprise Linux 8.10 | PASS | +-------------------------------+----------------+ CentOS Stream 9 Kernel: 5.15 Compiler: gcc gcc (GCC) 11.5.0 20240719 (Red Hat 11.5.0-7) Fedora Linux 41 Kernel: 5.15 Compiler: clang gcc (GCC) 14.3.1 20250523 (Red Hat 14.3.1-1) CentOS Stream 10 Kernel: 5.15 Compiler: gcc gcc (GCC) 14.2.1 20250110 (Red Hat 14.2.1-8) Fedora Linux 40 Kernel: 5.15 Compiler: gcc gcc (GCC) 14.2.1 20240912 (Red Hat 14.2.1-3) Ubuntu 20.04 Kernel: 5.15 Compiler: gcc gcc (Ubuntu 9.4.0-1ubuntu1~20.04.2) 9.4.0 Ubuntu 22.04 Kernel: 5.15 Compiler: gcc gcc (Ubuntu 11.4.0-1ubuntu1~22.04) 11.4.0 Ubuntu 24.04 Kernel: 5.15 Compiler: gcc gcc (Ubuntu 13.3.0-6ubuntu2~24.04) 13.3.0 Red Hat Enterprise Linux 9.5 Kernel: 5.15 Compiler: gcc gcc (GCC) 11.5.0 20240719 (Red Hat 11.5.0-2) Debian GNU/Linux 12 Kernel: 5.15 Compiler: gcc gcc (Debian 12.2.0-14+deb12u1) 12.2.0 Red Hat Enterprise Linux 8.10 Kernel: 5.15 Compiler: gcc gcc (GCC) 8.5.0 20210514 (Red Hat 8.5.0-22) To view detailed results, visit: https://lab.dpdk.org/results/dashboard/patchsets/33617/ UNH-IOL DPDK Community Lab To manage your email subscriptions, visit: https://lab.dpdk.org/results/dashboard/preferences/subscriptions/