From mboxrd@z Thu Jan 1 00:00:00 1970 Return-Path: Received: from mails.dpdk.org (mails.dpdk.org [217.70.189.124]) by inbox.dpdk.org (Postfix) with ESMTP id D8B3946A87 for ; Wed, 9 Jul 2025 07:15:11 +0200 (CEST) Received: from mails.dpdk.org (localhost [127.0.0.1]) by mails.dpdk.org (Postfix) with ESMTP id D26474013F; Wed, 9 Jul 2025 07:15:11 +0200 (CEST) Received: from mail-il1-f228.google.com (mail-il1-f228.google.com [209.85.166.228]) by mails.dpdk.org (Postfix) with ESMTP id 9F79D4013F for ; Wed, 9 Jul 2025 07:15:10 +0200 (CEST) Received: by mail-il1-f228.google.com with SMTP id e9e14a558f8ab-3ddda0a8ba2so47541215ab.0 for ; Tue, 08 Jul 2025 22:15:10 -0700 (PDT) DKIM-Signature: v=1; a=rsa-sha256; c=relaxed/relaxed; d=iol.unh.edu; s=unh-iol; t=1752038110; x=1752642910; darn=dpdk.org; h=references:in-reply-to:cc:to:from:subject:message-id:date:from:to :cc:subject:date:message-id:reply-to; bh=5DhbdbHXOTujPjq+6INndS7xZ3ZZruKsVBjz6sL6Sfw=; b=fNn2PfvtnAOifqQiZnnb2Ro5j/rzuapgt7z3pvxAsdtKlUvCaVwjzpdDfT+c4NMe8D ArX1aNZqda3L/bIJo9edsdvY65aSNoQX621wkJvln42m5E9PycnjoQWEIDs9tbjETsxC W1baTCwRAwGtfVoYHHT11Y/LZMig6hqCjtmuE= X-Google-DKIM-Signature: v=1; a=rsa-sha256; c=relaxed/relaxed; d=1e100.net; s=20230601; t=1752038110; x=1752642910; h=references:in-reply-to:cc:to:from:subject:message-id:date :x-gm-message-state:from:to:cc:subject:date:message-id:reply-to; bh=5DhbdbHXOTujPjq+6INndS7xZ3ZZruKsVBjz6sL6Sfw=; b=ToibPiSTCJszR9zjlmYc4301Pg0Cclq6lGbLt5G42LaNaqZIlBp/6MesXM2rKQBkMX gte0zO/G0OOZw+Glzt288C3Ae82r7sNtCr2sRxN1t0c6dzQKpyensJx0PH5TBzYr1r2u xLDnhuWyPyP+21XeSfBkZCANfcBGlrI1WXRdSQMEqWstB2dPwBMshx/iOcShQEoGPb0H EyU7+eQdo+BbSJNjQV5th8mVsUdUNmH0g6eWXqkH/dGRKdTJyU298GDwgjudrzMsVCgX vAqKfzIlJBUCCTUgF2NqkMZozSLwNiX7sPnDMEWYJCuXwkTRC+GNomB5Gnr2Ye0iOe41 rcqw== X-Gm-Message-State: AOJu0Yxo5gkETeQUoiDEczbbln8pdvw3cSeFYM6jij2wPA+tFLDhxDpo SGhlvztl8KpJJR9hRRteA+oRcs1ZtWaSHOnIExpxQSM9dp4sOluyJtu0g3gEvdD6pGzhHDAsSC1 h6r4pCDMddjYYi/85bSQJHd3ygcyOIRdgTlJ4lLtj8+S+4EA0upEJB6Inm4nU X-Gm-Gg: ASbGncvX7+lkWgYYB7Q0rDj2t6/KrmhRF5dYUUU7Coq9Re7fiZahOgNieHF//vH1q0n fQZL4T1MD7fSZsWJnmm8Yov4f90WB6FLtBQDQlU0AeAEiOtkMDaOmETZr98yAHJVxFaQxJ1QjUY 3lUsS5efMXuqtXSSfnv0AYNqrUC4MJ5O7alHuhM/ZZs2ACcxFKZWsSaoPF80tHfiYu0/a6gfpaj GAzq7utCJYv/D5p7RfyffKoikqIMd1zz1A9Y4VMke0NDhcWlRg60WHzFL8r0LMaumj1CraqSrAf Z8tyyOS/pyvocZTmOJI/HllrOBBUP68sHiYT/zn60EX50wQ= X-Google-Smtp-Source: AGHT+IFQubSArfcTv/RYeYX+FMA8480iEaV0WYBK1J4A9ILcB3ZyqnvGl+QoZfIf3kSGvHKQuZdF29MIHzyr X-Received: by 2002:a05:6e02:3a04:b0:3df:4811:ea2a with SMTP id e9e14a558f8ab-3e167121e72mr13847725ab.22.1752038109960; Tue, 08 Jul 2025 22:15:09 -0700 (PDT) Received: from postal.iol.unh.edu (postal.iol.unh.edu. [2606:4100:3880:1234::84]) by smtp-relay.gmail.com with ESMTPS id 8926c6da1cb9f-503b5b78b0fsm421514173.36.2025.07.08.22.15.09 (version=TLS1_2 cipher=ECDHE-ECDSA-AES128-GCM-SHA256 bits=128/128); Tue, 08 Jul 2025 22:15:09 -0700 (PDT) X-Relaying-Domain: iol.unh.edu Date: Tue, 08 Jul 2025 22:15:09 -0700 (PDT) Message-ID: <686dfadd.050a0220.13d1eb.6cf3SMTPIN_ADDED_MISSING@mx.google.com> Received: from [172.21.0.6] (unknown [172.18.0.240]) by postal.iol.unh.edu (Postfix) with ESMTP id 765D96051830; Wed, 9 Jul 2025 01:15:09 -0400 (EDT) Subject: |SUCCESS| pw155085 [PATCH] [v3] pcapng: allow any protocol link type From: dpdklab@iol.unh.edu To: Test Report Cc: dpdk-test-reports@iol.unh.edu In-Reply-To: <20250708210245.3967578-1-schneide@qti.qualcomm.com> References: <20250708210245.3967578-1-schneide@qti.qualcomm.com> Content-Type: text/plain X-BeenThere: test-report@dpdk.org X-Mailman-Version: 2.1.29 Precedence: list List-Id: automatic DPDK test reports List-Unsubscribe: , List-Archive: List-Post: List-Help: List-Subscribe: , Errors-To: test-report-bounces@dpdk.org Test-Label: iol-abi-testing Test-Status: SUCCESS http://dpdk.org/patch/155085 _Testing PASS_ Submitter: Schneide Date: Tuesday, July 08 2025 21:02:45 DPDK git baseline: Repo:dpdk Branch: master CommitID:e90979eebbea093f6bab2d7c222fc5f5c9a85eff 155085 --> testing pass Upstream job id: Generic-DPDK-Compile-ABI#133660 Test environment and result as below: +-------------------------------+----------+ | Environment | abi_test | +===============================+==========+ | CentOS Stream 9 | PASS | +-------------------------------+----------+ | CentOS Stream 10 | PASS | +-------------------------------+----------+ | Debian GNU/Linux 12 | PASS | +-------------------------------+----------+ | Fedora Linux 41 | PASS | +-------------------------------+----------+ | Fedora Linux 40 | PASS | +-------------------------------+----------+ | openSUSE Leap 15.6 | PASS | +-------------------------------+----------+ | Red Hat Enterprise Linux 8.10 | PASS | +-------------------------------+----------+ | Red Hat Enterprise Linux 9.5 | PASS | +-------------------------------+----------+ | Ubuntu 24.04 | PASS | +-------------------------------+----------+ | Ubuntu 22.04 | PASS | +-------------------------------+----------+ CentOS Stream 9 Kernel: 5.15 Compiler: gcc gcc (GCC) 11.5.0 20240719 (Red Hat 11.5.0-7) CentOS Stream 10 Kernel: 5.15 Compiler: gcc gcc (GCC) 14.2.1 20250110 (Red Hat 14.2.1-8) Debian GNU/Linux 12 Kernel: 5.15 Compiler: gcc gcc (Debian 12.2.0-14+deb12u1) 12.2.0 Fedora Linux 41 Kernel: 5.15 Compiler: clang gcc (GCC) 14.3.1 20250523 (Red Hat 14.3.1-1) Fedora Linux 40 Kernel: 5.15 Compiler: clang gcc (GCC) 14.2.1 20240912 (Red Hat 14.2.1-3) openSUSE Leap 15.6 Kernel: 5.15 Compiler: gcc gcc (SUSE Linux) 7.5.0 Red Hat Enterprise Linux 8.10 Kernel: 5.15 Compiler: gcc gcc (GCC) 8.5.0 20210514 (Red Hat 8.5.0-22) Red Hat Enterprise Linux 9.5 Kernel: 5.15 Compiler: gcc gcc (GCC) 11.5.0 20240719 (Red Hat 11.5.0-2) Ubuntu 24.04 Kernel: 5.15 Compiler: gcc gcc (Ubuntu 13.3.0-6ubuntu2~24.04) 13.3.0 Ubuntu 22.04 Kernel: 5.15 Compiler: gcc gcc (Ubuntu 11.4.0-1ubuntu1~22.04) 11.4.0 To view detailed results, visit: https://lab.dpdk.org/results/dashboard/patchsets/33618/ UNH-IOL DPDK Community Lab To manage your email subscriptions, visit: https://lab.dpdk.org/results/dashboard/preferences/subscriptions/