From mboxrd@z Thu Jan 1 00:00:00 1970 Return-Path: Received: from mails.dpdk.org (mails.dpdk.org [217.70.189.124]) by inbox.dpdk.org (Postfix) with ESMTP id 1A1A746A87 for ; Wed, 9 Jul 2025 07:16:51 +0200 (CEST) Received: from mails.dpdk.org (localhost [127.0.0.1]) by mails.dpdk.org (Postfix) with ESMTP id 078AF4013F; Wed, 9 Jul 2025 07:16:51 +0200 (CEST) Received: from mail-qk1-f227.google.com (mail-qk1-f227.google.com [209.85.222.227]) by mails.dpdk.org (Postfix) with ESMTP id 0A2504013F for ; Wed, 9 Jul 2025 07:16:50 +0200 (CEST) Received: by mail-qk1-f227.google.com with SMTP id af79cd13be357-7da6ca0f1acso153868285a.1 for ; Tue, 08 Jul 2025 22:16:49 -0700 (PDT) DKIM-Signature: v=1; a=rsa-sha256; c=relaxed/relaxed; d=iol.unh.edu; s=unh-iol; t=1752038209; x=1752643009; darn=dpdk.org; h=references:in-reply-to:cc:to:from:subject:message-id:date:from:to :cc:subject:date:message-id:reply-to; bh=3v4s8qkoe5/Mn67PMIQorHkIyIx1zV1JxnZ3BDr7LwE=; b=TMj3eCmZWz3mMzafUMl3DuvbxSonrv9iQsi8cf3NTYzW8o1rErhy4rrmSl1ToZhVzW YEAV3Niqd/yYxGjVPmxFYk5/eFpglVM76Sbe5wJMYzR6LT70sd6vf5AT0IuLUWNvhcrq R1rXFmQw9NodKayru41DNHdHV+d08bZtI2PT4= X-Google-DKIM-Signature: v=1; a=rsa-sha256; c=relaxed/relaxed; d=1e100.net; s=20230601; t=1752038209; x=1752643009; h=references:in-reply-to:cc:to:from:subject:message-id:date :x-gm-message-state:from:to:cc:subject:date:message-id:reply-to; bh=3v4s8qkoe5/Mn67PMIQorHkIyIx1zV1JxnZ3BDr7LwE=; b=h21G89FITre+xMTpH2gqi3k2ZDaWVBn+00alLtqq7Ot4yPw5rAAdHLGaMN4fTRz9EF FfPsWmH6sHvmciXbF+weh0mcOZStTuTpfRx1sTF9Hr5RMDvfB93c435HXWwBfrsU5VJb UhRF7gAlIF0trI2CFqz8AV2qLixy4lO9mXVF1fqJve5Cu6+VAzgmwsQcu7H6y8c/uPuK mWouuLE3YmwgyfeJsCJYU2zqzn6dHw//uF+6uqjTuVPms9ya0yPuZn9PMzpQQ8J/KhAz Npx4WISCrKSczQ9iG8KL+x6xw/selZqincTxeNLNN/mn3eBLQol7XMRRhsTsxGbtSAOB KbAA== X-Gm-Message-State: AOJu0YzCCOqiN+aGUDIzWR+EZ3w4hTYyztnCJ/KbrH+LUcta4QpHfl57 YhV5LW09groE7CiLbglx1FXGENkJ9UvtJ6RXz+XeQFj+LlcBNqr13lkT95MGs4UrXnsvFLQ/wTr x7JktvMVd2xHVAVWiun2gKVPqIsseTGihKYAdvaVlS4zVc7thBDGr6HRuismV X-Gm-Gg: ASbGncteL3WOtQpXgXqbo+EdQGz3CHrGPoyprv9Er8+R1TrnBrz4lRjj3IuDlTgXetE HfGl3P2p2fNxnBLoiW++v4tbc4i5V/Fn8nsiM45TMfus3eKJoka7LFIFIb4IPYo0BCWoq/eOGSB a8SbBv1NKDqfKxy4JDpwB4jLq8o4V6xBJEKIEhxcDq4DpD7i3H5wJJONeOjYpTTPaHEp5IULav7 ovRwDCNQE8CTTPSCzPYzABAMt98VK4Py8HznL6xXCsg4ViT5Q+e6vBuNvHJkzL5tjzeYGh80R0D fjHMJFKzItCcgnwse9+k/1v/kXZlddkvbHUWV5RJx0IzCo8= X-Google-Smtp-Source: AGHT+IHlaki/lBRgnrD1nMbramINiB6gg+MbmCN6Tx7tuJYvMeCfUWLFQWT61wRnLrFT+DLQjTeiVlbyf3Lm X-Received: by 2002:a05:620a:4007:b0:7d4:677c:5e6f with SMTP id af79cd13be357-7db7cfa33edmr218547885a.26.1752038209362; Tue, 08 Jul 2025 22:16:49 -0700 (PDT) Received: from postal.iol.unh.edu (postal.iol.unh.edu. [2606:4100:3880:1234::84]) by smtp-relay.gmail.com with ESMTPS id 6a1803df08f44-702c4d5b4a3sm6082696d6.63.2025.07.08.22.16.49 (version=TLS1_2 cipher=ECDHE-ECDSA-AES128-GCM-SHA256 bits=128/128); Tue, 08 Jul 2025 22:16:49 -0700 (PDT) X-Relaying-Domain: iol.unh.edu Date: Tue, 08 Jul 2025 22:16:49 -0700 (PDT) Message-ID: <686dfb41.050a0220.384e0b.0b39SMTPIN_ADDED_MISSING@mx.google.com> Received: from [172.21.0.5] (unknown [172.18.0.240]) by postal.iol.unh.edu (Postfix) with ESMTP id 1C2386051830; Wed, 9 Jul 2025 01:16:49 -0400 (EDT) Subject: |SUCCESS| pw154925-154942 [PATCH] [V5,18/18] drivers/net: add hinic3 From: dpdklab@iol.unh.edu To: Test Report Cc: dpdk-test-reports@iol.unh.edu In-Reply-To: <20250702020953.599-19-wff_light@vip.163.com> References: <20250702020953.599-19-wff_light@vip.163.com> Content-Type: text/plain X-BeenThere: test-report@dpdk.org X-Mailman-Version: 2.1.29 Precedence: list List-Id: automatic DPDK test reports List-Unsubscribe: , List-Archive: List-Post: List-Help: List-Subscribe: , Errors-To: test-report-bounces@dpdk.org Test-Label: iol-unit-arm64-testing Test-Status: SUCCESS http://dpdk.org/patch/154942 _Testing PASS_ Submitter: Feifei Wang Date: Wednesday, July 02 2025 02:09:41 DPDK git baseline: Repo:dpdk Branch: master CommitID:ba982f9a1ca9b96ed0394b764f1523d482e963a2 154925-154942 --> testing pass Upstream job id: Generic-Unit-Test-DPDK#353908 Test environment and result as below: +------------------------------+----------------+---------------------------+--------------+------------------------------+ | Environment | dpdk_unit_test | cryptodev_sw_zuc_autotest | lpm_autotest | cryptodev_sw_snow3g_autotest | +==============================+================+===========================+==============+==============================+ | CentOS Stream 10 | PASS | SKIPPED | SKIPPED | SKIPPED | +------------------------------+----------------+---------------------------+--------------+------------------------------+ | CentOS Stream 9 | PASS | SKIPPED | SKIPPED | SKIPPED | +------------------------------+----------------+---------------------------+--------------+------------------------------+ | Debian GNU/Linux 12 | PASS | SKIPPED | SKIPPED | SKIPPED | +------------------------------+----------------+---------------------------+--------------+------------------------------+ | Fedora Linux 40 | PASS | SKIPPED | SKIPPED | SKIPPED | +------------------------------+----------------+---------------------------+--------------+------------------------------+ | Fedora Linux 41 | PASS | SKIPPED | SKIPPED | SKIPPED | +------------------------------+----------------+---------------------------+--------------+------------------------------+ | Ubuntu 20.04 | PASS | SKIPPED | PASS | SKIPPED | +------------------------------+----------------+---------------------------+--------------+------------------------------+ | Red Hat Enterprise Linux 9.5 | PASS | SKIPPED | SKIPPED | SKIPPED | +------------------------------+----------------+---------------------------+--------------+------------------------------+ | Ubuntu 22.04 | PASS | SKIPPED | SKIPPED | SKIPPED | +------------------------------+----------------+---------------------------+--------------+------------------------------+ | Ubuntu 24.04 | PASS | SKIPPED | SKIPPED | SKIPPED | +------------------------------+----------------+---------------------------+--------------+------------------------------+ | Debian 12 (arm) | SKIPPED | PASS | SKIPPED | PASS | +------------------------------+----------------+---------------------------+--------------+------------------------------+ CentOS Stream 10 Kernel: 5.4 Compiler: gcc gcc (GCC) 14.2.1 20250110 (Red Hat 14.2.1-8) CentOS Stream 9 Kernel: 5.4 Compiler: gcc gcc (GCC) 11.5.0 20240719 (Red Hat 11.5.0-7) Debian GNU/Linux 12 Kernel: 5.4 Compiler: gcc gcc (Debian 12.2.0-14+deb12u1) 12.2.0 Fedora Linux 40 Kernel: 5.4 Compiler: gcc gcc (GCC) 14.2.1 20240912 (Red Hat 14.2.1-3) Fedora Linux 41 Kernel: 5.4 Compiler: gcc gcc (GCC) 14.3.1 20250523 (Red Hat 14.3.1-1) Ubuntu 20.04 Kernel: 5.4 Compiler: gcc gcc (Ubuntu 9.4.0-1ubuntu1~20.04.2) 9.4.0 Red Hat Enterprise Linux 9.5 Kernel: 5.4 Compiler: gcc gcc (GCC) 11.5.0 20240719 (Red Hat 11.5.0-2) Ubuntu 22.04 Kernel: 5.4 Compiler: gcc gcc (Ubuntu 11.4.0-1ubuntu1~22.04) 11.4.0 Ubuntu 24.04 Kernel: 5.4 Compiler: gcc gcc (Ubuntu 13.3.0-6ubuntu2~24.04) 13.3.0 Debian 12 (arm) Kernel: Depends on container host Compiler: gcc (Debian 12.2.0-14) 12.2.0 To view detailed results, visit: https://lab.dpdk.org/results/dashboard/patchsets/33560/ UNH-IOL DPDK Community Lab To manage your email subscriptions, visit: https://lab.dpdk.org/results/dashboard/preferences/subscriptions/