From mboxrd@z Thu Jan 1 00:00:00 1970 Return-Path: Received: from mails.dpdk.org (mails.dpdk.org [217.70.189.124]) by inbox.dpdk.org (Postfix) with ESMTP id 175F646A87 for ; Wed, 9 Jul 2025 07:36:06 +0200 (CEST) Received: from mails.dpdk.org (localhost [127.0.0.1]) by mails.dpdk.org (Postfix) with ESMTP id DDCF94013F; Wed, 9 Jul 2025 07:36:05 +0200 (CEST) Received: from mail-yw1-f225.google.com (mail-yw1-f225.google.com [209.85.128.225]) by mails.dpdk.org (Postfix) with ESMTP id D03084013F for ; Wed, 9 Jul 2025 07:36:04 +0200 (CEST) Received: by mail-yw1-f225.google.com with SMTP id 00721157ae682-71173646662so47422637b3.2 for ; Tue, 08 Jul 2025 22:36:04 -0700 (PDT) DKIM-Signature: v=1; a=rsa-sha256; c=relaxed/relaxed; d=iol.unh.edu; s=unh-iol; t=1752039364; x=1752644164; darn=dpdk.org; h=references:in-reply-to:cc:to:from:subject:message-id:date:from:to :cc:subject:date:message-id:reply-to; bh=zAX4CHJECmnTecnHNNAXZel9mRkzGUW6JKC4EtCM5XU=; b=fE7TfMfMS8lhuHwhVAEHKm2eyMG9RICYKg1zSYaPUCsi85/pNKqJ86CqpMYO1zdVlQ 1viPU1e+YXaleuXE4CKk947LIXirv8eM17YIwqUmuIdO8CQXl/8q1TieF2pHjILiORNh 0qV5fFYJjYMg66MBHc9M0j8k1jJSwZ+SnSPEw= X-Google-DKIM-Signature: v=1; a=rsa-sha256; c=relaxed/relaxed; d=1e100.net; s=20230601; t=1752039364; x=1752644164; h=references:in-reply-to:cc:to:from:subject:message-id:date :x-gm-message-state:from:to:cc:subject:date:message-id:reply-to; bh=zAX4CHJECmnTecnHNNAXZel9mRkzGUW6JKC4EtCM5XU=; b=KfGZex/2Pde9D3ApYL8ZjVuzqRYwzdRe9kpcIE0sxJe1DuLCYqkM6Dv7cS9wT0ESpf wdQtVR3f65Si6H1eGYgLmwPv3y3hSG4MZmAm6/m+3+3IMedAS8brnlMXStImFkuBpYU4 n6Og3PBZ4moIylKtpPFfDDfaozzpw59IGjeLHDVbIaXX9vqmIpow9z0QG+ieKSKZR/tg VKjsnOb7cfD7WOjALok6i1ESkDDP0bZWne1Vqwu+TyY6fHAovPaYhBVUDpre8XVKhg0n dNMHYaqPRSCAy0CkdwQNX9yc1oucvHiz+0Y17ZH6k3bEEbQOPKh01NpdxflgzcUH70KZ ghFg== X-Gm-Message-State: AOJu0YyNpvRPprnlWcz/FzqKmi+6MSje3mcxR6LE1q0eMjoylmvM1U/t mljMxn/48SuvagvCErcrCxERGYyJ3wj/nfhndsppk6S3/fSS4zEXuyaLuFNf8b1QzdQimB5bQBq zGMLvsrquxASmlTeQigbSJXQX1rIP69NGLG8wfTPsN6vo X-Gm-Gg: ASbGncvIgyhI0IarV4qNUZYQ2ddlL5lcSNGVt5Ux9MZzOMOP37PFJPpenFJEqBlEGrw s93AmJQ4vKuBS//+BMXzNG856ZErDzvngwevMZXspzuoNowsY3Znkq6QwEADERCqt43+IxmPNjh WH1wKz+3RBTAUbRrDcfCn1uYLlUXIAvk2Z+AB6ZLl/kkiSBNPxQ2QeIgKqkPeXxpn0RzA+aN7nu KlsrrqEFlFBN1qthLD1LAnaSjaPKPhxgKueMWhRDNN81kcjhu1t/Jlc74mEQLD0jzebbUS/p6J+ uF/JLWpLTeRhTlNLivE0hO16H8pHLi5kb9YsAoovoTVduuN/f9B0eiiETkdcCCq67/TgxQ== X-Google-Smtp-Source: AGHT+IHlD3ep79SJd3tTxUklLW/oh0t8BMkkDk/B+sxvK8jUPeSWsFuy5pvjn/C2KwbQkULXfgnumoe8mWm5 X-Received: by 2002:a05:690c:c92:b0:702:d85:5347 with SMTP id 00721157ae682-717b19f28d2mr18238557b3.36.1752039364196; Tue, 08 Jul 2025 22:36:04 -0700 (PDT) Received: from postal.iol.unh.edu (postal.iol.unh.edu. [132.177.123.84]) by smtp-relay.gmail.com with ESMTPS id 00721157ae682-716659b615csm3465327b3.9.2025.07.08.22.36.04 (version=TLS1_2 cipher=ECDHE-ECDSA-AES128-GCM-SHA256 bits=128/128); Tue, 08 Jul 2025 22:36:04 -0700 (PDT) X-Relaying-Domain: iol.unh.edu Date: Tue, 08 Jul 2025 22:36:04 -0700 (PDT) Message-ID: <686dffc4.050a0220.36b7d9.20ecSMTPIN_ADDED_MISSING@mx.google.com> Received: from [172.21.0.6] (unknown [172.18.0.240]) by postal.iol.unh.edu (Postfix) with ESMTP id CFE126051830; Wed, 9 Jul 2025 01:36:03 -0400 (EDT) Subject: |SUCCESS| pw155084 [PATCH] [RFC] add hints to CLAUDE From: dpdklab@iol.unh.edu To: Test Report Cc: dpdk-test-reports@iol.unh.edu In-Reply-To: <20250708190957.10108-1-stephen@networkplumber.org> References: <20250708190957.10108-1-stephen@networkplumber.org> Content-Type: text/plain X-BeenThere: test-report@dpdk.org X-Mailman-Version: 2.1.29 Precedence: list List-Id: automatic DPDK test reports List-Unsubscribe: , List-Archive: List-Post: List-Help: List-Subscribe: , Errors-To: test-report-bounces@dpdk.org Test-Label: iol-unit-amd64-testing Test-Status: SUCCESS http://dpdk.org/patch/155084 _Testing PASS_ Submitter: Stephen Hemminger Date: Tuesday, July 08 2025 19:09:41 DPDK git baseline: Repo:dpdk Branch: master CommitID:e90979eebbea093f6bab2d7c222fc5f5c9a85eff 155084 --> testing pass Upstream job id: Generic-Unit-Test-DPDK#353988 Test environment and result as below: +-------------------------------+----------------+ | Environment | dpdk_unit_test | +===============================+================+ | CentOS Stream 9 | PASS | +-------------------------------+----------------+ | Debian GNU/Linux 12 | PASS | +-------------------------------+----------------+ | CentOS Stream 10 | PASS | +-------------------------------+----------------+ | Fedora Linux 41 | PASS | +-------------------------------+----------------+ | Fedora Linux 40 | PASS | +-------------------------------+----------------+ | Red Hat Enterprise Linux 9.5 | PASS | +-------------------------------+----------------+ | Red Hat Enterprise Linux 8.10 | PASS | +-------------------------------+----------------+ | Ubuntu 20.04 | PASS | +-------------------------------+----------------+ | Ubuntu 22.04 | PASS | +-------------------------------+----------------+ | Ubuntu 24.04 | PASS | +-------------------------------+----------------+ CentOS Stream 9 Kernel: 5.15 Compiler: gcc gcc (GCC) 11.5.0 20240719 (Red Hat 11.5.0-7) Debian GNU/Linux 12 Kernel: 5.15 Compiler: gcc gcc (Debian 12.2.0-14+deb12u1) 12.2.0 CentOS Stream 10 Kernel: 5.15 Compiler: gcc gcc (GCC) 14.2.1 20250110 (Red Hat 14.2.1-8) Fedora Linux 41 Kernel: 5.15 Compiler: gcc gcc (GCC) 14.3.1 20250523 (Red Hat 14.3.1-1) Fedora Linux 40 Kernel: 5.15 Compiler: clang gcc (GCC) 14.2.1 20240912 (Red Hat 14.2.1-3) Red Hat Enterprise Linux 9.5 Kernel: 5.15 Compiler: gcc gcc (GCC) 11.5.0 20240719 (Red Hat 11.5.0-2) Red Hat Enterprise Linux 8.10 Kernel: 5.15 Compiler: gcc gcc (GCC) 8.5.0 20210514 (Red Hat 8.5.0-22) Ubuntu 20.04 Kernel: 5.15 Compiler: gcc gcc (Ubuntu 9.4.0-1ubuntu1~20.04.2) 9.4.0 Ubuntu 22.04 Kernel: 5.15 Compiler: gcc gcc (Ubuntu 11.4.0-1ubuntu1~22.04) 11.4.0 Ubuntu 24.04 Kernel: 5.15 Compiler: gcc gcc (Ubuntu 13.3.0-6ubuntu2~24.04) 13.3.0 To view detailed results, visit: https://lab.dpdk.org/results/dashboard/patchsets/33617/ UNH-IOL DPDK Community Lab To manage your email subscriptions, visit: https://lab.dpdk.org/results/dashboard/preferences/subscriptions/