From mboxrd@z Thu Jan 1 00:00:00 1970 Return-Path: Received: from mails.dpdk.org (mails.dpdk.org [217.70.189.124]) by inbox.dpdk.org (Postfix) with ESMTP id C37FF46A87 for ; Wed, 9 Jul 2025 07:44:07 +0200 (CEST) Received: from mails.dpdk.org (localhost [127.0.0.1]) by mails.dpdk.org (Postfix) with ESMTP id A88204013F; Wed, 9 Jul 2025 07:44:07 +0200 (CEST) Received: from mail-pl1-f227.google.com (mail-pl1-f227.google.com [209.85.214.227]) by mails.dpdk.org (Postfix) with ESMTP id 0A9B24013F for ; Wed, 9 Jul 2025 07:44:06 +0200 (CEST) Received: by mail-pl1-f227.google.com with SMTP id d9443c01a7336-235d6de331fso66744685ad.3 for ; Tue, 08 Jul 2025 22:44:05 -0700 (PDT) DKIM-Signature: v=1; a=rsa-sha256; c=relaxed/relaxed; d=iol.unh.edu; s=unh-iol; t=1752039845; x=1752644645; darn=dpdk.org; h=references:in-reply-to:cc:to:from:subject:message-id:date:from:to :cc:subject:date:message-id:reply-to; bh=xdBDDcTwf0TPVDa8ryIBPpXGNr49wYAqat/DoPsk8pA=; b=htfXE5IU6CU/KpPkwlnvqjZvrjqMKV3K+fGilOdolv97/HEi12+YQcCu5Yp+N3Z0fo RDCtGh2+9u+CCHVs58nbS63kkvVpD05hIMQxgAUjNxbSyM9w1KvKtAc45Wv1lhKMISZH lrxXmBrC9Fscu/HTbyX+ODrsRPohL5uLXniag= X-Google-DKIM-Signature: v=1; a=rsa-sha256; c=relaxed/relaxed; d=1e100.net; s=20230601; t=1752039845; x=1752644645; h=references:in-reply-to:cc:to:from:subject:message-id:date :x-gm-message-state:from:to:cc:subject:date:message-id:reply-to; bh=xdBDDcTwf0TPVDa8ryIBPpXGNr49wYAqat/DoPsk8pA=; b=NYXOcVlQ8wRCn/lg/NtDuDAL2IGVB4+Guug+5PKO3qsQG8wwSeoJZV0k7ldXFCY8c4 a6fEb73NSUvyMRr1nrkmfh53DbmAEn4bXsyzBOBOlOzzU0JZHynzHXiwBi985IOxU0MA /OMNziVepaLDIaAgyvoklQn74oDdeuA6TX+FuSE5o6uSU3kAepeEBbFrlgZPML8/f3jX Cs1aM+Zk3Yg4zfgLlwjXrtkg4+7tC1MFTEbzwPqXA54Fn0MzT1E/CYk6ySSdcm5/bYgd qrbxmFyH/wdu/RKbQ34/vvl2gkPXeotjIXXXao4elDak+XAL7Wl2k41jPdjl7s1UO63F MiBQ== X-Gm-Message-State: AOJu0Yzj5yXVUksxWToN+DUZb+/bc5/BqEqQPkwNsS2eVtKjaZ8IwAe0 J8IsDgCtghBSZND7VZtyDvmB/5FsTwIOGXZn+/dK0LOflyOuNcasD7lob+r6yicylsWzfp/4esh 4ER5sxmLz9PQI6GQCvwdyuk+sn3xY5jqjUnly3n5WsCEC X-Gm-Gg: ASbGncuI9TZijunvU4S4dj1apdUIAtCSbBT+rVosVdez4Rz+IWPJLQbZB5a8lam5gi3 b27TBurtNzPz5LvIJ72+FeakuwXifPwV4G2TycqWWsp/09AWmRqilp7HZCUaHAU5rYAmLbShbL4 mrd+ZLzRMQ/d/OWoENFN2ph0NqxiBOCJo1bMfg3F25vlgQ5i3MOAlvCrv64x71mE1DfbUkH1RdN 79hJQ31roeF0/qr9D0LRR3Aof8vrbbGWMA710pQqLrJraW10RzXx3R+u5TpI7xWVgo9I9Dvuep7 5+KXj85kVKRBNgNuYWzf8bisfNeZfjpwKX8vL6KpD+CCHGOgd6jz/yuGNefgz59qxlu8vw== X-Google-Smtp-Source: AGHT+IFjVuxPnS8kwvn5lkFimtrcBifKpAgo2A/YZJF+mmPAMcQ6T+jpP7rYoGL3XFw3/A0L+Bz8ymw1EHuk X-Received: by 2002:a17:903:124b:b0:234:ed31:fcaa with SMTP id d9443c01a7336-23ddb34450dmr17807935ad.50.1752039845101; Tue, 08 Jul 2025 22:44:05 -0700 (PDT) Received: from postal.iol.unh.edu (postal.iol.unh.edu. [132.177.123.84]) by smtp-relay.gmail.com with ESMTPS id d9443c01a7336-23c84508bc9sm6245705ad.97.2025.07.08.22.44.04 (version=TLS1_2 cipher=ECDHE-ECDSA-AES128-GCM-SHA256 bits=128/128); Tue, 08 Jul 2025 22:44:05 -0700 (PDT) X-Relaying-Domain: iol.unh.edu Date: Tue, 08 Jul 2025 22:44:05 -0700 (PDT) Message-ID: <686e01a5.170a0220.1d6235.25c4SMTPIN_ADDED_MISSING@mx.google.com> Received: from [172.21.0.6] (unknown [172.18.0.240]) by postal.iol.unh.edu (Postfix) with ESMTP id 8ED396051830; Wed, 9 Jul 2025 01:44:04 -0400 (EDT) Subject: |WARNING| pw154925-154942 [PATCH] [V5,18/18] drivers/net: add hinic3 From: dpdklab@iol.unh.edu To: Test Report Cc: dpdk-test-reports@iol.unh.edu In-Reply-To: <20250702020953.599-19-wff_light@vip.163.com> References: <20250702020953.599-19-wff_light@vip.163.com> Content-Type: text/plain X-BeenThere: test-report@dpdk.org X-Mailman-Version: 2.1.29 Precedence: list List-Id: automatic DPDK test reports List-Unsubscribe: , List-Archive: List-Post: List-Help: List-Subscribe: , Errors-To: test-report-bounces@dpdk.org Test-Label: iol-compile-amd64-testing Test-Status: WARNING http://dpdk.org/patch/154942 _Testing issues_ Submitter: Feifei Wang Date: Wednesday, July 02 2025 02:09:41 DPDK git baseline: Repo:dpdk Branch: master CommitID:ba982f9a1ca9b96ed0394b764f1523d482e963a2 154925-154942 --> testing issues Upstream job id: Generic-DPDK-Compile-Meson#406951 Test environment and result as below: +-------------------------------+--------------------+-------------------+------------------+-------------------+ | Environment | dpdk_meson_compile | dpdk_compile_spdk | dpdk_compile_ovs | dpdk_msvc_compile | +===============================+====================+===================+==================+===================+ | CentOS Stream 9 | PASS | PASS | SKIPPED | SKIPPED | +-------------------------------+--------------------+-------------------+------------------+-------------------+ | Debian GNU/Linux 12 | PASS | PASS | SKIPPED | SKIPPED | +-------------------------------+--------------------+-------------------+------------------+-------------------+ | CentOS Stream 10 | PASS | SKIPPED | SKIPPED | SKIPPED | +-------------------------------+--------------------+-------------------+------------------+-------------------+ | openSUSE Leap 15.6 | PASS | SKIPPED | SKIPPED | SKIPPED | +-------------------------------+--------------------+-------------------+------------------+-------------------+ | Fedora Linux 41 | PASS | WARN | PASS | SKIPPED | +-------------------------------+--------------------+-------------------+------------------+-------------------+ | Fedora Linux 40 | PASS | PASS | SKIPPED | SKIPPED | +-------------------------------+--------------------+-------------------+------------------+-------------------+ | Red Hat Enterprise Linux 9.5 | PASS | SKIPPED | SKIPPED | SKIPPED | +-------------------------------+--------------------+-------------------+------------------+-------------------+ | Red Hat Enterprise Linux 8.10 | PASS | SKIPPED | SKIPPED | SKIPPED | +-------------------------------+--------------------+-------------------+------------------+-------------------+ | Ubuntu 22.04 | PASS | PASS | SKIPPED | SKIPPED | +-------------------------------+--------------------+-------------------+------------------+-------------------+ | Ubuntu 20.04 | PASS | SKIPPED | SKIPPED | SKIPPED | +-------------------------------+--------------------+-------------------+------------------+-------------------+ | Ubuntu 24.04 | PASS | PASS | PASS | SKIPPED | +-------------------------------+--------------------+-------------------+------------------+-------------------+ | Alpine Linux 3.22.0 | PASS | SKIPPED | SKIPPED | SKIPPED | +-------------------------------+--------------------+-------------------+------------------+-------------------+ | FreeBSD 14.2 | PASS | SKIPPED | SKIPPED | SKIPPED | +-------------------------------+--------------------+-------------------+------------------+-------------------+ | Windows Server 2022 | SKIPPED | SKIPPED | SKIPPED | PASS | +-------------------------------+--------------------+-------------------+------------------+-------------------+ ==== 20 line log output for Fedora Linux 41 (dpdk_compile_spdk): ==== --- Failed to get log output --- ==== End log output ==== CentOS Stream 9 Kernel: 5.15 Compiler: gcc gcc (GCC) 11.5.0 20240719 (Red Hat 11.5.0-7) Debian GNU/Linux 12 Kernel: 5.15 Compiler: gcc gcc (Debian 12.2.0-14+deb12u1) 12.2.0 CentOS Stream 10 Kernel: 5.15 Compiler: gcc gcc (GCC) 14.2.1 20250110 (Red Hat 14.2.1-8) openSUSE Leap 15.6 Kernel: 5.15 Compiler: gcc gcc (SUSE Linux) 7.5.0 Fedora Linux 41 Kernel: 5.15 Compiler: gcc gcc (GCC) 14.3.1 20250523 (Red Hat 14.3.1-1) Fedora Linux 40 Kernel: 5.15 Compiler: clang gcc (GCC) 14.2.1 20240912 (Red Hat 14.2.1-3) Red Hat Enterprise Linux 9.5 Kernel: 5.15 Compiler: gcc gcc (GCC) 11.5.0 20240719 (Red Hat 11.5.0-2) Red Hat Enterprise Linux 8.10 Kernel: 5.15 Compiler: gcc gcc (GCC) 8.5.0 20210514 (Red Hat 8.5.0-22) Ubuntu 22.04 Kernel: 5.15 Compiler: gcc gcc (Ubuntu 11.4.0-1ubuntu1~22.04) 11.4.0 Ubuntu 20.04 Kernel: 4.19 Compiler: gcc gcc (Ubuntu 9.4.0-1ubuntu1~20.04.2) 9.4.0 Ubuntu 24.04 Kernel: 5.15 Compiler: gcc gcc (Ubuntu 13.3.0-6ubuntu2~24.04) 13.3.0 Alpine Linux 3.22.0 Kernel: 5.15 Compiler: gcc gcc (Alpine 14.2.0) 14.2.0 FreeBSD 14.2 Kernel: 14.2-RELEASE Compiler: clang 18.1.6 Windows Server 2022 Kernel: 10.0.20348.2031 Compiler: clang 15.0.7, gcc 14.1.0 (MinGW), and MSVC VS 19.39.33521 To view detailed results, visit: https://lab.dpdk.org/results/dashboard/patchsets/33560/ UNH-IOL DPDK Community Lab To manage your email subscriptions, visit: https://lab.dpdk.org/results/dashboard/preferences/subscriptions/