From mboxrd@z Thu Jan 1 00:00:00 1970 Return-Path: Received: from mails.dpdk.org (mails.dpdk.org [217.70.189.124]) by inbox.dpdk.org (Postfix) with ESMTP id A90E046A87 for ; Wed, 9 Jul 2025 07:53:31 +0200 (CEST) Received: from mails.dpdk.org (localhost [127.0.0.1]) by mails.dpdk.org (Postfix) with ESMTP id 746A34013F; Wed, 9 Jul 2025 07:53:31 +0200 (CEST) Received: from mail-yb1-f226.google.com (mail-yb1-f226.google.com [209.85.219.226]) by mails.dpdk.org (Postfix) with ESMTP id 018F04013F for ; Wed, 9 Jul 2025 07:53:29 +0200 (CEST) Received: by mail-yb1-f226.google.com with SMTP id 3f1490d57ef6-e7b4ba530feso4335203276.1 for ; Tue, 08 Jul 2025 22:53:29 -0700 (PDT) DKIM-Signature: v=1; a=rsa-sha256; c=relaxed/relaxed; d=iol.unh.edu; s=unh-iol; t=1752040409; x=1752645209; darn=dpdk.org; h=references:in-reply-to:cc:to:from:subject:message-id:date:from:to :cc:subject:date:message-id:reply-to; bh=QvLgxwBB6WRDjUPxnftbDO35T+qwmcYH69MjQFIodEU=; b=hDGIr8Ion0fS6N/MQNBuKh2AAWs/PO3eQJkSccuV4EfPBdN0VMAoeTtxRi8HOvmr+h K0Ehnxo1Gp7QaZZrdLev+OhGWi9wsaMOcJDeBi1olGTyakVH+zj/GBn1TXn728Zj6l6h /HnZWgPF5KXGjA0+ElBjSZEfBwN8cSfICiTdk= X-Google-DKIM-Signature: v=1; a=rsa-sha256; c=relaxed/relaxed; d=1e100.net; s=20230601; t=1752040409; x=1752645209; h=references:in-reply-to:cc:to:from:subject:message-id:date :x-gm-message-state:from:to:cc:subject:date:message-id:reply-to; bh=QvLgxwBB6WRDjUPxnftbDO35T+qwmcYH69MjQFIodEU=; b=teZj/T/w0W9FzVRI/uOreLVBkB0gr9w/P4QXJqR5RBoTjXcsIPzJWAkOTqh79wbyIP nJcTPHv1GiONmlTMhnLsJqMkJwlcctZn0QFmz3oNxTHvTTua8nR7dptWKKD0189YfonW wFMhS0SkXzArTRmIEyq9db3ebzl66Apuw52bhWs84NJ8lmWKlDiunlaJFMNsDAa5Tc4Y I3GXZoZhglhIt2I/iHx53XXhqZYvil7rfG2oUS22FOalTLtfPpeBcDutjrX9dRLDatp8 4F2cz6K9en1lfCySenWI3olt5JjV/5NbTlggrjqiflke/uft/shHkb5Q68Js7hrRNzN+ FnYw== X-Gm-Message-State: AOJu0YywqTF+zsmNDoqx3EhB5gdQiREA9eVOVBpLtoOGqmUKXXKzmQax Pte0kQCHVuLg2gnoeq1ZHaGY3svJlJjD3r4y0vgcSQ4a4LFeqEGktQxbjl0zw0vlGGYFdhIfLdh OD0KpMF9AraAJ0R/O+TS1L4k+lRu9/ParfBQ0c51pOE3jzDEXJJA26lFTPSxY X-Gm-Gg: ASbGnctdgR6cZ+1oer9evipgqxPX+Xv5FgS6IILEATadhpKY8k91uv9YzDAsUflsh6C PCEUf1+B56eeAU7ctEsn8MxFDnzoXV6zgdJshutgs6qJIWcrvN1DxM2F+VdmCUc1WaA4Mhizawk SNJsOQkfKvjt1pPZCVYyaOJ19PC5t78wQE5VU3KH9fPoxH3u2h47/umcJIK0KFOKHvnQUJgzQ8Y XbXp1Q0LlJqb9pR2WTsfCXF45WonowTsblGuIIT2fKo82oml2OZZ3fl9LFIbkB1b1vVxr5u0PAc mMlcrprR2tUo2Z0oPqEaSqBbDQrndYNtX2PJIgOKP241sj0= X-Google-Smtp-Source: AGHT+IG5nVb1+nuMS8zhxs060lDQug0kzLv1N5LdZIal3qRXNGEmdlKDnofbUXDBs727LW5hFr1XrsskMSXe X-Received: by 2002:a05:6902:1144:b0:e82:1c32:2ac1 with SMTP id 3f1490d57ef6-e8b6e0b299bmr1813562276.8.1752040409274; Tue, 08 Jul 2025 22:53:29 -0700 (PDT) Received: from postal.iol.unh.edu (postal.iol.unh.edu. [2606:4100:3880:1234::84]) by smtp-relay.gmail.com with ESMTPS id 3f1490d57ef6-e899c40288csm318912276.16.2025.07.08.22.53.29 (version=TLS1_2 cipher=ECDHE-ECDSA-AES128-GCM-SHA256 bits=128/128); Tue, 08 Jul 2025 22:53:29 -0700 (PDT) X-Relaying-Domain: iol.unh.edu Date: Tue, 08 Jul 2025 22:53:29 -0700 (PDT) Message-ID: <686e03d9.050a0220.221750.06aaSMTPIN_ADDED_MISSING@mx.google.com> Received: from [172.21.0.10] (unknown [172.18.0.240]) by postal.iol.unh.edu (Postfix) with ESMTP id E18946051830; Wed, 9 Jul 2025 01:53:28 -0400 (EDT) Subject: |WARNING| pw154945-154949 [PATCH] [v3,5/5] dts: add performance test From: dpdklab@iol.unh.edu To: Test Report Cc: dpdk-test-reports@iol.unh.edu In-Reply-To: <20250702052154.381690-5-probb@iol.unh.edu> References: <20250702052154.381690-5-probb@iol.unh.edu> Content-Type: text/plain X-BeenThere: test-report@dpdk.org X-Mailman-Version: 2.1.29 Precedence: list List-Id: automatic DPDK test reports List-Unsubscribe: , List-Archive: List-Post: List-Help: List-Subscribe: , Errors-To: test-report-bounces@dpdk.org Test-Label: iol-compile-amd64-testing Test-Status: WARNING http://dpdk.org/patch/154949 _Testing issues_ Submitter: Patrick Robb Date: Wednesday, July 02 2025 05:21:54 DPDK git baseline: Repo:dpdk Branch: master CommitID:e90979eebbea093f6bab2d7c222fc5f5c9a85eff 154945-154949 --> testing issues Upstream job id: Generic-DPDK-Compile-Meson#406904 Test environment and result as below: +-------------------------------+--------------------+-------------------+------------------+-------------------+ | Environment | dpdk_meson_compile | dpdk_compile_spdk | dpdk_compile_ovs | dpdk_msvc_compile | +===============================+====================+===================+==================+===================+ | CentOS Stream 9 | PASS | PASS | SKIPPED | SKIPPED | +-------------------------------+--------------------+-------------------+------------------+-------------------+ | CentOS Stream 10 | PASS | SKIPPED | SKIPPED | SKIPPED | +-------------------------------+--------------------+-------------------+------------------+-------------------+ | Debian GNU/Linux 12 | PASS | PASS | SKIPPED | SKIPPED | +-------------------------------+--------------------+-------------------+------------------+-------------------+ | Fedora Linux 40 | PASS | PASS | SKIPPED | SKIPPED | +-------------------------------+--------------------+-------------------+------------------+-------------------+ | Fedora Linux 41 | PASS | WARN | PASS | SKIPPED | +-------------------------------+--------------------+-------------------+------------------+-------------------+ | openSUSE Leap 15.6 | PASS | SKIPPED | SKIPPED | SKIPPED | +-------------------------------+--------------------+-------------------+------------------+-------------------+ | Red Hat Enterprise Linux 8.10 | PASS | SKIPPED | SKIPPED | SKIPPED | +-------------------------------+--------------------+-------------------+------------------+-------------------+ | Red Hat Enterprise Linux 9.5 | PASS | SKIPPED | SKIPPED | SKIPPED | +-------------------------------+--------------------+-------------------+------------------+-------------------+ | Ubuntu 20.04 | PASS | SKIPPED | SKIPPED | SKIPPED | +-------------------------------+--------------------+-------------------+------------------+-------------------+ | FreeBSD 14.2 | PASS | SKIPPED | SKIPPED | SKIPPED | +-------------------------------+--------------------+-------------------+------------------+-------------------+ | Ubuntu 22.04 | PASS | PASS | SKIPPED | SKIPPED | +-------------------------------+--------------------+-------------------+------------------+-------------------+ | Ubuntu 24.04 | PASS | PASS | PASS | SKIPPED | +-------------------------------+--------------------+-------------------+------------------+-------------------+ | Alpine Linux 3.22.0 | PASS | SKIPPED | SKIPPED | SKIPPED | +-------------------------------+--------------------+-------------------+------------------+-------------------+ | Windows Server 2022 | SKIPPED | SKIPPED | SKIPPED | PASS | +-------------------------------+--------------------+-------------------+------------------+-------------------+ ==== 20 line log output for Fedora Linux 41 (dpdk_compile_spdk): ==== --- Failed to get log output --- ==== End log output ==== CentOS Stream 9 Kernel: 5.15 Compiler: gcc gcc (GCC) 11.5.0 20240719 (Red Hat 11.5.0-7) CentOS Stream 10 Kernel: 5.15 Compiler: gcc gcc (GCC) 14.2.1 20250110 (Red Hat 14.2.1-8) Debian GNU/Linux 12 Kernel: 5.15 Compiler: gcc gcc (Debian 12.2.0-14+deb12u1) 12.2.0 Fedora Linux 40 Kernel: 5.15 Compiler: clang gcc (GCC) 14.2.1 20240912 (Red Hat 14.2.1-3) Fedora Linux 41 Kernel: 5.15 Compiler: gcc gcc (GCC) 14.3.1 20250523 (Red Hat 14.3.1-1) openSUSE Leap 15.6 Kernel: 5.15 Compiler: gcc gcc (SUSE Linux) 7.5.0 Red Hat Enterprise Linux 8.10 Kernel: 5.15 Compiler: gcc gcc (GCC) 8.5.0 20210514 (Red Hat 8.5.0-22) Red Hat Enterprise Linux 9.5 Kernel: 5.15 Compiler: gcc gcc (GCC) 11.5.0 20240719 (Red Hat 11.5.0-2) Ubuntu 20.04 Kernel: 5.15 Compiler: gcc gcc (Ubuntu 9.4.0-1ubuntu1~20.04.2) 9.4.0 FreeBSD 14.2 Kernel: 14.2-RELEASE Compiler: clang 18.1.6 Ubuntu 22.04 Kernel: 5.15 Compiler: gcc gcc (Ubuntu 11.4.0-1ubuntu1~22.04) 11.4.0 Ubuntu 24.04 Kernel: 5.15 Compiler: gcc gcc (Ubuntu 13.3.0-6ubuntu2~24.04) 13.3.0 Alpine Linux 3.22.0 Kernel: 5.15 Compiler: gcc gcc (Alpine 14.2.0) 14.2.0 Windows Server 2022 Kernel: 10.0.20348.2031 Compiler: clang 15.0.7, gcc 14.1.0 (MinGW), and MSVC VS 19.39.33521 To view detailed results, visit: https://lab.dpdk.org/results/dashboard/patchsets/33562/ UNH-IOL DPDK Community Lab To manage your email subscriptions, visit: https://lab.dpdk.org/results/dashboard/preferences/subscriptions/