From mboxrd@z Thu Jan 1 00:00:00 1970 Return-Path: Received: from mails.dpdk.org (mails.dpdk.org [217.70.189.124]) by inbox.dpdk.org (Postfix) with ESMTP id 3023846A45 for ; Wed, 9 Jul 2025 07:59:48 +0200 (CEST) Received: from mails.dpdk.org (localhost [127.0.0.1]) by mails.dpdk.org (Postfix) with ESMTP id 2C0794013F; Wed, 9 Jul 2025 07:59:48 +0200 (CEST) Received: from mail-yb1-f225.google.com (mail-yb1-f225.google.com [209.85.219.225]) by mails.dpdk.org (Postfix) with ESMTP id B2232402C9 for ; Wed, 9 Jul 2025 07:59:45 +0200 (CEST) Received: by mail-yb1-f225.google.com with SMTP id 3f1490d57ef6-e87c86845d9so4101290276.1 for ; Tue, 08 Jul 2025 22:59:45 -0700 (PDT) DKIM-Signature: v=1; a=rsa-sha256; c=relaxed/relaxed; d=iol.unh.edu; s=unh-iol; t=1752040785; x=1752645585; darn=dpdk.org; h=references:in-reply-to:cc:to:from:subject:message-id:date:from:to :cc:subject:date:message-id:reply-to; bh=9WmIvzsRTrjqIUVR94QoOn+r/RYPWggegt7pvbQAsIw=; b=CGrpt9rnsE4eTKB+MDAnUVqIoIlB8Cn8kMiS+/tQIQvxgS+zwUYHpUjogrwiAW984A P64ulF7GNOv03GKY/3kEj4NfH6cVxmzWYE04NjuT94C+qgCjweyTNScw3BwnfMavA+n6 g2GzafaEqZR/4Of8ocTxJaPKj0S1pV1xDm/fI= X-Google-DKIM-Signature: v=1; a=rsa-sha256; c=relaxed/relaxed; d=1e100.net; s=20230601; t=1752040785; x=1752645585; h=references:in-reply-to:cc:to:from:subject:message-id:date :x-gm-message-state:from:to:cc:subject:date:message-id:reply-to; bh=9WmIvzsRTrjqIUVR94QoOn+r/RYPWggegt7pvbQAsIw=; b=WPHR58W0lIVGdYvG+WbByorHpsgL4r50dVhvg9gm1AkbiOqGd0T/P9EWu1OQCxUV5I XgRpK/jEu9+bE8ViVxDEUrVWDMv2u8du4HB+e62jwbNuVv84ma/mgSdM12eVPMiLV9IN kjm6BxDpw+1oWiQzm4YfY5QTVKlRc/70VdPQQ74A9zdcBEqRQ7TqAhCBiRJEGHbZmqCI o1d5Lb7Jlv0bERXgx1N9X6za4WRweK5OQTxhoD67uZG66QXCFxj8yokvyrPojzVzIhw4 DJa4nD5QBBUKwwbuPX0qWN/7oiiL1F/lAnKGtmzRvCeV4vBLvxGoMo8yMyGOhI6se6PW 67ZA== X-Gm-Message-State: AOJu0YwuPrgNgni6MpwvLz//htM06Zep4e5gid0QG/mxn10dLx2KpIf8 Curyz5hqts11UbFnZNZ40nUStROtRN4fF4+GPrMrSE5JJnZK/Yns5Rh4XehG7iwAfn/HbhraOkO q2KFgWEr6btNLahFoBO2XMctY8OrP/e3xnjnF0F4kf+WHJY+w8kDVS+TojFhw X-Gm-Gg: ASbGnctwvnbNxrL/2z2+CEyTFevy5rGDRd3ZTm/wqO0MBcINwUwyFbXKuJzho28btBL /Rh+HqGmdWlmWKj7v5nDYpyBP5R4/yLuyYJV93y9kawBlVtnLUNuJbskk3dRvIA5NTWK64cphWM EmimJQejNqXuKYSwdjsEqMA9DIdx+GJuLFDEwQin73rp0oDnx/DsngtPH24wHMonU1kEjG/Tyjr qMbDbsWhC2su+gAdabQA1q+nSjJ3i8bR6EjDbH4VbWYjb0ZEo7EUuXQ3gwenXQCnye2zgxnZLjK 16WY6sL1rEjJ2zjnnG/3pYQoy+7SXxjxWDdjfy7FbnjDInw= X-Google-Smtp-Source: AGHT+IGAEQtX/pQGZzIt75TdRmNgzzc8RJvTrsuVehD70kpmiAJ6+F6ly77emuQ+cHo8+VAP+msIWD4hAsCk X-Received: by 2002:a05:6902:f85:b0:e87:c794:8dfc with SMTP id 3f1490d57ef6-e8b6e1bf618mr1733527276.40.1752040785068; Tue, 08 Jul 2025 22:59:45 -0700 (PDT) Received: from postal.iol.unh.edu (postal.iol.unh.edu. [2606:4100:3880:1234::84]) by smtp-relay.gmail.com with ESMTPS id 3f1490d57ef6-e899c140d50sm623192276.0.2025.07.08.22.59.45 (version=TLS1_2 cipher=ECDHE-ECDSA-AES128-GCM-SHA256 bits=128/128); Tue, 08 Jul 2025 22:59:45 -0700 (PDT) X-Relaying-Domain: iol.unh.edu Date: Tue, 08 Jul 2025 22:59:45 -0700 (PDT) Message-ID: <686e0551.250a0220.8fd4a.0a0dSMTPIN_ADDED_MISSING@mx.google.com> Received: from [172.21.0.8] (unknown [172.18.0.240]) by postal.iol.unh.edu (Postfix) with ESMTP id BB34A6051830; Wed, 9 Jul 2025 01:59:44 -0400 (EDT) Subject: |SUCCESS| pw154945-154949 [PATCH] [v3,5/5] dts: add performance test From: dpdklab@iol.unh.edu To: Test Report Cc: dpdk-test-reports@iol.unh.edu In-Reply-To: <20250702052154.381690-5-probb@iol.unh.edu> References: <20250702052154.381690-5-probb@iol.unh.edu> Content-Type: text/plain X-BeenThere: test-report@dpdk.org X-Mailman-Version: 2.1.29 Precedence: list List-Id: automatic DPDK test reports List-Unsubscribe: , List-Archive: List-Post: List-Help: List-Subscribe: , Errors-To: test-report-bounces@dpdk.org Test-Label: iol-compile-arm64-testing Test-Status: SUCCESS http://dpdk.org/patch/154949 _Testing PASS_ Submitter: Patrick Robb Date: Wednesday, July 02 2025 05:21:54 DPDK git baseline: Repo:dpdk Branch: master CommitID:e90979eebbea093f6bab2d7c222fc5f5c9a85eff 154945-154949 --> testing pass Upstream job id: Generic-DPDK-Compile-Meson#406921 Test environment and result as below: +------------------------------+--------------------+ | Environment | dpdk_meson_compile | +==============================+====================+ | Red Hat Enterprise Linux 9.5 | PASS | +------------------------------+--------------------+ | Ubuntu 20.04 | PASS | +------------------------------+--------------------+ | Debian GNU/Linux 12 | PASS | +------------------------------+--------------------+ | Fedora Linux 41 | PASS | +------------------------------+--------------------+ | Fedora Linux 40 | PASS | +------------------------------+--------------------+ | Ubuntu 22.04 | PASS | +------------------------------+--------------------+ | Ubuntu 24.04 | PASS | +------------------------------+--------------------+ | CentOS Stream 9 | PASS | +------------------------------+--------------------+ | CentOS Stream 10 | PASS | +------------------------------+--------------------+ Red Hat Enterprise Linux 9.5 Kernel: 5.4 Compiler: gcc gcc (GCC) 11.5.0 20240719 (Red Hat 11.5.0-2) Ubuntu 20.04 Kernel: 5.15 Compiler: aarch64-linux-gnu-gcc gcc (Ubuntu 9.4.0-1ubuntu1~20.04.2) 9.4.0 Debian GNU/Linux 12 Kernel: 5.4 Compiler: gcc gcc (Debian 12.2.0-14+deb12u1) 12.2.0 Fedora Linux 41 Kernel: 5.4 Compiler: clang gcc (GCC) 14.3.1 20250523 (Red Hat 14.3.1-1) Fedora Linux 40 Kernel: 5.4 Compiler: clang gcc (GCC) 14.2.1 20240912 (Red Hat 14.2.1-3) Ubuntu 22.04 Kernel: 5.4 Compiler: gcc gcc (Ubuntu 11.4.0-1ubuntu1~22.04) 11.4.0 Ubuntu 24.04 Kernel: 5.4 Compiler: gcc gcc (Ubuntu 13.3.0-6ubuntu2~24.04) 13.3.0 CentOS Stream 9 Kernel: 5.4 Compiler: gcc gcc (GCC) 11.5.0 20240719 (Red Hat 11.5.0-7) CentOS Stream 10 Kernel: 5.4 Compiler: gcc gcc (GCC) 14.2.1 20250110 (Red Hat 14.2.1-8) To view detailed results, visit: https://lab.dpdk.org/results/dashboard/patchsets/33562/ UNH-IOL DPDK Community Lab To manage your email subscriptions, visit: https://lab.dpdk.org/results/dashboard/preferences/subscriptions/