From mboxrd@z Thu Jan 1 00:00:00 1970 Return-Path: Received: from mails.dpdk.org (mails.dpdk.org [217.70.189.124]) by inbox.dpdk.org (Postfix) with ESMTP id E4E9D46AF7 for ; Wed, 9 Jul 2025 08:06:53 +0200 (CEST) Received: from mails.dpdk.org (localhost [127.0.0.1]) by mails.dpdk.org (Postfix) with ESMTP id BE0054013F; Wed, 9 Jul 2025 08:06:53 +0200 (CEST) Received: from mail-oa1-f98.google.com (mail-oa1-f98.google.com [209.85.160.98]) by mails.dpdk.org (Postfix) with ESMTP id 8E9984013F for ; Wed, 9 Jul 2025 08:06:52 +0200 (CEST) Received: by mail-oa1-f98.google.com with SMTP id 586e51a60fabf-2c6ed7efb1dso4380369fac.2 for ; Tue, 08 Jul 2025 23:06:52 -0700 (PDT) DKIM-Signature: v=1; a=rsa-sha256; c=relaxed/relaxed; d=iol.unh.edu; s=unh-iol; t=1752041212; x=1752646012; darn=dpdk.org; h=references:in-reply-to:cc:to:from:subject:message-id:date:from:to :cc:subject:date:message-id:reply-to; bh=S9cq9rMHVcLkm84jT5NYsHv2Y8RTYydzzKtEFJe9lw4=; b=gJ6wGBNBlts7z0ja7sJ9b3x+B1roXZFCkPl3lZ2mjXTGUYw+m80TObgQWgadC0xMdA 35+dOsQMX8rdd2Ws0kN6UF9FdTqaym0MkqfJJmUrFcARCl78f6wS4LQoDwaSUkea9R0a LEvYNrCPx/ZjkR83TTny92HfXuQE+PHz6os/w= X-Google-DKIM-Signature: v=1; a=rsa-sha256; c=relaxed/relaxed; d=1e100.net; s=20230601; t=1752041212; x=1752646012; h=references:in-reply-to:cc:to:from:subject:message-id:date :x-gm-message-state:from:to:cc:subject:date:message-id:reply-to; bh=S9cq9rMHVcLkm84jT5NYsHv2Y8RTYydzzKtEFJe9lw4=; b=XJfyzrJbSi4mSXdDMTpurxX3uVqex2zOv1oYAD/GOlGGRaR9Ey1q8qscem8nNybU38 nMiztFAM57lifs4eVdthuPMeaxomHCAuapmZE2zRWg8SKBDONm5cSJeAGgXLIJn7lty+ c1BpRfA6E1I6nGM+OWxsnZSSVk0CYZeH6Yq1+gEQDbX2eTJLAjpbViuHNe3DipL4TH7p y150XqVBVuW2OmTR7g0w6AJbJ0j175DG5DiyDg0d4/+UhR/6WECwwo63tBLJ5HDZa9xA 0O/CYOkM3rowiQaDecf+CZITfvasCjPNWKF3FsbAhR98Ip/y3E9LroW7/UvD906+OLIj G5RQ== X-Gm-Message-State: AOJu0YzovrnMipBOUGTwPl6PVMlZC2PDdNPt1VTGfeibL9LLGaKAsRpo NxHd9p7yLZB5PxtOsW6zivlrsHcC+0tm5A0HTnHAOjwTGZJ0180SD7dcotVa4aQ+cHu9V5Vavf4 i2NOi2EufmSlotNEI9+mTmQEe+SJyipVQvuuL6ofFsMpL X-Gm-Gg: ASbGnctGmMcdKvd+Tq9xAVm/ky1qDcHtcvB26OnO3ja2+wmPUJkGbZDKfTd6worS4uz 60t/bKY7+cpWrqBUDjmcnLXqd+tlnNCKVKZGisJhyD6kKilwDgeMgmtBZfnsjtDyERvUSxcGBwW NWuOG9ItoGfm1bJzXMba4uT8kjoWO07TKsFopPF4aMnBb5bQdDXuVGads+OsaoHzGdfDUGgjcjh SyCqBHftzRcCc69kNwF70dvo2i8JDOYVf6yMaFl30Ecy6RXmKgJK3Ej8iR2BPQHzcfvLf2PcnoB Xu4ADTXAgOz7uFHifMpNZjxv+yu2wTB7m9IYrr5M5Yuwvmx/AEyPuSq/iHc6TV/qRSP3Tg== X-Google-Smtp-Source: AGHT+IEngypaCrc8UiJxiDuwJXOT4hOin5Az1b3NDu3fLLZVzfOA9A5SqNkp/kCytRZfEaNbueI+5aOox+Vg X-Received: by 2002:a05:6871:5288:b0:2f4:da72:56a4 with SMTP id 586e51a60fabf-2fef8484cf1mr763412fac.1.1752041211762; Tue, 08 Jul 2025 23:06:51 -0700 (PDT) Received: from postal.iol.unh.edu (postal.iol.unh.edu. [132.177.123.84]) by smtp-relay.gmail.com with ESMTPS id 586e51a60fabf-2f790184619sm769498fac.39.2025.07.08.23.06.51 (version=TLS1_2 cipher=ECDHE-ECDSA-AES128-GCM-SHA256 bits=128/128); Tue, 08 Jul 2025 23:06:51 -0700 (PDT) X-Relaying-Domain: iol.unh.edu Date: Tue, 08 Jul 2025 23:06:51 -0700 (PDT) Message-ID: <686e06fb.050a0220.3418ef.84b0SMTPIN_ADDED_MISSING@mx.google.com> Received: from [172.21.0.6] (unknown [172.18.0.240]) by postal.iol.unh.edu (Postfix) with ESMTP id 411CB6051830; Wed, 9 Jul 2025 02:06:51 -0400 (EDT) Subject: |SUCCESS| pw155084 [PATCH] [RFC] add hints to CLAUDE From: dpdklab@iol.unh.edu To: Test Report Cc: dpdk-test-reports@iol.unh.edu In-Reply-To: <20250708190957.10108-1-stephen@networkplumber.org> References: <20250708190957.10108-1-stephen@networkplumber.org> Content-Type: text/plain X-BeenThere: test-report@dpdk.org X-Mailman-Version: 2.1.29 Precedence: list List-Id: automatic DPDK test reports List-Unsubscribe: , List-Archive: List-Post: List-Help: List-Subscribe: , Errors-To: test-report-bounces@dpdk.org Test-Label: iol-abi-testing Test-Status: SUCCESS http://dpdk.org/patch/155084 _Testing PASS_ Submitter: Stephen Hemminger Date: Tuesday, July 08 2025 19:09:41 DPDK git baseline: Repo:dpdk Branch: master CommitID:e90979eebbea093f6bab2d7c222fc5f5c9a85eff 155084 --> testing pass Upstream job id: Generic-DPDK-Compile-ABI#133665 Test environment and result as below: +-------------------------------+----------+ | Environment | abi_test | +===============================+==========+ | Debian GNU/Linux 12 | PASS | +-------------------------------+----------+ | CentOS Stream 10 | PASS | +-------------------------------+----------+ | Fedora Linux 40 | PASS | +-------------------------------+----------+ | Fedora Linux 41 | PASS | +-------------------------------+----------+ | Red Hat Enterprise Linux 9.5 | PASS | +-------------------------------+----------+ | Ubuntu 22.04 | PASS | +-------------------------------+----------+ | openSUSE Leap 15.6 | PASS | +-------------------------------+----------+ | Ubuntu 24.04 | PASS | +-------------------------------+----------+ | Red Hat Enterprise Linux 8.10 | PASS | +-------------------------------+----------+ | CentOS Stream 9 | PASS | +-------------------------------+----------+ Debian GNU/Linux 12 Kernel: 5.15 Compiler: gcc gcc (Debian 12.2.0-14+deb12u1) 12.2.0 CentOS Stream 10 Kernel: 5.15 Compiler: gcc gcc (GCC) 14.2.1 20250110 (Red Hat 14.2.1-8) Fedora Linux 40 Kernel: 5.15 Compiler: clang gcc (GCC) 14.2.1 20240912 (Red Hat 14.2.1-3) Fedora Linux 41 Kernel: 5.15 Compiler: gcc gcc (GCC) 14.3.1 20250523 (Red Hat 14.3.1-1) Red Hat Enterprise Linux 9.5 Kernel: 5.15 Compiler: gcc gcc (GCC) 11.5.0 20240719 (Red Hat 11.5.0-2) Ubuntu 22.04 Kernel: 5.15 Compiler: gcc gcc (Ubuntu 11.4.0-1ubuntu1~22.04) 11.4.0 openSUSE Leap 15.6 Kernel: 5.15 Compiler: gcc gcc (SUSE Linux) 7.5.0 Ubuntu 24.04 Kernel: 5.15 Compiler: gcc gcc (Ubuntu 13.3.0-6ubuntu2~24.04) 13.3.0 Red Hat Enterprise Linux 8.10 Kernel: 5.15 Compiler: gcc gcc (GCC) 8.5.0 20210514 (Red Hat 8.5.0-22) CentOS Stream 9 Kernel: 5.15 Compiler: gcc gcc (GCC) 11.5.0 20240719 (Red Hat 11.5.0-7) To view detailed results, visit: https://lab.dpdk.org/results/dashboard/patchsets/33617/ UNH-IOL DPDK Community Lab To manage your email subscriptions, visit: https://lab.dpdk.org/results/dashboard/preferences/subscriptions/