From mboxrd@z Thu Jan 1 00:00:00 1970 Return-Path: Received: from mails.dpdk.org (mails.dpdk.org [217.70.189.124]) by inbox.dpdk.org (Postfix) with ESMTP id DF9C046AF7 for ; Wed, 9 Jul 2025 08:07:50 +0200 (CEST) Received: from mails.dpdk.org (localhost [127.0.0.1]) by mails.dpdk.org (Postfix) with ESMTP id DBDFF4013F; Wed, 9 Jul 2025 08:07:50 +0200 (CEST) Received: from mail-io1-f100.google.com (mail-io1-f100.google.com [209.85.166.100]) by mails.dpdk.org (Postfix) with ESMTP id 8A3334013F for ; Wed, 9 Jul 2025 08:07:49 +0200 (CEST) Received: by mail-io1-f100.google.com with SMTP id ca18e2360f4ac-8760d31bd35so180002439f.2 for ; Tue, 08 Jul 2025 23:07:49 -0700 (PDT) DKIM-Signature: v=1; a=rsa-sha256; c=relaxed/relaxed; d=iol.unh.edu; s=unh-iol; t=1752041269; x=1752646069; darn=dpdk.org; h=references:in-reply-to:cc:to:from:subject:message-id:date:from:to :cc:subject:date:message-id:reply-to; bh=VrH+a54ZKZ+TbimG4gtbDvEkPO5LmN9qaH8fnIY1Yio=; b=Znm1H0YoI+jZq/l83sguQvZlDluKKuFCgAPxNUx17xrJ1OMeSBMu0uryCQ+D/t4r/+ gEbdJcWUredSFgGcQbnQLl0h138ynBU1ptPinygbyDPefor4Ttvhneg0lch/bRAHfXXY wII2KniAoSpaGmWam+lRouRACWJSnycLtYeuI= X-Google-DKIM-Signature: v=1; a=rsa-sha256; c=relaxed/relaxed; d=1e100.net; s=20230601; t=1752041269; x=1752646069; h=references:in-reply-to:cc:to:from:subject:message-id:date :x-gm-message-state:from:to:cc:subject:date:message-id:reply-to; bh=VrH+a54ZKZ+TbimG4gtbDvEkPO5LmN9qaH8fnIY1Yio=; b=pF/J9xfx9XVXW6gNwReO+LK+KxCyFh3fwekqR+xg/DAlTDxac7G+f94B8ehlwIplGH 2kxha0Doxp4vC4S5LpcJC1l+AMP2i7yG6Vi/xhNT7/GXz+XBQVY4hBNFgME3902iL+Hb UR9goqZeZejYmS8/lorMVMGSkBuKQKmNVivmQXCMEdiwgnlfvG1nS/tZep2eOJ5N3Xzi b9zIyvtT0mxSB7cze0eLOREU9RjFOZumeFIaew4Fn3s4oAncSWgnFSkWp/NE5gBmuClK e1jFGHUXR6K5kX/VBwpC2c1Z0CI0G7oqYxg00LW9Ct94l3wNGzXstHOviiJMQbpN6LtZ uShQ== X-Gm-Message-State: AOJu0Yx+5oYGAlEDkZPaOEjOOmDU1TOVVqTNHWxJaTql8tGvYTXxTRIk ehnOHLFyFGn4LkqDWPzoWi2k2UE/V6x0cL6+ng/ldnQVt9JIz88azYOodkZarRVlVTk4kcAHRKz jeGITFkYab5gKdHSw+HQ3ASYMCiq/hhQcCWO34GEkZxiqsBM6S4OKwXyZkHuE X-Gm-Gg: ASbGncvpry4btQ7SNSDB7c5CfdrYmVPv22In4N6a8KfTSB3QzRAyIIE8xhhkYfYkR/n gwkCkJjIQ48C84LBRn2m7x7vMcI5NFyg1DMUwznq337/BttAl0UwWACgK1QB+Lcu+W1rCD+ZqkY 84vHxuxsWshrKL6obMCtiLkxZ9AtqtvLTDeK6IN5o25uObfFQ48gAIPBHRQA+yy5tefXCG046E3 LIQDfBDD7V3fWiS4MR08U8PYXkQ2FCIJ2h6bLvgRu5fmmWJ0M+s1TC+kegtjOzCkQV4btov6D6n fRE0y6hOZeOwuZCwsP7QAWpZP8XHlla6uxOI053hhAfjYPY= X-Google-Smtp-Source: AGHT+IFX+PrHBEcvCG9gZWs1Qtbk8r+f2Pi3hyibBRZ8b6cGFhKjHrYyutV6PvrcKx99JP1MwknyAkllAiiX X-Received: by 2002:a05:6e02:188c:b0:3df:42f1:3434 with SMTP id e9e14a558f8ab-3e167045501mr12350915ab.9.1752041268783; Tue, 08 Jul 2025 23:07:48 -0700 (PDT) Received: from postal.iol.unh.edu (postal.iol.unh.edu. [2606:4100:3880:1234::84]) by smtp-relay.gmail.com with ESMTPS id e9e14a558f8ab-3e1004b79f9sm7157125ab.68.2025.07.08.23.07.48 (version=TLS1_2 cipher=ECDHE-ECDSA-AES128-GCM-SHA256 bits=128/128); Tue, 08 Jul 2025 23:07:48 -0700 (PDT) X-Relaying-Domain: iol.unh.edu Date: Tue, 08 Jul 2025 23:07:48 -0700 (PDT) Message-ID: <686e0734.050a0220.21bd67.5d7aSMTPIN_ADDED_MISSING@mx.google.com> Received: from [172.21.0.6] (unknown [172.18.0.240]) by postal.iol.unh.edu (Postfix) with ESMTP id 53B6D6051830; Wed, 9 Jul 2025 02:07:48 -0400 (EDT) Subject: |SUCCESS| pw155084 [PATCH] [RFC] add hints to CLAUDE From: dpdklab@iol.unh.edu To: Test Report Cc: dpdk-test-reports@iol.unh.edu In-Reply-To: <20250708190957.10108-1-stephen@networkplumber.org> References: <20250708190957.10108-1-stephen@networkplumber.org> Content-Type: text/plain X-BeenThere: test-report@dpdk.org X-Mailman-Version: 2.1.29 Precedence: list List-Id: automatic DPDK test reports List-Unsubscribe: , List-Archive: List-Post: List-Help: List-Subscribe: , Errors-To: test-report-bounces@dpdk.org Test-Label: iol-abi-testing Test-Status: SUCCESS http://dpdk.org/patch/155084 _Testing PASS_ Submitter: Stephen Hemminger Date: Tuesday, July 08 2025 19:09:41 DPDK git baseline: Repo:dpdk Branch: master CommitID:e90979eebbea093f6bab2d7c222fc5f5c9a85eff 155084 --> testing pass Upstream job id: Generic-DPDK-Compile-ABI#133672 Test environment and result as below: +-------------------------------+----------+ | Environment | abi_test | +===============================+==========+ | Debian GNU/Linux 12 | PASS | +-------------------------------+----------+ | CentOS Stream 10 | PASS | +-------------------------------+----------+ | Fedora Linux 40 | PASS | +-------------------------------+----------+ | Fedora Linux 41 | PASS | +-------------------------------+----------+ | Red Hat Enterprise Linux 9.5 | PASS | +-------------------------------+----------+ | Ubuntu 22.04 | PASS | +-------------------------------+----------+ | openSUSE Leap 15.6 | PASS | +-------------------------------+----------+ | Ubuntu 24.04 | PASS | +-------------------------------+----------+ | Red Hat Enterprise Linux 8.10 | PASS | +-------------------------------+----------+ | CentOS Stream 9 | PASS | +-------------------------------+----------+ Debian GNU/Linux 12 Kernel: 5.15 Compiler: gcc gcc (Debian 12.2.0-14+deb12u1) 12.2.0 CentOS Stream 10 Kernel: 5.15 Compiler: gcc gcc (GCC) 14.2.1 20250110 (Red Hat 14.2.1-8) Fedora Linux 40 Kernel: 5.15 Compiler: clang gcc (GCC) 14.2.1 20240912 (Red Hat 14.2.1-3) Fedora Linux 41 Kernel: 5.15 Compiler: gcc gcc (GCC) 14.3.1 20250523 (Red Hat 14.3.1-1) Red Hat Enterprise Linux 9.5 Kernel: 5.15 Compiler: gcc gcc (GCC) 11.5.0 20240719 (Red Hat 11.5.0-2) Ubuntu 22.04 Kernel: 5.15 Compiler: gcc gcc (Ubuntu 11.4.0-1ubuntu1~22.04) 11.4.0 openSUSE Leap 15.6 Kernel: 5.15 Compiler: gcc gcc (SUSE Linux) 7.5.0 Ubuntu 24.04 Kernel: 5.15 Compiler: gcc gcc (Ubuntu 13.3.0-6ubuntu2~24.04) 13.3.0 Red Hat Enterprise Linux 8.10 Kernel: 5.15 Compiler: gcc gcc (GCC) 8.5.0 20210514 (Red Hat 8.5.0-22) CentOS Stream 9 Kernel: 5.15 Compiler: gcc gcc (GCC) 11.5.0 20240719 (Red Hat 11.5.0-7) To view detailed results, visit: https://lab.dpdk.org/results/dashboard/patchsets/33617/ UNH-IOL DPDK Community Lab To manage your email subscriptions, visit: https://lab.dpdk.org/results/dashboard/preferences/subscriptions/